{"text_format":"1","workbook":"xlsx","n_sheets":3,"sheets":["使い方・使用許諾 ","1年変形","（非表示・計算用）1年変形"],"not_rendered":{"charts":0,"images":4,"macros":1,"external_links":0,"defined_names":9,"comments":2,"pivot_tables":0},"unopened":[],"bounds":{"document_bytes":16777216,"sheet_cells":100000,"rows_first":2000,"rows_last":500,"rows_between":2000,"halvings":0,"cell_chars":16384,"cell_head_chars":4096},"cells_cut":0,"cells_raw":0,"read":"whole","date_system":"1900"}

{"sheet":"使い方・使用許諾 ","index":0,"n_rows":64,"n_cols":8,"rows_kept":64,"cut":false,"hidden":false,"merged":[[44,4,46,4],[36,4,36,5],[36,6,36,7],[38,4,40,4],[38,6,38,7],[39,6,39,7],[41,4,43,4],[41,6,41,7],[42,6,42,7]]}
["このツールについて"]
["・1年単位の変形労働時間制を適用した場合の労働基準法上の「時間外労働」「休日労働」「深夜労働」の時間数を計算するツールです。"]
["・IFS関数やLET関数を使用しているため、バージョンの古いエクセルでは利用できない場合があります。"]
["・全ての勤怠状況において正しい時間計算を行うことを保証するものではありません。計算結果は自己責任でご利用ください。"]
[]
[]
["使い方"]
["・計算条件と勤怠状況（勤務予定と勤務実績）を入力して「計算する」ボタンを押して下さい。"]
[]
["用語の説明"]
["番号","項目","説明"]
["①","所定労働時間","就業規則等で定めている1日の所定労働時間"]
["②","有給休暇時間","年次有給休暇や会社が定める有給の特別休暇を取得した時間（有給の不就労時間）"]
["③","実働時間","実際に就労した時間（＝⑱法定内労働＋⑧時間外労働＋④法定休日労働）"]
["④","法定休日労働時間","法定休日（0時～24時）の労働時間"]
["⑤","時間外労働時間（1日）","1日の法定労働時間を超える時間外労働時間"]
["⑥","時間外労働時間（週）","週の法定労働時間を超える時間外労働時間（⑤を除く）"]
["⑦","時間外労働時間（年）","年の法定労働時間を超える時間外労働時間（⑤⑥を除く）"]
["⑧","時間外労働時間（合計）","時間外労働時間（⑤～⑦の合計）"]
["⑨","時間外労働時間（60時間以下・勤務日）","⑧時間外労働のうち、月60時間以下で所定勤務日に行った時間"]
["⑩","時間外労働時間（60時間以下・所定休日）","⑧時間外労働のうち、月60時間以下で所定休日に行った時間"]
["⑪","時間外労働時間（60時間超・勤務日）","⑧時間外労働のうち、月60時間超で所定勤務日に行った時間"]
["⑫","時間外労働時間（60時間超・所定休日）","⑧時間外労働のうち、月60時間超で所定休日に行った時間"]
["⑬","深夜労働時間","深夜（22時～翌5時）の労働時間"]
["⑭","所定内労働時間","所定労働時間までの労働時間"]
["⑮","振替出勤","休日振替によって勤務した時間（⑧時間外労働と⑯所定外労働を除く）"]
["⑯","所定外労働時間","所定労働時間を超え法定労働時間までの労働時間（いわゆる法定内残業）"]
["⑰","所定休日労働時間","所定休日の労働時間（⑧時間外労働時間を除く）"]
["⑱","法定内労働時間（合計）","法定労働時間内の総労働時間（＝⑭所定内労働＋⑮振替出勤＋⑯所定外労働＋⑰所定休日労働）"]
["⑲","欠勤等時間","欠勤・遅刻・早退・無給の休暇などで通常賃金から控除する時間（無給の不就労時間）"]
["⑳","振替休日","振替休日（代休含む）の取得によって通常賃金から控除する時間"]
["㉑","100％賃金相殺時間","割増賃金の計算において100％部分を相殺して割増部分のみを支払う時間"]
["㉒","控除時間（合計）","控除時間の合計（＝⑲欠勤等時間＋⑳振替休日＋㉑100％賃金相殺時間）"]
[]
["その他"]
["・期間の開始時や終了時で端数日がある週における週の法定労働時間は、「40時間×端日数÷７」でみています。",null,null,null,"別表１　日をまたぐ勤務の時間計算"]
["・計算条件の「端数処理（切捨）」は、変形期間の法定労働時間を10進数で表示した場合の端数処理です。",null,null,null,"勤務区分",null,"計算方法"]
["（例）1年（365日）の法定労働時間",null,null,null,"24時まで","24時以降","24時までの労働時間","24時以降の労働時間"]
["【端数処理なし】40時間×365日÷7＝2085.71…時間（2085:42）",null,null,null,"勤務日","勤務日","通算して所定内（外）労働又は時間外労働"]
["【第2位以下】 　40時間×365日÷7≒177時間（2085:42）",null,null,null,null,"所定休日","通算して所定内（外）労働又は時間外労働"]
["【第1位以下】　 40時間×365日÷7≒2085時間（2085:00）",null,null,null,null,"法定休日","所定内（外）又は時間外","法定休日労働"]
["・一勤務が日をまたいだ場合の時間計算は別表１のとおり行っています。",null,null,null,"所定休日","勤務日","通算して所定休日労働又は時間外労働"]
["・下記の場合は、正しい時間計算を行えません。",null,null,null,null,"所定休日","通算して所定休日労働又は時間外労働"]
["(1)勤務終了が翌日の始業時刻を超える場合",null,null,null,null,"法定休日","所定休日労働又は時間外労働","法定休日労働"]
["(2)3交代勤務で休日を継続24時間としている場合",null,null,null,"法定休日","勤務日","法定休日労働","所定外労働又は時間外労働"]
["(3)その他、勤務状況が特殊である又は一般的とは言えない場合",null,null,null,null,"所定休日","法定休日労働","所定外労働又は時間外労働"]
[null,null,null,null,null,"法定休日","法定休日労働","法定休日労働"]
["使用許諾"]
["・当ツールの著作権及び知的所有権は、社会保険労務士事務所しのはら労働コンサルタントに帰属します。"]
["・当ツールの全部または一部の再配布、再使用許諾及び公開することを禁止します。"]
["・当ツールの利用により発生したトラブル・損失・損害については、一切責任を負いません。ご利用にあたっては自己責任でお願いします。"]
["・別料金にてカスタマイズを承ります。"]
[]
["作成・配付"]
["社会保険労務士事務所しのはら労働コンサルタント"]
["社会保険労務士　篠原宏治"]
["〒168-0062　東京都杉並区方南1-2-10-1F"]
["TEL","03-6300-4323"]
["FAX","03-6300-4324"]
["メール","mail@shlc.jp"]
[]
["元労働基準監督官による労務相談とエクセル業務効率化に強い社労士事務所です。"]
["労務相談、社会保険・労働保険手続き、給与計算のご依頼を随時受け付けております。"]
["お気軽にお問い合わせください。"]

{"sheet":"1年変形","index":1,"n_rows":391,"n_cols":28,"rows_kept":391,"cut":false,"hidden":false,"merged":[[390,11,390,12],[6,23,6,26],[5,13,5,14],[5,15,5,16],[3,20,3,21],[3,23,4,27],[4,20,4,21],[3,14,3,17],[6,1,6,4],[6,5,6,6],[6,7,6,8],[6,9,6,17],[6,19,6,22],[3,5,3,6],[3,8,3,10],[3,11,3,12],[2,5,2,6],[2,8,2,10],[2,11,2,12],[1,5,1,6],[1,8,1,10],[1,11,1,12],[1,20,2,21],[1,23,2,27],[1,14,1,17],[2,14,2,17]]}
[null,null,null,null,null,"計算条件",null,null,null,null,null,null,null,null,null,null,null,null,null,"入力欄",null,null,"計算結果欄"]
[null,null,null,null,null,"週起算日",null,1,"1:日 2:月 3:火 4:水 5:木 6:金 7:土",null,null,"労働時間制",null,"1年変形","1年変形（固定）",null,null,null,null,null,"入力可",null,null,"労基法第37条の割増賃金の対象となる時間"]
[null,null,null,null,null,"週締め日",null,{"$f":"IF(H2+6>7,H2-1,H2+6)","v":7},"週起算日から自動判定",null,null,"端数処理（切捨）",null,"なし","年法定労働時間の端数処理"]
[null,null,null,null,null,"週法定労働時間",null,40,"40時間（固定）",null,null,"年法定労働時間",null,{"$f":"O5/24+P5/24/60","v":86.904166666666669},"40時間×暦日数÷7",null,null,null,null,null,"入力必須",null,null,"上記以外（有料版のみ）\n（給与や割増賃金の計算に使用する時間）"]
[null,null,null,null,null,null,{"$f":"IF(G374>N3,\"年の所定労働時間が週平均40時間を超えています。\",\"\")","v":""},null,null,null,null,null,null,{"$f":"ROUNDDOWN(COUNT(A9:A374)/7*H4,_xlfn.IFS(N3=\"なし\",99,N3=\"第1位以下\",0,N3=\"第2位以下\",1))/24","v":86.904761904762083},{"$f":"LEFT(TEXT(N5,\"[h]:mm\"),4)","v":"2085"},{"$f":"RIGHT(TEXT(N5,\"[h]:mm\"),2)","v":"42"},null,null,null,null,"入力不可"]
["勤怠状況",null,null,null,null,null,{"$f":"IF(G375>N4,\"年の所定労働時間が週平均40時間を超えています。\",\"\")","v":""}]
[null,"集計用",null,null,null,"勤務予定",null,"振替",null,"勤務実績",null,null,null,null,null,null,null,null,null,"時間外労働",null,null,null,"時間外労働内訳"]
["年月日","週\n締日","月\n締日","週\n日数","期間日数","休日","所定\n労働時間","振替","振替後の所定\n労働時間","始業時刻","終業時刻","中抜時間\n(0～5時)","中抜時間\n(5～22時)","中抜時間\n(22～24時)","中抜時間\n(24～翌5時)","中抜時間\n(翌5時～)","有給休暇\n時間","実働時間","法定休日","時間外(日)","時間外\n(週)","時間外\n(年)","時間外\n(合計)","勤務日\n(60H以下)","所定休日\n(60H以下)","勤務日\n(60H超)","所定休日\n(60H超)","深夜"]
["2025-01-01",{"$f":"_xlfn.IFS(A9=\"-\",\"\",NOT(ISNUMBER(A10)),2,WEEKDAY(A9)=$H$3,1,TRUE,\"\")","v":""},{"$f":"_xlfn.IFS(A9=\"-\",\"\",$A$9=$A9,\"\",DAY($A$9)=DAY(A9+1),DATEDIF($A$9,A9+1,\"M\"),TRUE,\"\")","v":""},{"$f":"_xlfn.IFS(A9=\"-\",\"\",ISTEXT(D8),1,ISTEXT(B8),D8+1,TRUE,1)","v":1},{"$f":"_xlfn.IFS(A9=\"-\",\"\",ISTEXT(E8),1,TRUE,E8+1)","v":1},null,null,null,null,null,null,null,null,null,null,null,null,{"$f":"K9-J9-SUM(L9:P9)","v":0},0,0,0,0,0,0,0,0,0,0]
[{"$f":"_xlfn.IFS(EDATE($A$9,12)=A9+1,\"-\",TRUE,A9+1)","v":"2025-01-02"},{"$f":"_xlfn.IFS(A10=\"-\",\"\",NOT(ISNUMBER(A11)),2,WEEKDAY(A10)=$H$3,1,TRUE,\"\")","v":""},{"$f":"_xlfn.IFS(A10=\"-\",\"\",$A$9=$A10,\"\",DAY($A$9)=DAY(A10+1),DATEDIF($A$9,A10+1,\"M\"),TRUE,\"\")","v":""},{"$f":"_xlfn.IFS(A10=\"-\",\"\",ISTEXT(D9),1,ISTEXT(B9),D9+1,TRUE,1)","v":2},{"$f":"_xlfn.IFS(A10=\"-\",\"\",ISTEXT(E9),1,TRUE,E9+1)","v":2},null,null,null,null,null,null,null,null,null,null,null,null,{"$f":"K10-J10-SUM(L10:P10)","v":0},0,0,0,0,0,0,0,0,0,0]
[{"$f":"_xlfn.IFS(EDATE($A$9,12)=A10+1,\"-\",TRUE,A10+1)","v":"2025-01-03"},{"$f":"_xlfn.IFS(A11=\"-\",\"\",NOT(ISNUMBER(A12)),2,WEEKDAY(A11)=$H$3,1,TRUE,\"\")","v":""},{"$f":"_xlfn.IFS(A11=\"-\",\"\",$A$9=$A11,\"\",DAY($A$9)=DAY(A11+1),DATEDIF($A$9,A11+1,\"M\"),TRUE,\"\")","v":""},{"$f":"_xlfn.IFS(A11=\"-\",\"\",ISTEXT(D10),1,ISTEXT(B10),D10+1,TRUE,1)","v":3},{"$f":"_xlfn.IFS(A11=\"-\",\"\",ISTEXT(E10),1,TRUE,E10+1)","v":3},null,null,null,null,null,null,null,null,null,null,null,null,0,0,0,0,0,0,0,0,0,0,0]
[{"$f":"_xlfn.IFS(EDATE($A$9,12)=A11+1,\"-\",TRUE,A11+1)","v":"2025-01-04"},{"$f":"_xlfn.IFS(A12=\"-\",\"\",NOT(ISNUMBER(A13)),2,WEEKDAY(A12)=$H$3,1,TRUE,\"\")","v":1},{"$f":"_xlfn.IFS(A12=\"-\",\"\",$A$9=$A12,\"\",DAY($A$9)=DAY(A12+1),DATEDIF($A$9,A12+1,\"M\"),TRUE,\"\")","v":""},{"$f":"_xlfn.IFS(A12=\"-\",\"\",ISTEXT(D11),1,ISTEXT(B11),D11+1,TRUE,1)","v":4},{"$f":"_xlfn.IFS(A12=\"-\",\"\",ISTEXT(E11),1,TRUE,E11+1)","v":4},null,null,null,null,null,null,null,null,null,null,null,null,0,0,0,0,0,0,0,0,0,0,0]
[{"$f":"_xlfn.IFS(EDATE($A$9,12)=A12+1,\"-\",TRUE,A12+1)","v":"2025-01-05"},{"$f":"_xlfn.IFS(A13=\"-\",\"\",NOT(ISNUMBER(A14)),2,WEEKDAY(A13)=$H$3,1,TRUE,\"\")","v":""},{"$f":"_xlfn.IFS(A13=\"-\",\"\",$A$9=$A13,\"\",DAY($A$9)=DAY(A13+1),DATEDIF($A$9,A13+1,\"M\"),TRUE,\"\")","v":""},{"$f":"_xlfn.IFS(A13=\"-\",\"\",ISTEXT(D12),1,ISTEXT(B12),D12+1,TRUE,1)","v":1},{"$f":"_xlfn.IFS(A13=\"-\",\"\",ISTEXT(E12),1,TRUE,E12+1)","v":5},null,null,null,null,null,null,null,null,null,null,null,null,0,0,0,0,0,0,0,0,0,0,0]
[{"$f":"_xlfn.IFS(EDATE($A$9,12)=A13+1,\"-\",TRUE,A13+1)","v":"2025-01-06"},{"$f":"_xlfn.IFS(A14=\"-\",\"\",NOT(ISNUMBER(A15)),2,WEEKDAY(A14)=$H$3,1,TRUE,\"\")","v":""},{"$f":"_xlfn.IFS(A14=\"-\",\"\",$A$9=$A14,\"\",DAY($A$9)=DAY(A14+1),DATEDIF($A$9,A14+1,\"M\"),TRUE,\"\")","v":""},{"$f":"_xlfn.IFS(A14=\"-\",\"\",ISTEXT(D13),1,ISTEXT(B13),D13+1,TRUE,1)","v":2},{"$f":"_xlfn.IFS(A14=\"-\",\"\",ISTEXT(E13),1,TRUE,E13+1)","v":6},null,null,null,null,null,null,null,null,null,null,null,null,0,0,0,0,0,0,0,0,0,0,0]
[{"$f":"_xlfn.IFS(EDATE($A$9,12)=A14+1,\"-\",TRUE,A14+1)","v":"2025-01-07"},{"$f":"_xlfn.IFS(A15=\"-\",\"\",NOT(ISNUMBER(A16)),2,WEEKDAY(A15)=$H$3,1,TRUE,\"\")","v":""},{"$f":"_xlfn.IFS(A15=\"-\",\"\",$A$9=$A15,\"\",DAY($A$9)=DAY(A15+1),DATEDIF($A$9,A15+1,\"M\"),TRUE,\"\")","v":""},{"$f":"_xlfn.IFS(A15=\"-\",\"\",ISTEXT(D14),1,ISTEXT(B14),D14+1,TRUE,1)","v":3},{"$f":"_xlfn.IFS(A15=\"-\",\"\",ISTEXT(E14),1,TRUE,E14+1)","v":7},null,null,null,null,null,null,null,null,null,null,null,null,0,0,0,0,0,0,0,0,0,0,0]
[{"$f":"_xlfn.IFS(EDATE($A$9,12)=A15+1,\"-\",TRUE,A15+1)","v":"2025-01-08"},{"$f":"_xlfn.IFS(A16=\"-\",\"\",NOT(ISNUMBER(A17)),2,WEEKDAY(A16)=$H$3,1,TRUE,\"\")","v":""},{"$f":"_xlfn.IFS(A16=\"-\",\"\",$A$9=$A16,\"\",DAY($A$9)=DAY(A16+1),DATEDIF($A$9,A16+1,\"M\"),TRUE,\"\")","v":""},{"$f":"_xlfn.IFS(A16=\"-\",\"\",ISTEXT(D15),1,ISTEXT(B15),D15+1,TRUE,1)","v":4},{"$f":"_xlfn.IFS(A16=\"-\",\"\",ISTEXT(E15),1,TRUE,E15+1)","v":8},null,null,null,null,null,null,null,null,null,null,null,null,0,0,0,0,0,0,0,0,0,0,0]
[{"$f":"_xlfn.IFS(EDATE($A$9,12)=A16+1,\"-\",TRUE,A16+1)","v":"2025-01-09"},{"$f":"_xlfn.IFS(A17=\"-\",\"\",NOT(ISNUMBER(A18)),2,WEEKDAY(A17)=$H$3,1,TRUE,\"\")","v":""},{"$f":"_xlfn.IFS(A17=\"-\",\"\",$A$9=$A17,\"\",DAY($A$9)=DAY(A17+1),DATEDIF($A$9,A17+1,\"M\"),TRUE,\"\")","v":""},{"$f":"_xlfn.IFS(A17=\"-\",\"\",ISTEXT(D16),1,ISTEXT(B16),D16+1,TRUE,1)","v":5},{"$f":"_xlfn.IFS(A17=\"-\",\"\",ISTEXT(E16),1,TRUE,E16+1)","v":9},null,null,null,null,null,null,null,null,null,null,null,null,0,0,0,0,0,0,0,0,0,0,0]
[{"$f":"_xlfn.IFS(EDATE($A$9,12)=A17+1,\"-\",TRUE,A17+1)","v":"2025-01-10"},{"$f":"_xlfn.IFS(A18=\"-\",\"\",NOT(ISNUMBER(A19)),2,WEEKDAY(A18)=$H$3,1,TRUE,\"\")","v":""},{"$f":"_xlfn.IFS(A18=\"-\",\"\",$A$9=$A18,\"\",DAY($A$9)=DAY(A18+1),DATEDIF($A$9,A18+1,\"M\"),TRUE,\"\")","v":""},{"$f":"_xlfn.IFS(A18=\"-\",\"\",ISTEXT(D17),1,ISTEXT(B17),D17+1,TRUE,1)","v":6},{"$f":"_xlfn.IFS(A18=\"-\",\"\",ISTEXT(E17),1,TRUE,E17+1)","v":10},null,null,null,null,null,null,null,null,null,null,null,null,0,0,0,0,0,0,0,0,0,0,0]
[{"$f":"_xlfn.IFS(EDATE($A$9,12)=A18+1,\"-\",TRUE,A18+1)","v":"2025-01-11"},{"$f":"_xlfn.IFS(A19=\"-\",\"\",NOT(ISNUMBER(A20)),2,WEEKDAY(A19)=$H$3,1,TRUE,\"\")","v":1},{"$f":"_xlfn.IFS(A19=\"-\",\"\",$A$9=$A19,\"\",DAY($A$9)=DAY(A19+1),DATEDIF($A$9,A19+1,\"M\"),TRUE,\"\")","v":""},{"$f":"_xlfn.IFS(A19=\"-\",\"\",ISTEXT(D18),1,ISTEXT(B18),D18+1,TRUE,1)","v":7},{"$f":"_xlfn.IFS(A19=\"-\",\"\",ISTEXT(E18),1,TRUE,E18+1)","v":11},null,null,null,null,null,null,null,null,null,null,null,null,0,0,0,0,0,0,0,0,0,0,0]
[{"$f":"_xlfn.IFS(EDATE($A$9,12)=A19+1,\"-\",TRUE,A19+1)","v":"2025-01-12"},{"$f":"_xlfn.IFS(A20=\"-\",\"\",NOT(ISNUMBER(A21)),2,WEEKDAY(A20)=$H$3,1,TRUE,\"\")","v":""},{"$f":"_xlfn.IFS(A20=\"-\",\"\",$A$9=$A20,\"\",DAY($A$9)=DAY(A20+1),DATEDIF($A$9,A20+1,\"M\"),TRUE,\"\")","v":""},{"$f":"_xlfn.IFS(A20=\"-\",\"\",ISTEXT(D19),1,ISTEXT(B19),D19+1,TRUE,1)","v":1},{"$f":"_xlfn.IFS(A20=\"-\",\"\",ISTEXT(E19),1,TRUE,E19+1)","v":12},null,null,null,null,null,null,null,null,null,null,null,null,0,0,0,0,0,0,0,0,0,0,0]
[{"$f":"_xlfn.IFS(EDATE($A$9,12)=A20+1,\"-\",TRUE,A20+1)","v":"2025-01-13"},{"$f":"_xlfn.IFS(A21=\"-\",\"\",NOT(ISNUMBER(A22)),2,WEEKDAY(A21)=$H$3,1,TRUE,\"\")","v":""},{"$f":"_xlfn.IFS(A21=\"-\",\"\",$A$9=$A21,\"\",DAY($A$9)=DAY(A21+1),DATEDIF($A$9,A21+1,\"M\"),TRUE,\"\")","v":""},{"$f":"_xlfn.IFS(A21=\"-\",\"\",ISTEXT(D20),1,ISTEXT(B20),D20+1,TRUE,1)","v":2},{"$f":"_xlfn.IFS(A21=\"-\",\"\",ISTEXT(E20),1,TRUE,E20+1)","v":13},null,null,null,null,null,null,null,null,null,null,null,null,0,0,0,0,0,0,0,0,0,0,0]
[{"$f":"_xlfn.IFS(EDATE($A$9,12)=A21+1,\"-\",TRUE,A21+1)","v":"2025-01-14"},{"$f":"_xlfn.IFS(A22=\"-\",\"\",NOT(ISNUMBER(A23)),2,WEEKDAY(A22)=$H$3,1,TRUE,\"\")","v":""},{"$f":"_xlfn.IFS(A22=\"-\",\"\",$A$9=$A22,\"\",DAY($A$9)=DAY(A22+1),DATEDIF($A$9,A22+1,\"M\"),TRUE,\"\")","v":""},{"$f":"_xlfn.IFS(A22=\"-\",\"\",ISTEXT(D21),1,ISTEXT(B21),D21+1,TRUE,1)","v":3},{"$f":"_xlfn.IFS(A22=\"-\",\"\",ISTEXT(E21),1,TRUE,E21+1)","v":14},null,null,null,null,null,null,null,null,null,null,null,null,0,0,0,0,0,0,0,0,0,0,0]
[{"$f":"_xlfn.IFS(EDATE($A$9,12)=A22+1,\"-\",TRUE,A22+1)","v":"2025-01-15"},{"$f":"_xlfn.IFS(A23=\"-\",\"\",NOT(ISNUMBER(A24)),2,WEEKDAY(A23)=$H$3,1,TRUE,\"\")","v":""},{"$f":"_xlfn.IFS(A23=\"-\",\"\",$A$9=$A23,\"\",DAY($A$9)=DAY(A23+1),DATEDIF($A$9,A23+1,\"M\"),TRUE,\"\")","v":""},{"$f":"_xlfn.IFS(A23=\"-\",\"\",ISTEXT(D22),1,ISTEXT(B22),D22+1,TRUE,1)","v":4},{"$f":"_xlfn.IFS(A23=\"-\",\"\",ISTEXT(E22),1,TRUE,E22+1)","v":15},null,null,null,null,null,null,null,null,null,null,null,null,0,0,0,0,0,0,0,0,0,0,0]
[{"$f":"_xlfn.IFS(EDATE($A$9,12)=A23+1,\"-\",TRUE,A23+1)","v":"2025-01-16"},{"$f":"_xlfn.IFS(A24=\"-\",\"\",NOT(ISNUMBER(A25)),2,WEEKDAY(A24)=$H$3,1,TRUE,\"\")","v":""},{"$f":"_xlfn.IFS(A24=\"-\",\"\",$A$9=$A24,\"\",DAY($A$9)=DAY(A24+1),DATEDIF($A$9,A24+1,\"M\"),TRUE,\"\")","v":""},{"$f":"_xlfn.IFS(A24=\"-\",\"\",ISTEXT(D23),1,ISTEXT(B23),D23+1,TRUE,1)","v":5},{"$f":"_xlfn.IFS(A24=\"-\",\"\",ISTEXT(E23),1,TRUE,E23+1)","v":16},null,null,null,null,null,null,null,null,null,null,null,null,{"$f":"K24-J24-SUM(L24:P24)","v":0},0,0,0,0,0,0,0,0,0,0]
[{"$f":"_xlfn.IFS(EDATE($A$9,12)=A24+1,\"-\",TRUE,A24+1)","v":"2025-01-17"},{"$f":"_xlfn.IFS(A25=\"-\",\"\",NOT(ISNUMBER(A26)),2,WEEKDAY(A25)=$H$3,1,TRUE,\"\")","v":""},{"$f":"_xlfn.IFS(A25=\"-\",\"\",$A$9=$A25,\"\",DAY($A$9)=DAY(A25+1),DATEDIF($A$9,A25+1,\"M\"),TRUE,\"\")","v":""},{"$f":"_xlfn.IFS(A25=\"-\",\"\",ISTEXT(D24),1,ISTEXT(B24),D24+1,TRUE,1)","v":6},{"$f":"_xlfn.IFS(A25=\"-\",\"\",ISTEXT(E24),1,TRUE,E24+1)","v":17},null,null,null,null,null,null,null,null,null,null,null,null,0,0,0,0,0,0,0,0,0,0,0]
[{"$f":"_xlfn.IFS(EDATE($A$9,12)=A25+1,\"-\",TRUE,A25+1)","v":"2025-01-18"},{"$f":"_xlfn.IFS(A26=\"-\",\"\",NOT(ISNUMBER(A27)),2,WEEKDAY(A26)=$H$3,1,TRUE,\"\")","v":1},{"$f":"_xlfn.IFS(A26=\"-\",\"\",$A$9=$A26,\"\",DAY($A$9)=DAY(A26+1),DATEDIF($A$9,A26+1,\"M\"),TRUE,\"\")","v":""},{"$f":"_xlfn.IFS(A26=\"-\",\"\",ISTEXT(D25),1,ISTEXT(B25),D25+1,TRUE,1)","v":7},{"$f":"_xlfn.IFS(A26=\"-\",\"\",ISTEXT(E25),1,TRUE,E25+1)","v":18},null,null,null,null,null,null,null,null,null,null,null,null,0,0,0,0,0,0,0,0,0,0,0]
[{"$f":"_xlfn.IFS(EDATE($A$9,12)=A26+1,\"-\",TRUE,A26+1)","v":"2025-01-19"},{"$f":"_xlfn.IFS(A27=\"-\",\"\",NOT(ISNUMBER(A28)),2,WEEKDAY(A27)=$H$3,1,TRUE,\"\")","v":""},{"$f":"_xlfn.IFS(A27=\"-\",\"\",$A$9=$A27,\"\",DAY($A$9)=DAY(A27+1),DATEDIF($A$9,A27+1,\"M\"),TRUE,\"\")","v":""},{"$f":"_xlfn.IFS(A27=\"-\",\"\",ISTEXT(D26),1,ISTEXT(B26),D26+1,TRUE,1)","v":1},{"$f":"_xlfn.IFS(A27=\"-\",\"\",ISTEXT(E26),1,TRUE,E26+1)","v":19},null,null,null,null,null,null,null,null,null,null,null,null,0,0,0,0,0,0,0,0,0,0,0]
[{"$f":"_xlfn.IFS(EDATE($A$9,12)=A27+1,\"-\",TRUE,A27+1)","v":"2025-01-20"},{"$f":"_xlfn.IFS(A28=\"-\",\"\",NOT(ISNUMBER(A29)),2,WEEKDAY(A28)=$H$3,1,TRUE,\"\")","v":""},{"$f":"_xlfn.IFS(A28=\"-\",\"\",$A$9=$A28,\"\",DAY($A$9)=DAY(A28+1),DATEDIF($A$9,A28+1,\"M\"),TRUE,\"\")","v":""},{"$f":"_xlfn.IFS(A28=\"-\",\"\",ISTEXT(D27),1,ISTEXT(B27),D27+1,TRUE,1)","v":2},{"$f":"_xlfn.IFS(A28=\"-\",\"\",ISTEXT(E27),1,TRUE,E27+1)","v":20},null,null,null,null,null,null,null,null,null,null,null,null,0,0,0,0,0,0,0,0,0,0,0]
[{"$f":"_xlfn.IFS(EDATE($A$9,12)=A28+1,\"-\",TRUE,A28+1)","v":"2025-01-21"},{"$f":"_xlfn.IFS(A29=\"-\",\"\",NOT(ISNUMBER(A30)),2,WEEKDAY(A29)=$H$3,1,TRUE,\"\")","v":""},{"$f":"_xlfn.IFS(A29=\"-\",\"\",$A$9=$A29,\"\",DAY($A$9)=DAY(A29+1),DATEDIF($A$9,A29+1,\"M\"),TRUE,\"\")","v":""},{"$f":"_xlfn.IFS(A29=\"-\",\"\",ISTEXT(D28),1,ISTEXT(B28),D28+1,TRUE,1)","v":3},{"$f":"_xlfn.IFS(A29=\"-\",\"\",ISTEXT(E28),1,TRUE,E28+1)","v":21},null,null,null,null,null,null,null,null,null,null,null,null,0,0,0,0,0,0,0,0,0,0,0]
[{"$f":"_xlfn.IFS(EDATE($A$9,12)=A29+1,\"-\",TRUE,A29+1)","v":"2025-01-22"},{"$f":"_xlfn.IFS(A30=\"-\",\"\",NOT(ISNUMBER(A31)),2,WEEKDAY(A30)=$H$3,1,TRUE,\"\")","v":""},{"$f":"_xlfn.IFS(A30=\"-\",\"\",$A$9=$A30,\"\",DAY($A$9)=DAY(A30+1),DATEDIF($A$9,A30+1,\"M\"),TRUE,\"\")","v":""},{"$f":"_xlfn.IFS(A30=\"-\",\"\",ISTEXT(D29),1,ISTEXT(B29),D29+1,TRUE,1)","v":4},{"$f":"_xlfn.IFS(A30=\"-\",\"\",ISTEXT(E29),1,TRUE,E29+1)","v":22},null,null,null,null,null,null,null,null,null,null,null,null,0,0,0,0,0,0,0,0,0,0,0]
[{"$f":"_xlfn.IFS(EDATE($A$9,12)=A30+1,\"-\",TRUE,A30+1)","v":"2025-01-23"},{"$f":"_xlfn.IFS(A31=\"-\",\"\",NOT(ISNUMBER(A32)),2,WEEKDAY(A31)=$H$3,1,TRUE,\"\")","v":""},{"$f":"_xlfn.IFS(A31=\"-\",\"\",$A$9=$A31,\"\",DAY($A$9)=DAY(A31+1),DATEDIF($A$9,A31+1,\"M\"),TRUE,\"\")","v":""},{"$f":"_xlfn.IFS(A31=\"-\",\"\",ISTEXT(D30),1,ISTEXT(B30),D30+1,TRUE,1)","v":5},{"$f":"_xlfn.IFS(A31=\"-\",\"\",ISTEXT(E30),1,TRUE,E30+1)","v":23},null,null,null,null,null,null,null,null,null,null,null,null,0,0,0,0,0,0,0,0,0,0,0]
[{"$f":"_xlfn.IFS(EDATE($A$9,12)=A31+1,\"-\",TRUE,A31+1)","v":"2025-01-24"},{"$f":"_xlfn.IFS(A32=\"-\",\"\",NOT(ISNUMBER(A33)),2,WEEKDAY(A32)=$H$3,1,TRUE,\"\")","v":""},{"$f":"_xlfn.IFS(A32=\"-\",\"\",$A$9=$A32,\"\",DAY($A$9)=DAY(A32+1),DATEDIF($A$9,A32+1,\"M\"),TRUE,\"\")","v":""},{"$f":"_xlfn.IFS(A32=\"-\",\"\",ISTEXT(D31),1,ISTEXT(B31),D31+1,TRUE,1)","v":6},{"$f":"_xlfn.IFS(A32=\"-\",\"\",ISTEXT(E31),1,TRUE,E31+1)","v":24},null,null,null,null,null,null,null,null,null,null,null,null,0,0,0,0,0,0,0,0,0,0,0]
[{"$f":"_xlfn.IFS(EDATE($A$9,12)=A32+1,\"-\",TRUE,A32+1)","v":"2025-01-25"},{"$f":"_xlfn.IFS(A33=\"-\",\"\",NOT(ISNUMBER(A34)),2,WEEKDAY(A33)=$H$3,1,TRUE,\"\")","v":1},{"$f":"_xlfn.IFS(A33=\"-\",\"\",$A$9=$A33,\"\",DAY($A$9)=DAY(A33+1),DATEDIF($A$9,A33+1,\"M\"),TRUE,\"\")","v":""},{"$f":"_xlfn.IFS(A33=\"-\",\"\",ISTEXT(D32),1,ISTEXT(B32),D32+1,TRUE,1)","v":7},{"$f":"_xlfn.IFS(A33=\"-\",\"\",ISTEXT(E32),1,TRUE,E32+1)","v":25},null,null,null,null,null,null,null,null,null,null,null,null,0,0,0,0,0,0,0,0,0,0,0]
[{"$f":"_xlfn.IFS(EDATE($A$9,12)=A33+1,\"-\",TRUE,A33+1)","v":"2025-01-26"},{"$f":"_xlfn.IFS(A34=\"-\",\"\",NOT(ISNUMBER(A35)),2,WEEKDAY(A34)=$H$3,1,TRUE,\"\")","v":""},{"$f":"_xlfn.IFS(A34=\"-\",\"\",$A$9=$A34,\"\",DAY($A$9)=DAY(A34+1),DATEDIF($A$9,A34+1,\"M\"),TRUE,\"\")","v":""},{"$f":"_xlfn.IFS(A34=\"-\",\"\",ISTEXT(D33),1,ISTEXT(B33),D33+1,TRUE,1)","v":1},{"$f":"_xlfn.IFS(A34=\"-\",\"\",ISTEXT(E33),1,TRUE,E33+1)","v":26},null,null,null,null,null,null,null,null,null,null,null,null,0,0,0,0,0,0,0,0,0,0,0]
[{"$f":"_xlfn.IFS(EDATE($A$9,12)=A34+1,\"-\",TRUE,A34+1)","v":"2025-01-27"},{"$f":"_xlfn.IFS(A35=\"-\",\"\",NOT(ISNUMBER(A36)),2,WEEKDAY(A35)=$H$3,1,TRUE,\"\")","v":""},{"$f":"_xlfn.IFS(A35=\"-\",\"\",$A$9=$A35,\"\",DAY($A$9)=DAY(A35+1),DATEDIF($A$9,A35+1,\"M\"),TRUE,\"\")","v":""},{"$f":"_xlfn.IFS(A35=\"-\",\"\",ISTEXT(D34),1,ISTEXT(B34),D34+1,TRUE,1)","v":2},{"$f":"_xlfn.IFS(A35=\"-\",\"\",ISTEXT(E34),1,TRUE,E34+1)","v":27},null,null,null,null,null,null,null,null,null,null,null,null,0,0,0,0,0,0,0,0,0,0,0]
[{"$f":"_xlfn.IFS(EDATE($A$9,12)=A35+1,\"-\",TRUE,A35+1)","v":"2025-01-28"},{"$f":"_xlfn.IFS(A36=\"-\",\"\",NOT(ISNUMBER(A37)),2,WEEKDAY(A36)=$H$3,1,TRUE,\"\")","v":""},{"$f":"_xlfn.IFS(A36=\"-\",\"\",$A$9=$A36,\"\",DAY($A$9)=DAY(A36+1),DATEDIF($A$9,A36+1,\"M\"),TRUE,\"\")","v":""},{"$f":"_xlfn.IFS(A36=\"-\",\"\",ISTEXT(D35),1,ISTEXT(B35),D35+1,TRUE,1)","v":3},{"$f":"_xlfn.IFS(A36=\"-\",\"\",ISTEXT(E35),1,TRUE,E35+1)","v":28},null,null,null,null,null,null,null,null,null,null,null,null,0,0,0,0,0,0,0,0,0,0,0]
[{"$f":"_xlfn.IFS(EDATE($A$9,12)=A36+1,\"-\",TRUE,A36+1)","v":"2025-01-29"},{"$f":"_xlfn.IFS(A37=\"-\",\"\",NOT(ISNUMBER(A38)),2,WEEKDAY(A37)=$H$3,1,TRUE,\"\")","v":""},{"$f":"_xlfn.IFS(A37=\"-\",\"\",$A$9=$A37,\"\",DAY($A$9)=DAY(A37+1),DATEDIF($A$9,A37+1,\"M\"),TRUE,\"\")","v":""},{"$f":"_xlfn.IFS(A37=\"-\",\"\",ISTEXT(D36),1,ISTEXT(B36),D36+1,TRUE,1)","v":4},{"$f":"_xlfn.IFS(A37=\"-\",\"\",ISTEXT(E36),1,TRUE,E36+1)","v":29},null,null,null,null,null,null,null,null,null,null,null,null,0,0,0,0,0,0,0,0,0,0,0]
[{"$f":"_xlfn.IFS(EDATE($A$9,12)=A37+1,\"-\",TRUE,A37+1)","v":"2025-01-30"},{"$f":"_xlfn.IFS(A38=\"-\",\"\",NOT(ISNUMBER(A39)),2,WEEKDAY(A38)=$H$3,1,TRUE,\"\")","v":""},{"$f":"_xlfn.IFS(A38=\"-\",\"\",$A$9=$A38,\"\",DAY($A$9)=DAY(A38+1),DATEDIF($A$9,A38+1,\"M\"),TRUE,\"\")","v":""},{"$f":"_xlfn.IFS(A38=\"-\",\"\",ISTEXT(D37),1,ISTEXT(B37),D37+1,TRUE,1)","v":5},{"$f":"_xlfn.IFS(A38=\"-\",\"\",ISTEXT(E37),1,TRUE,E37+1)","v":30},null,null,null,null,null,null,null,null,null,null,null,null,{"$f":"K38-J38-SUM(L38:P38)","v":0},0,0,0,0,0,0,0,0,0,0]
[{"$f":"_xlfn.IFS(EDATE($A$9,12)=A38+1,\"-\",TRUE,A38+1)","v":"2025-01-31"},{"$f":"_xlfn.IFS(A39=\"-\",\"\",NOT(ISNUMBER(A40)),2,WEEKDAY(A39)=$H$3,1,TRUE,\"\")","v":""},{"$f":"_xlfn.IFS(A39=\"-\",\"\",$A$9=$A39,\"\",DAY($A$9)=DAY(A39+1),DATEDIF($A$9,A39+1,\"M\"),TRUE,\"\")","v":1},{"$f":"_xlfn.IFS(A39=\"-\",\"\",ISTEXT(D38),1,ISTEXT(B38),D38+1,TRUE,1)","v":6},{"$f":"_xlfn.IFS(A39=\"-\",\"\",ISTEXT(E38),1,TRUE,E38+1)","v":31},null,null,null,null,null,null,null,null,null,null,null,null,0,0,0,0,0,0,0,0,0,0,0]
[{"$f":"_xlfn.IFS(EDATE($A$9,12)=A39+1,\"-\",TRUE,A39+1)","v":"2025-02-01"},{"$f":"_xlfn.IFS(A40=\"-\",\"\",NOT(ISNUMBER(A41)),2,WEEKDAY(A40)=$H$3,1,TRUE,\"\")","v":1},{"$f":"_xlfn.IFS(A40=\"-\",\"\",$A$9=$A40,\"\",DAY($A$9)=DAY(A40+1),DATEDIF($A$9,A40+1,\"M\"),TRUE,\"\")","v":""},{"$f":"_xlfn.IFS(A40=\"-\",\"\",ISTEXT(D39),1,ISTEXT(B39),D39+1,TRUE,1)","v":7},{"$f":"_xlfn.IFS(A40=\"-\",\"\",ISTEXT(E39),1,TRUE,E39+1)","v":32},null,null,null,null,null,null,null,null,null,null,null,null,0,0,0,0,0,0,0,0,0,0,0]
[{"$f":"_xlfn.IFS(EDATE($A$9,12)=A40+1,\"-\",TRUE,A40+1)","v":"2025-02-02"},{"$f":"_xlfn.IFS(A41=\"-\",\"\",NOT(ISNUMBER(A42)),2,WEEKDAY(A41)=$H$3,1,TRUE,\"\")","v":""},{"$f":"_xlfn.IFS(A41=\"-\",\"\",$A$9=$A41,\"\",DAY($A$9)=DAY(A41+1),DATEDIF($A$9,A41+1,\"M\"),TRUE,\"\")","v":""},{"$f":"_xlfn.IFS(A41=\"-\",\"\",ISTEXT(D40),1,ISTEXT(B40),D40+1,TRUE,1)","v":1},{"$f":"_xlfn.IFS(A41=\"-\",\"\",ISTEXT(E40),1,TRUE,E40+1)","v":33},null,null,null,null,null,null,null,null,null,null,null,null,0,0,0,0,0,0,0,0,0,0,0]
[{"$f":"_xlfn.IFS(EDATE($A$9,12)=A41+1,\"-\",TRUE,A41+1)","v":"2025-02-03"},{"$f":"_xlfn.IFS(A42=\"-\",\"\",NOT(ISNUMBER(A43)),2,WEEKDAY(A42)=$H$3,1,TRUE,\"\")","v":""},{"$f":"_xlfn.IFS(A42=\"-\",\"\",$A$9=$A42,\"\",DAY($A$9)=DAY(A42+1),DATEDIF($A$9,A42+1,\"M\"),TRUE,\"\")","v":""},{"$f":"_xlfn.IFS(A42=\"-\",\"\",ISTEXT(D41),1,ISTEXT(B41),D41+1,TRUE,1)","v":2},{"$f":"_xlfn.IFS(A42=\"-\",\"\",ISTEXT(E41),1,TRUE,E41+1)","v":34},null,null,null,null,null,null,null,null,null,null,null,null,0,0,0,0,0,0,0,0,0,0,0]
[{"$f":"_xlfn.IFS(EDATE($A$9,12)=A42+1,\"-\",TRUE,A42+1)","v":"2025-02-04"},{"$f":"_xlfn.IFS(A43=\"-\",\"\",NOT(ISNUMBER(A44)),2,WEEKDAY(A43)=$H$3,1,TRUE,\"\")","v":""},{"$f":"_xlfn.IFS(A43=\"-\",\"\",$A$9=$A43,\"\",DAY($A$9)=DAY(A43+1),DATEDIF($A$9,A43+1,\"M\"),TRUE,\"\")","v":""},{"$f":"_xlfn.IFS(A43=\"-\",\"\",ISTEXT(D42),1,ISTEXT(B42),D42+1,TRUE,1)","v":3},{"$f":"_xlfn.IFS(A43=\"-\",\"\",ISTEXT(E42),1,TRUE,E42+1)","v":35},null,null,null,null,null,null,null,null,null,null,null,null,0,0,0,0,0,0,0,0,0,0,0]
[{"$f":"_xlfn.IFS(EDATE($A$9,12)=A43+1,\"-\",TRUE,A43+1)","v":"2025-02-05"},{"$f":"_xlfn.IFS(A44=\"-\",\"\",NOT(ISNUMBER(A45)),2,WEEKDAY(A44)=$H$3,1,TRUE,\"\")","v":""},{"$f":"_xlfn.IFS(A44=\"-\",\"\",$A$9=$A44,\"\",DAY($A$9)=DAY(A44+1),DATEDIF($A$9,A44+1,\"M\"),TRUE,\"\")","v":""},{"$f":"_xlfn.IFS(A44=\"-\",\"\",ISTEXT(D43),1,ISTEXT(B43),D43+1,TRUE,1)","v":4},{"$f":"_xlfn.IFS(A44=\"-\",\"\",ISTEXT(E43),1,TRUE,E43+1)","v":36},null,null,null,null,null,null,null,null,null,null,null,null,0,0,0,0,0,0,0,0,0,0,0]
[{"$f":"_xlfn.IFS(EDATE($A$9,12)=A44+1,\"-\",TRUE,A44+1)","v":"2025-02-06"},{"$f":"_xlfn.IFS(A45=\"-\",\"\",NOT(ISNUMBER(A46)),2,WEEKDAY(A45)=$H$3,1,TRUE,\"\")","v":""},{"$f":"_xlfn.IFS(A45=\"-\",\"\",$A$9=$A45,\"\",DAY($A$9)=DAY(A45+1),DATEDIF($A$9,A45+1,\"M\"),TRUE,\"\")","v":""},{"$f":"_xlfn.IFS(A45=\"-\",\"\",ISTEXT(D44),1,ISTEXT(B44),D44+1,TRUE,1)","v":5},{"$f":"_xlfn.IFS(A45=\"-\",\"\",ISTEXT(E44),1,TRUE,E44+1)","v":37},null,null,null,null,null,null,null,null,null,null,null,null,0,0,0,0,0,0,0,0,0,0,0]
[{"$f":"_xlfn.IFS(EDATE($A$9,12)=A45+1,\"-\",TRUE,A45+1)","v":"2025-02-07"},{"$f":"_xlfn.IFS(A46=\"-\",\"\",NOT(ISNUMBER(A47)),2,WEEKDAY(A46)=$H$3,1,TRUE,\"\")","v":""},{"$f":"_xlfn.IFS(A46=\"-\",\"\",$A$9=$A46,\"\",DAY($A$9)=DAY(A46+1),DATEDIF($A$9,A46+1,\"M\"),TRUE,\"\")","v":""},{"$f":"_xlfn.IFS(A46=\"-\",\"\",ISTEXT(D45),1,ISTEXT(B45),D45+1,TRUE,1)","v":6},{"$f":"_xlfn.IFS(A46=\"-\",\"\",ISTEXT(E45),1,TRUE,E45+1)","v":38},null,null,null,null,null,null,null,null,null,null,null,null,0,0,0,0,0,0,0,0,0,0,0]
[{"$f":"_xlfn.IFS(EDATE($A$9,12)=A46+1,\"-\",TRUE,A46+1)","v":"2025-02-08"},{"$f":"_xlfn.IFS(A47=\"-\",\"\",NOT(ISNUMBER(A48)),2,WEEKDAY(A47)=$H$3,1,TRUE,\"\")","v":1},{"$f":"_xlfn.IFS(A47=\"-\",\"\",$A$9=$A47,\"\",DAY($A$9)=DAY(A47+1),DATEDIF($A$9,A47+1,\"M\"),TRUE,\"\")","v":""},{"$f":"_xlfn.IFS(A47=\"-\",\"\",ISTEXT(D46),1,ISTEXT(B46),D46+1,TRUE,1)","v":7},{"$f":"_xlfn.IFS(A47=\"-\",\"\",ISTEXT(E46),1,TRUE,E46+1)","v":39},null,null,null,null,null,null,null,null,null,null,null,null,0,0,0,0,0,0,0,0,0,0,0]
[{"$f":"_xlfn.IFS(EDATE($A$9,12)=A47+1,\"-\",TRUE,A47+1)","v":"2025-02-09"},{"$f":"_xlfn.IFS(A48=\"-\",\"\",NOT(ISNUMBER(A49)),2,WEEKDAY(A48)=$H$3,1,TRUE,\"\")","v":""},{"$f":"_xlfn.IFS(A48=\"-\",\"\",$A$9=$A48,\"\",DAY($A$9)=DAY(A48+1),DATEDIF($A$9,A48+1,\"M\"),TRUE,\"\")","v":""},{"$f":"_xlfn.IFS(A48=\"-\",\"\",ISTEXT(D47),1,ISTEXT(B47),D47+1,TRUE,1)","v":1},{"$f":"_xlfn.IFS(A48=\"-\",\"\",ISTEXT(E47),1,TRUE,E47+1)","v":40},null,null,null,null,null,null,null,null,null,null,null,null,0,0,0,0,0,0,0,0,0,0,0]
[{"$f":"_xlfn.IFS(EDATE($A$9,12)=A48+1,\"-\",TRUE,A48+1)","v":"2025-02-10"},{"$f":"_xlfn.IFS(A49=\"-\",\"\",NOT(ISNUMBER(A50)),2,WEEKDAY(A49)=$H$3,1,TRUE,\"\")","v":""},{"$f":"_xlfn.IFS(A49=\"-\",\"\",$A$9=$A49,\"\",DAY($A$9)=DAY(A49+1),DATEDIF($A$9,A49+1,\"M\"),TRUE,\"\")","v":""},{"$f":"_xlfn.IFS(A49=\"-\",\"\",ISTEXT(D48),1,ISTEXT(B48),D48+1,TRUE,1)","v":2},{"$f":"_xlfn.IFS(A49=\"-\",\"\",ISTEXT(E48),1,TRUE,E48+1)","v":41},null,null,null,null,null,null,null,null,null,null,null,null,0,0,0,0,0,0,0,0,0,0,0]
[{"$f":"_xlfn.IFS(EDATE($A$9,12)=A49+1,\"-\",TRUE,A49+1)","v":"2025-02-11"},{"$f":"_xlfn.IFS(A50=\"-\",\"\",NOT(ISNUMBER(A51)),2,WEEKDAY(A50)=$H$3,1,TRUE,\"\")","v":""},{"$f":"_xlfn.IFS(A50=\"-\",\"\",$A$9=$A50,\"\",DAY($A$9)=DAY(A50+1),DATEDIF($A$9,A50+1,\"M\"),TRUE,\"\")","v":""},{"$f":"_xlfn.IFS(A50=\"-\",\"\",ISTEXT(D49),1,ISTEXT(B49),D49+1,TRUE,1)","v":3},{"$f":"_xlfn.IFS(A50=\"-\",\"\",ISTEXT(E49),1,TRUE,E49+1)","v":42},null,null,null,null,null,null,null,null,null,null,null,null,0,0,0,0,0,0,0,0,0,0,0]
[{"$f":"_xlfn.IFS(EDATE($A$9,12)=A50+1,\"-\",TRUE,A50+1)","v":"2025-02-12"},{"$f":"_xlfn.IFS(A51=\"-\",\"\",NOT(ISNUMBER(A52)),2,WEEKDAY(A51)=$H$3,1,TRUE,\"\")","v":""},{"$f":"_xlfn.IFS(A51=\"-\",\"\",$A$9=$A51,\"\",DAY($A$9)=DAY(A51+1),DATEDIF($A$9,A51+1,\"M\"),TRUE,\"\")","v":""},{"$f":"_xlfn.IFS(A51=\"-\",\"\",ISTEXT(D50),1,ISTEXT(B50),D50+1,TRUE,1)","v":4},{"$f":"_xlfn.IFS(A51=\"-\",\"\",ISTEXT(E50),1,TRUE,E50+1)","v":43},null,null,null,null,null,null,null,null,null,null,null,null,0,0,0,0,0,0,0,0,0,0,0]
[{"$f":"_xlfn.IFS(EDATE($A$9,12)=A51+1,\"-\",TRUE,A51+1)","v":"2025-02-13"},{"$f":"_xlfn.IFS(A52=\"-\",\"\",NOT(ISNUMBER(A53)),2,WEEKDAY(A52)=$H$3,1,TRUE,\"\")","v":""},{"$f":"_xlfn.IFS(A52=\"-\",\"\",$A$9=$A52,\"\",DAY($A$9)=DAY(A52+1),DATEDIF($A$9,A52+1,\"M\"),TRUE,\"\")","v":""},{"$f":"_xlfn.IFS(A52=\"-\",\"\",ISTEXT(D51),1,ISTEXT(B51),D51+1,TRUE,1)","v":5},{"$f":"_xlfn.IFS(A52=\"-\",\"\",ISTEXT(E51),1,TRUE,E51+1)","v":44},null,null,null,null,null,null,null,null,null,null,null,null,{"$f":"K52-J52-SUM(L52:P52)","v":0},0,0,0,0,0,0,0,0,0,0]
[{"$f":"_xlfn.IFS(EDATE($A$9,12)=A52+1,\"-\",TRUE,A52+1)","v":"2025-02-14"},{"$f":"_xlfn.IFS(A53=\"-\",\"\",NOT(ISNUMBER(A54)),2,WEEKDAY(A53)=$H$3,1,TRUE,\"\")","v":""},{"$f":"_xlfn.IFS(A53=\"-\",\"\",$A$9=$A53,\"\",DAY($A$9)=DAY(A53+1),DATEDIF($A$9,A53+1,\"M\"),TRUE,\"\")","v":""},{"$f":"_xlfn.IFS(A53=\"-\",\"\",ISTEXT(D52),1,ISTEXT(B52),D52+1,TRUE,1)","v":6},{"$f":"_xlfn.IFS(A53=\"-\",\"\",ISTEXT(E52),1,TRUE,E52+1)","v":45},null,null,null,null,null,null,null,null,null,null,null,null,0,0,0,0,0,0,0,0,0,0,0]
[{"$f":"_xlfn.IFS(EDATE($A$9,12)=A53+1,\"-\",TRUE,A53+1)","v":"2025-02-15"},{"$f":"_xlfn.IFS(A54=\"-\",\"\",NOT(ISNUMBER(A55)),2,WEEKDAY(A54)=$H$3,1,TRUE,\"\")","v":1},{"$f":"_xlfn.IFS(A54=\"-\",\"\",$A$9=$A54,\"\",DAY($A$9)=DAY(A54+1),DATEDIF($A$9,A54+1,\"M\"),TRUE,\"\")","v":""},{"$f":"_xlfn.IFS(A54=\"-\",\"\",ISTEXT(D53),1,ISTEXT(B53),D53+1,TRUE,1)","v":7},{"$f":"_xlfn.IFS(A54=\"-\",\"\",ISTEXT(E53),1,TRUE,E53+1)","v":46},null,null,null,null,null,null,null,null,null,null,null,null,0,0,0,0,0,0,0,0,0,0,0]
[{"$f":"_xlfn.IFS(EDATE($A$9,12)=A54+1,\"-\",TRUE,A54+1)","v":"2025-02-16"},{"$f":"_xlfn.IFS(A55=\"-\",\"\",NOT(ISNUMBER(A56)),2,WEEKDAY(A55)=$H$3,1,TRUE,\"\")","v":""},{"$f":"_xlfn.IFS(A55=\"-\",\"\",$A$9=$A55,\"\",DAY($A$9)=DAY(A55+1),DATEDIF($A$9,A55+1,\"M\"),TRUE,\"\")","v":""},{"$f":"_xlfn.IFS(A55=\"-\",\"\",ISTEXT(D54),1,ISTEXT(B54),D54+1,TRUE,1)","v":1},{"$f":"_xlfn.IFS(A55=\"-\",\"\",ISTEXT(E54),1,TRUE,E54+1)","v":47},null,null,null,null,null,null,null,null,null,null,null,null,0,0,0,0,0,0,0,0,0,0,0]
[{"$f":"_xlfn.IFS(EDATE($A$9,12)=A55+1,\"-\",TRUE,A55+1)","v":"2025-02-17"},{"$f":"_xlfn.IFS(A56=\"-\",\"\",NOT(ISNUMBER(A57)),2,WEEKDAY(A56)=$H$3,1,TRUE,\"\")","v":""},{"$f":"_xlfn.IFS(A56=\"-\",\"\",$A$9=$A56,\"\",DAY($A$9)=DAY(A56+1),DATEDIF($A$9,A56+1,\"M\"),TRUE,\"\")","v":""},{"$f":"_xlfn.IFS(A56=\"-\",\"\",ISTEXT(D55),1,ISTEXT(B55),D55+1,TRUE,1)","v":2},{"$f":"_xlfn.IFS(A56=\"-\",\"\",ISTEXT(E55),1,TRUE,E55+1)","v":48},null,null,null,null,null,null,null,null,null,null,null,null,0,0,0,0,0,0,0,0,0,0,0]
[{"$f":"_xlfn.IFS(EDATE($A$9,12)=A56+1,\"-\",TRUE,A56+1)","v":"2025-02-18"},{"$f":"_xlfn.IFS(A57=\"-\",\"\",NOT(ISNUMBER(A58)),2,WEEKDAY(A57)=$H$3,1,TRUE,\"\")","v":""},{"$f":"_xlfn.IFS(A57=\"-\",\"\",$A$9=$A57,\"\",DAY($A$9)=DAY(A57+1),DATEDIF($A$9,A57+1,\"M\"),TRUE,\"\")","v":""},{"$f":"_xlfn.IFS(A57=\"-\",\"\",ISTEXT(D56),1,ISTEXT(B56),D56+1,TRUE,1)","v":3},{"$f":"_xlfn.IFS(A57=\"-\",\"\",ISTEXT(E56),1,TRUE,E56+1)","v":49},null,null,null,null,null,null,null,null,null,null,null,null,0,0,0,0,0,0,0,0,0,0,0]
[{"$f":"_xlfn.IFS(EDATE($A$9,12)=A57+1,\"-\",TRUE,A57+1)","v":"2025-02-19"},{"$f":"_xlfn.IFS(A58=\"-\",\"\",NOT(ISNUMBER(A59)),2,WEEKDAY(A58)=$H$3,1,TRUE,\"\")","v":""},{"$f":"_xlfn.IFS(A58=\"-\",\"\",$A$9=$A58,\"\",DAY($A$9)=DAY(A58+1),DATEDIF($A$9,A58+1,\"M\"),TRUE,\"\")","v":""},{"$f":"_xlfn.IFS(A58=\"-\",\"\",ISTEXT(D57),1,ISTEXT(B57),D57+1,TRUE,1)","v":4},{"$f":"_xlfn.IFS(A58=\"-\",\"\",ISTEXT(E57),1,TRUE,E57+1)","v":50},null,null,null,null,null,null,null,null,null,null,null,null,0,0,0,0,0,0,0,0,0,0,0]
[{"$f":"_xlfn.IFS(EDATE($A$9,12)=A58+1,\"-\",TRUE,A58+1)","v":"2025-02-20"},{"$f":"_xlfn.IFS(A59=\"-\",\"\",NOT(ISNUMBER(A60)),2,WEEKDAY(A59)=$H$3,1,TRUE,\"\")","v":""},{"$f":"_xlfn.IFS(A59=\"-\",\"\",$A$9=$A59,\"\",DAY($A$9)=DAY(A59+1),DATEDIF($A$9,A59+1,\"M\"),TRUE,\"\")","v":""},{"$f":"_xlfn.IFS(A59=\"-\",\"\",ISTEXT(D58),1,ISTEXT(B58),D58+1,TRUE,1)","v":5},{"$f":"_xlfn.IFS(A59=\"-\",\"\",ISTEXT(E58),1,TRUE,E58+1)","v":51},null,null,null,null,null,null,null,null,null,null,null,null,0,0,0,0,0,0,0,0,0,0,0]
[{"$f":"_xlfn.IFS(EDATE($A$9,12)=A59+1,\"-\",TRUE,A59+1)","v":"2025-02-21"},{"$f":"_xlfn.IFS(A60=\"-\",\"\",NOT(ISNUMBER(A61)),2,WEEKDAY(A60)=$H$3,1,TRUE,\"\")","v":""},{"$f":"_xlfn.IFS(A60=\"-\",\"\",$A$9=$A60,\"\",DAY($A$9)=DAY(A60+1),DATEDIF($A$9,A60+1,\"M\"),TRUE,\"\")","v":""},{"$f":"_xlfn.IFS(A60=\"-\",\"\",ISTEXT(D59),1,ISTEXT(B59),D59+1,TRUE,1)","v":6},{"$f":"_xlfn.IFS(A60=\"-\",\"\",ISTEXT(E59),1,TRUE,E59+1)","v":52},null,null,null,null,null,null,null,null,null,null,null,null,0,0,0,0,0,0,0,0,0,0,0]
[{"$f":"_xlfn.IFS(EDATE($A$9,12)=A60+1,\"-\",TRUE,A60+1)","v":"2025-02-22"},{"$f":"_xlfn.IFS(A61=\"-\",\"\",NOT(ISNUMBER(A62)),2,WEEKDAY(A61)=$H$3,1,TRUE,\"\")","v":1},{"$f":"_xlfn.IFS(A61=\"-\",\"\",$A$9=$A61,\"\",DAY($A$9)=DAY(A61+1),DATEDIF($A$9,A61+1,\"M\"),TRUE,\"\")","v":""},{"$f":"_xlfn.IFS(A61=\"-\",\"\",ISTEXT(D60),1,ISTEXT(B60),D60+1,TRUE,1)","v":7},{"$f":"_xlfn.IFS(A61=\"-\",\"\",ISTEXT(E60),1,TRUE,E60+1)","v":53},null,null,null,null,null,null,null,null,null,null,null,null,0,0,0,0,0,0,0,0,0,0,0]
[{"$f":"_xlfn.IFS(EDATE($A$9,12)=A61+1,\"-\",TRUE,A61+1)","v":"2025-02-23"},{"$f":"_xlfn.IFS(A62=\"-\",\"\",NOT(ISNUMBER(A63)),2,WEEKDAY(A62)=$H$3,1,TRUE,\"\")","v":""},{"$f":"_xlfn.IFS(A62=\"-\",\"\",$A$9=$A62,\"\",DAY($A$9)=DAY(A62+1),DATEDIF($A$9,A62+1,\"M\"),TRUE,\"\")","v":""},{"$f":"_xlfn.IFS(A62=\"-\",\"\",ISTEXT(D61),1,ISTEXT(B61),D61+1,TRUE,1)","v":1},{"$f":"_xlfn.IFS(A62=\"-\",\"\",ISTEXT(E61),1,TRUE,E61+1)","v":54},null,null,null,null,null,null,null,null,null,null,null,null,0,0,0,0,0,0,0,0,0,0,0]
[{"$f":"_xlfn.IFS(EDATE($A$9,12)=A62+1,\"-\",TRUE,A62+1)","v":"2025-02-24"},{"$f":"_xlfn.IFS(A63=\"-\",\"\",NOT(ISNUMBER(A64)),2,WEEKDAY(A63)=$H$3,1,TRUE,\"\")","v":""},{"$f":"_xlfn.IFS(A63=\"-\",\"\",$A$9=$A63,\"\",DAY($A$9)=DAY(A63+1),DATEDIF($A$9,A63+1,\"M\"),TRUE,\"\")","v":""},{"$f":"_xlfn.IFS(A63=\"-\",\"\",ISTEXT(D62),1,ISTEXT(B62),D62+1,TRUE,1)","v":2},{"$f":"_xlfn.IFS(A63=\"-\",\"\",ISTEXT(E62),1,TRUE,E62+1)","v":55},null,null,null,null,null,null,null,null,null,null,null,null,0,0,0,0,0,0,0,0,0,0,0]
[{"$f":"_xlfn.IFS(EDATE($A$9,12)=A63+1,\"-\",TRUE,A63+1)","v":"2025-02-25"},{"$f":"_xlfn.IFS(A64=\"-\",\"\",NOT(ISNUMBER(A65)),2,WEEKDAY(A64)=$H$3,1,TRUE,\"\")","v":""},{"$f":"_xlfn.IFS(A64=\"-\",\"\",$A$9=$A64,\"\",DAY($A$9)=DAY(A64+1),DATEDIF($A$9,A64+1,\"M\"),TRUE,\"\")","v":""},{"$f":"_xlfn.IFS(A64=\"-\",\"\",ISTEXT(D63),1,ISTEXT(B63),D63+1,TRUE,1)","v":3},{"$f":"_xlfn.IFS(A64=\"-\",\"\",ISTEXT(E63),1,TRUE,E63+1)","v":56},null,null,null,null,null,null,null,null,null,null,null,null,0,0,0,0,0,0,0,0,0,0,0]
[{"$f":"_xlfn.IFS(EDATE($A$9,12)=A64+1,\"-\",TRUE,A64+1)","v":"2025-02-26"},{"$f":"_xlfn.IFS(A65=\"-\",\"\",NOT(ISNUMBER(A66)),2,WEEKDAY(A65)=$H$3,1,TRUE,\"\")","v":""},{"$f":"_xlfn.IFS(A65=\"-\",\"\",$A$9=$A65,\"\",DAY($A$9)=DAY(A65+1),DATEDIF($A$9,A65+1,\"M\"),TRUE,\"\")","v":""},{"$f":"_xlfn.IFS(A65=\"-\",\"\",ISTEXT(D64),1,ISTEXT(B64),D64+1,TRUE,1)","v":4},{"$f":"_xlfn.IFS(A65=\"-\",\"\",ISTEXT(E64),1,TRUE,E64+1)","v":57},null,null,null,null,null,null,null,null,null,null,null,null,0,0,0,0,0,0,0,0,0,0,0]
[{"$f":"_xlfn.IFS(EDATE($A$9,12)=A65+1,\"-\",TRUE,A65+1)","v":"2025-02-27"},{"$f":"_xlfn.IFS(A66=\"-\",\"\",NOT(ISNUMBER(A67)),2,WEEKDAY(A66)=$H$3,1,TRUE,\"\")","v":""},{"$f":"_xlfn.IFS(A66=\"-\",\"\",$A$9=$A66,\"\",DAY($A$9)=DAY(A66+1),DATEDIF($A$9,A66+1,\"M\"),TRUE,\"\")","v":""},{"$f":"_xlfn.IFS(A66=\"-\",\"\",ISTEXT(D65),1,ISTEXT(B65),D65+1,TRUE,1)","v":5},{"$f":"_xlfn.IFS(A66=\"-\",\"\",ISTEXT(E65),1,TRUE,E65+1)","v":58},null,null,null,null,null,null,null,null,null,null,null,null,0,0,0,0,0,0,0,0,0,0,0]
[{"$f":"_xlfn.IFS(EDATE($A$9,12)=A66+1,\"-\",TRUE,A66+1)","v":"2025-02-28"},{"$f":"_xlfn.IFS(A67=\"-\",\"\",NOT(ISNUMBER(A68)),2,WEEKDAY(A67)=$H$3,1,TRUE,\"\")","v":""},{"$f":"_xlfn.IFS(A67=\"-\",\"\",$A$9=$A67,\"\",DAY($A$9)=DAY(A67+1),DATEDIF($A$9,A67+1,\"M\"),TRUE,\"\")","v":2},{"$f":"_xlfn.IFS(A67=\"-\",\"\",ISTEXT(D66),1,ISTEXT(B66),D66+1,TRUE,1)","v":6},{"$f":"_xlfn.IFS(A67=\"-\",\"\",ISTEXT(E66),1,TRUE,E66+1)","v":59},null,null,null,null,null,null,null,null,null,null,null,null,0,0,0,0,0,0,0,0,0,0,0]
[{"$f":"_xlfn.IFS(EDATE($A$9,12)=A67+1,\"-\",TRUE,A67+1)","v":"2025-03-01"},{"$f":"_xlfn.IFS(A68=\"-\",\"\",NOT(ISNUMBER(A69)),2,WEEKDAY(A68)=$H$3,1,TRUE,\"\")","v":1},{"$f":"_xlfn.IFS(A68=\"-\",\"\",$A$9=$A68,\"\",DAY($A$9)=DAY(A68+1),DATEDIF($A$9,A68+1,\"M\"),TRUE,\"\")","v":""},{"$f":"_xlfn.IFS(A68=\"-\",\"\",ISTEXT(D67),1,ISTEXT(B67),D67+1,TRUE,1)","v":7},{"$f":"_xlfn.IFS(A68=\"-\",\"\",ISTEXT(E67),1,TRUE,E67+1)","v":60},null,null,null,null,null,null,null,null,null,null,null,null,0,0,0,0,0,0,0,0,0,0,0]
[{"$f":"_xlfn.IFS(EDATE($A$9,12)=A68+1,\"-\",TRUE,A68+1)","v":"2025-03-02"},{"$f":"_xlfn.IFS(A69=\"-\",\"\",NOT(ISNUMBER(A70)),2,WEEKDAY(A69)=$H$3,1,TRUE,\"\")","v":""},{"$f":"_xlfn.IFS(A69=\"-\",\"\",$A$9=$A69,\"\",DAY($A$9)=DAY(A69+1),DATEDIF($A$9,A69+1,\"M\"),TRUE,\"\")","v":""},{"$f":"_xlfn.IFS(A69=\"-\",\"\",ISTEXT(D68),1,ISTEXT(B68),D68+1,TRUE,1)","v":1},{"$f":"_xlfn.IFS(A69=\"-\",\"\",ISTEXT(E68),1,TRUE,E68+1)","v":61},null,null,null,null,null,null,null,null,null,null,null,null,0,0,0,0,0,0,0,0,0,0,0]
[{"$f":"_xlfn.IFS(EDATE($A$9,12)=A69+1,\"-\",TRUE,A69+1)","v":"2025-03-03"},{"$f":"_xlfn.IFS(A70=\"-\",\"\",NOT(ISNUMBER(A71)),2,WEEKDAY(A70)=$H$3,1,TRUE,\"\")","v":""},{"$f":"_xlfn.IFS(A70=\"-\",\"\",$A$9=$A70,\"\",DAY($A$9)=DAY(A70+1),DATEDIF($A$9,A70+1,\"M\"),TRUE,\"\")","v":""},{"$f":"_xlfn.IFS(A70=\"-\",\"\",ISTEXT(D69),1,ISTEXT(B69),D69+1,TRUE,1)","v":2},{"$f":"_xlfn.IFS(A70=\"-\",\"\",ISTEXT(E69),1,TRUE,E69+1)","v":62},null,null,null,null,null,null,null,null,null,null,null,null,0,0,0,0,0,0,0,0,0,0,0]
[{"$f":"_xlfn.IFS(EDATE($A$9,12)=A70+1,\"-\",TRUE,A70+1)","v":"2025-03-04"},{"$f":"_xlfn.IFS(A71=\"-\",\"\",NOT(ISNUMBER(A72)),2,WEEKDAY(A71)=$H$3,1,TRUE,\"\")","v":""},{"$f":"_xlfn.IFS(A71=\"-\",\"\",$A$9=$A71,\"\",DAY($A$9)=DAY(A71+1),DATEDIF($A$9,A71+1,\"M\"),TRUE,\"\")","v":""},{"$f":"_xlfn.IFS(A71=\"-\",\"\",ISTEXT(D70),1,ISTEXT(B70),D70+1,TRUE,1)","v":3},{"$f":"_xlfn.IFS(A71=\"-\",\"\",ISTEXT(E70),1,TRUE,E70+1)","v":63},null,null,null,null,null,null,null,null,null,null,null,null,0,0,0,0,0,0,0,0,0,0,0]
[{"$f":"_xlfn.IFS(EDATE($A$9,12)=A71+1,\"-\",TRUE,A71+1)","v":"2025-03-05"},{"$f":"_xlfn.IFS(A72=\"-\",\"\",NOT(ISNUMBER(A73)),2,WEEKDAY(A72)=$H$3,1,TRUE,\"\")","v":""},{"$f":"_xlfn.IFS(A72=\"-\",\"\",$A$9=$A72,\"\",DAY($A$9)=DAY(A72+1),DATEDIF($A$9,A72+1,\"M\"),TRUE,\"\")","v":""},{"$f":"_xlfn.IFS(A72=\"-\",\"\",ISTEXT(D71),1,ISTEXT(B71),D71+1,TRUE,1)","v":4},{"$f":"_xlfn.IFS(A72=\"-\",\"\",ISTEXT(E71),1,TRUE,E71+1)","v":64},null,null,null,null,null,null,null,null,null,null,null,null,0,0,0,0,0,0,0,0,0,0,0]
[{"$f":"_xlfn.IFS(EDATE($A$9,12)=A72+1,\"-\",TRUE,A72+1)","v":"2025-03-06"},{"$f":"_xlfn.IFS(A73=\"-\",\"\",NOT(ISNUMBER(A74)),2,WEEKDAY(A73)=$H$3,1,TRUE,\"\")","v":""},{"$f":"_xlfn.IFS(A73=\"-\",\"\",$A$9=$A73,\"\",DAY($A$9)=DAY(A73+1),DATEDIF($A$9,A73+1,\"M\"),TRUE,\"\")","v":""},{"$f":"_xlfn.IFS(A73=\"-\",\"\",ISTEXT(D72),1,ISTEXT(B72),D72+1,TRUE,1)","v":5},{"$f":"_xlfn.IFS(A73=\"-\",\"\",ISTEXT(E72),1,TRUE,E72+1)","v":65},null,null,null,null,null,null,null,null,null,null,null,null,0,0,0,0,0,0,0,0,0,0,0]
[{"$f":"_xlfn.IFS(EDATE($A$9,12)=A73+1,\"-\",TRUE,A73+1)","v":"2025-03-07"},{"$f":"_xlfn.IFS(A74=\"-\",\"\",NOT(ISNUMBER(A75)),2,WEEKDAY(A74)=$H$3,1,TRUE,\"\")","v":""},{"$f":"_xlfn.IFS(A74=\"-\",\"\",$A$9=$A74,\"\",DAY($A$9)=DAY(A74+1),DATEDIF($A$9,A74+1,\"M\"),TRUE,\"\")","v":""},{"$f":"_xlfn.IFS(A74=\"-\",\"\",ISTEXT(D73),1,ISTEXT(B73),D73+1,TRUE,1)","v":6},{"$f":"_xlfn.IFS(A74=\"-\",\"\",ISTEXT(E73),1,TRUE,E73+1)","v":66},null,null,null,null,null,null,null,null,null,null,null,null,0,0,0,0,0,0,0,0,0,0,0]
[{"$f":"_xlfn.IFS(EDATE($A$9,12)=A74+1,\"-\",TRUE,A74+1)","v":"2025-03-08"},{"$f":"_xlfn.IFS(A75=\"-\",\"\",NOT(ISNUMBER(A76)),2,WEEKDAY(A75)=$H$3,1,TRUE,\"\")","v":1},{"$f":"_xlfn.IFS(A75=\"-\",\"\",$A$9=$A75,\"\",DAY($A$9)=DAY(A75+1),DATEDIF($A$9,A75+1,\"M\"),TRUE,\"\")","v":""},{"$f":"_xlfn.IFS(A75=\"-\",\"\",ISTEXT(D74),1,ISTEXT(B74),D74+1,TRUE,1)","v":7},{"$f":"_xlfn.IFS(A75=\"-\",\"\",ISTEXT(E74),1,TRUE,E74+1)","v":67},null,null,null,null,null,null,null,null,null,null,null,null,0,0,0,0,0,0,0,0,0,0,0]
[{"$f":"_xlfn.IFS(EDATE($A$9,12)=A75+1,\"-\",TRUE,A75+1)","v":"2025-03-09"},{"$f":"_xlfn.IFS(A76=\"-\",\"\",NOT(ISNUMBER(A77)),2,WEEKDAY(A76)=$H$3,1,TRUE,\"\")","v":""},{"$f":"_xlfn.IFS(A76=\"-\",\"\",$A$9=$A76,\"\",DAY($A$9)=DAY(A76+1),DATEDIF($A$9,A76+1,\"M\"),TRUE,\"\")","v":""},{"$f":"_xlfn.IFS(A76=\"-\",\"\",ISTEXT(D75),1,ISTEXT(B75),D75+1,TRUE,1)","v":1},{"$f":"_xlfn.IFS(A76=\"-\",\"\",ISTEXT(E75),1,TRUE,E75+1)","v":68},null,null,null,null,null,null,null,null,null,null,null,null,0,0,0,0,0,0,0,0,0,0,0]
[{"$f":"_xlfn.IFS(EDATE($A$9,12)=A76+1,\"-\",TRUE,A76+1)","v":"2025-03-10"},{"$f":"_xlfn.IFS(A77=\"-\",\"\",NOT(ISNUMBER(A78)),2,WEEKDAY(A77)=$H$3,1,TRUE,\"\")","v":""},{"$f":"_xlfn.IFS(A77=\"-\",\"\",$A$9=$A77,\"\",DAY($A$9)=DAY(A77+1),DATEDIF($A$9,A77+1,\"M\"),TRUE,\"\")","v":""},{"$f":"_xlfn.IFS(A77=\"-\",\"\",ISTEXT(D76),1,ISTEXT(B76),D76+1,TRUE,1)","v":2},{"$f":"_xlfn.IFS(A77=\"-\",\"\",ISTEXT(E76),1,TRUE,E76+1)","v":69},null,null,null,null,null,null,null,null,null,null,null,null,0,0,0,0,0,0,0,0,0,0,0]
[{"$f":"_xlfn.IFS(EDATE($A$9,12)=A77+1,\"-\",TRUE,A77+1)","v":"2025-03-11"},{"$f":"_xlfn.IFS(A78=\"-\",\"\",NOT(ISNUMBER(A79)),2,WEEKDAY(A78)=$H$3,1,TRUE,\"\")","v":""},{"$f":"_xlfn.IFS(A78=\"-\",\"\",$A$9=$A78,\"\",DAY($A$9)=DAY(A78+1),DATEDIF($A$9,A78+1,\"M\"),TRUE,\"\")","v":""},{"$f":"_xlfn.IFS(A78=\"-\",\"\",ISTEXT(D77),1,ISTEXT(B77),D77+1,TRUE,1)","v":3},{"$f":"_xlfn.IFS(A78=\"-\",\"\",ISTEXT(E77),1,TRUE,E77+1)","v":70},null,null,null,null,null,null,null,null,null,null,null,null,{"$f":"K78-J78-SUM(L78:P78)","v":0},0,0,0,0,0,0,0,0,0,0]
[{"$f":"_xlfn.IFS(EDATE($A$9,12)=A78+1,\"-\",TRUE,A78+1)","v":"2025-03-12"},{"$f":"_xlfn.IFS(A79=\"-\",\"\",NOT(ISNUMBER(A80)),2,WEEKDAY(A79)=$H$3,1,TRUE,\"\")","v":""},{"$f":"_xlfn.IFS(A79=\"-\",\"\",$A$9=$A79,\"\",DAY($A$9)=DAY(A79+1),DATEDIF($A$9,A79+1,\"M\"),TRUE,\"\")","v":""},{"$f":"_xlfn.IFS(A79=\"-\",\"\",ISTEXT(D78),1,ISTEXT(B78),D78+1,TRUE,1)","v":4},{"$f":"_xlfn.IFS(A79=\"-\",\"\",ISTEXT(E78),1,TRUE,E78+1)","v":71},null,null,null,null,null,null,null,null,null,null,null,null,0,0,0,0,0,0,0,0,0,0,0]
[{"$f":"_xlfn.IFS(EDATE($A$9,12)=A79+1,\"-\",TRUE,A79+1)","v":"2025-03-13"},{"$f":"_xlfn.IFS(A80=\"-\",\"\",NOT(ISNUMBER(A81)),2,WEEKDAY(A80)=$H$3,1,TRUE,\"\")","v":""},{"$f":"_xlfn.IFS(A80=\"-\",\"\",$A$9=$A80,\"\",DAY($A$9)=DAY(A80+1),DATEDIF($A$9,A80+1,\"M\"),TRUE,\"\")","v":""},{"$f":"_xlfn.IFS(A80=\"-\",\"\",ISTEXT(D79),1,ISTEXT(B79),D79+1,TRUE,1)","v":5},{"$f":"_xlfn.IFS(A80=\"-\",\"\",ISTEXT(E79),1,TRUE,E79+1)","v":72},null,null,null,null,null,null,null,null,null,null,null,null,0,0,0,0,0,0,0,0,0,0,0]
[{"$f":"_xlfn.IFS(EDATE($A$9,12)=A80+1,\"-\",TRUE,A80+1)","v":"2025-03-14"},{"$f":"_xlfn.IFS(A81=\"-\",\"\",NOT(ISNUMBER(A82)),2,WEEKDAY(A81)=$H$3,1,TRUE,\"\")","v":""},{"$f":"_xlfn.IFS(A81=\"-\",\"\",$A$9=$A81,\"\",DAY($A$9)=DAY(A81+1),DATEDIF($A$9,A81+1,\"M\"),TRUE,\"\")","v":""},{"$f":"_xlfn.IFS(A81=\"-\",\"\",ISTEXT(D80),1,ISTEXT(B80),D80+1,TRUE,1)","v":6},{"$f":"_xlfn.IFS(A81=\"-\",\"\",ISTEXT(E80),1,TRUE,E80+1)","v":73},null,null,null,null,null,null,null,null,null,null,null,null,0,0,0,0,0,0,0,0,0,0,0]
[{"$f":"_xlfn.IFS(EDATE($A$9,12)=A81+1,\"-\",TRUE,A81+1)","v":"2025-03-15"},{"$f":"_xlfn.IFS(A82=\"-\",\"\",NOT(ISNUMBER(A83)),2,WEEKDAY(A82)=$H$3,1,TRUE,\"\")","v":1},{"$f":"_xlfn.IFS(A82=\"-\",\"\",$A$9=$A82,\"\",DAY($A$9)=DAY(A82+1),DATEDIF($A$9,A82+1,\"M\"),TRUE,\"\")","v":""},{"$f":"_xlfn.IFS(A82=\"-\",\"\",ISTEXT(D81),1,ISTEXT(B81),D81+1,TRUE,1)","v":7},{"$f":"_xlfn.IFS(A82=\"-\",\"\",ISTEXT(E81),1,TRUE,E81+1)","v":74},null,null,null,null,null,null,null,null,null,null,null,null,0,0,0,0,0,0,0,0,0,0,0]
[{"$f":"_xlfn.IFS(EDATE($A$9,12)=A82+1,\"-\",TRUE,A82+1)","v":"2025-03-16"},{"$f":"_xlfn.IFS(A83=\"-\",\"\",NOT(ISNUMBER(A84)),2,WEEKDAY(A83)=$H$3,1,TRUE,\"\")","v":""},{"$f":"_xlfn.IFS(A83=\"-\",\"\",$A$9=$A83,\"\",DAY($A$9)=DAY(A83+1),DATEDIF($A$9,A83+1,\"M\"),TRUE,\"\")","v":""},{"$f":"_xlfn.IFS(A83=\"-\",\"\",ISTEXT(D82),1,ISTEXT(B82),D82+1,TRUE,1)","v":1},{"$f":"_xlfn.IFS(A83=\"-\",\"\",ISTEXT(E82),1,TRUE,E82+1)","v":75},null,null,null,null,null,null,null,null,null,null,null,null,0,0,0,0,0,0,0,0,0,0,0]
[{"$f":"_xlfn.IFS(EDATE($A$9,12)=A83+1,\"-\",TRUE,A83+1)","v":"2025-03-17"},{"$f":"_xlfn.IFS(A84=\"-\",\"\",NOT(ISNUMBER(A85)),2,WEEKDAY(A84)=$H$3,1,TRUE,\"\")","v":""},{"$f":"_xlfn.IFS(A84=\"-\",\"\",$A$9=$A84,\"\",DAY($A$9)=DAY(A84+1),DATEDIF($A$9,A84+1,\"M\"),TRUE,\"\")","v":""},{"$f":"_xlfn.IFS(A84=\"-\",\"\",ISTEXT(D83),1,ISTEXT(B83),D83+1,TRUE,1)","v":2},{"$f":"_xlfn.IFS(A84=\"-\",\"\",ISTEXT(E83),1,TRUE,E83+1)","v":76},null,null,null,null,null,null,null,null,null,null,null,null,0,0,0,0,0,0,0,0,0,0,0]
[{"$f":"_xlfn.IFS(EDATE($A$9,12)=A84+1,\"-\",TRUE,A84+1)","v":"2025-03-18"},{"$f":"_xlfn.IFS(A85=\"-\",\"\",NOT(ISNUMBER(A86)),2,WEEKDAY(A85)=$H$3,1,TRUE,\"\")","v":""},{"$f":"_xlfn.IFS(A85=\"-\",\"\",$A$9=$A85,\"\",DAY($A$9)=DAY(A85+1),DATEDIF($A$9,A85+1,\"M\"),TRUE,\"\")","v":""},{"$f":"_xlfn.IFS(A85=\"-\",\"\",ISTEXT(D84),1,ISTEXT(B84),D84+1,TRUE,1)","v":3},{"$f":"_xlfn.IFS(A85=\"-\",\"\",ISTEXT(E84),1,TRUE,E84+1)","v":77},null,null,null,null,null,null,null,null,null,null,null,null,0,0,0,0,0,0,0,0,0,0,0]
[{"$f":"_xlfn.IFS(EDATE($A$9,12)=A85+1,\"-\",TRUE,A85+1)","v":"2025-03-19"},{"$f":"_xlfn.IFS(A86=\"-\",\"\",NOT(ISNUMBER(A87)),2,WEEKDAY(A86)=$H$3,1,TRUE,\"\")","v":""},{"$f":"_xlfn.IFS(A86=\"-\",\"\",$A$9=$A86,\"\",DAY($A$9)=DAY(A86+1),DATEDIF($A$9,A86+1,\"M\"),TRUE,\"\")","v":""},{"$f":"_xlfn.IFS(A86=\"-\",\"\",ISTEXT(D85),1,ISTEXT(B85),D85+1,TRUE,1)","v":4},{"$f":"_xlfn.IFS(A86=\"-\",\"\",ISTEXT(E85),1,TRUE,E85+1)","v":78},null,null,null,null,null,null,null,null,null,null,null,null,0,0,0,0,0,0,0,0,0,0,0]
[{"$f":"_xlfn.IFS(EDATE($A$9,12)=A86+1,\"-\",TRUE,A86+1)","v":"2025-03-20"},{"$f":"_xlfn.IFS(A87=\"-\",\"\",NOT(ISNUMBER(A88)),2,WEEKDAY(A87)=$H$3,1,TRUE,\"\")","v":""},{"$f":"_xlfn.IFS(A87=\"-\",\"\",$A$9=$A87,\"\",DAY($A$9)=DAY(A87+1),DATEDIF($A$9,A87+1,\"M\"),TRUE,\"\")","v":""},{"$f":"_xlfn.IFS(A87=\"-\",\"\",ISTEXT(D86),1,ISTEXT(B86),D86+1,TRUE,1)","v":5},{"$f":"_xlfn.IFS(A87=\"-\",\"\",ISTEXT(E86),1,TRUE,E86+1)","v":79},null,null,null,null,null,null,null,null,null,null,null,null,0,0,0,0,0,0,0,0,0,0,0]
[{"$f":"_xlfn.IFS(EDATE($A$9,12)=A87+1,\"-\",TRUE,A87+1)","v":"2025-03-21"},{"$f":"_xlfn.IFS(A88=\"-\",\"\",NOT(ISNUMBER(A89)),2,WEEKDAY(A88)=$H$3,1,TRUE,\"\")","v":""},{"$f":"_xlfn.IFS(A88=\"-\",\"\",$A$9=$A88,\"\",DAY($A$9)=DAY(A88+1),DATEDIF($A$9,A88+1,\"M\"),TRUE,\"\")","v":""},{"$f":"_xlfn.IFS(A88=\"-\",\"\",ISTEXT(D87),1,ISTEXT(B87),D87+1,TRUE,1)","v":6},{"$f":"_xlfn.IFS(A88=\"-\",\"\",ISTEXT(E87),1,TRUE,E87+1)","v":80},null,null,null,null,null,null,null,null,null,null,null,null,0,0,0,0,0,0,0,0,0,0,0]
[{"$f":"_xlfn.IFS(EDATE($A$9,12)=A88+1,\"-\",TRUE,A88+1)","v":"2025-03-22"},{"$f":"_xlfn.IFS(A89=\"-\",\"\",NOT(ISNUMBER(A90)),2,WEEKDAY(A89)=$H$3,1,TRUE,\"\")","v":1},{"$f":"_xlfn.IFS(A89=\"-\",\"\",$A$9=$A89,\"\",DAY($A$9)=DAY(A89+1),DATEDIF($A$9,A89+1,\"M\"),TRUE,\"\")","v":""},{"$f":"_xlfn.IFS(A89=\"-\",\"\",ISTEXT(D88),1,ISTEXT(B88),D88+1,TRUE,1)","v":7},{"$f":"_xlfn.IFS(A89=\"-\",\"\",ISTEXT(E88),1,TRUE,E88+1)","v":81},null,null,null,null,null,null,null,null,null,null,null,null,0,0,0,0,0,0,0,0,0,0,0]
[{"$f":"_xlfn.IFS(EDATE($A$9,12)=A89+1,\"-\",TRUE,A89+1)","v":"2025-03-23"},{"$f":"_xlfn.IFS(A90=\"-\",\"\",NOT(ISNUMBER(A91)),2,WEEKDAY(A90)=$H$3,1,TRUE,\"\")","v":""},{"$f":"_xlfn.IFS(A90=\"-\",\"\",$A$9=$A90,\"\",DAY($A$9)=DAY(A90+1),DATEDIF($A$9,A90+1,\"M\"),TRUE,\"\")","v":""},{"$f":"_xlfn.IFS(A90=\"-\",\"\",ISTEXT(D89),1,ISTEXT(B89),D89+1,TRUE,1)","v":1},{"$f":"_xlfn.IFS(A90=\"-\",\"\",ISTEXT(E89),1,TRUE,E89+1)","v":82},null,null,null,null,null,null,null,null,null,null,null,null,0,0,0,0,0,0,0,0,0,0,0]
[{"$f":"_xlfn.IFS(EDATE($A$9,12)=A90+1,\"-\",TRUE,A90+1)","v":"2025-03-24"},{"$f":"_xlfn.IFS(A91=\"-\",\"\",NOT(ISNUMBER(A92)),2,WEEKDAY(A91)=$H$3,1,TRUE,\"\")","v":""},{"$f":"_xlfn.IFS(A91=\"-\",\"\",$A$9=$A91,\"\",DAY($A$9)=DAY(A91+1),DATEDIF($A$9,A91+1,\"M\"),TRUE,\"\")","v":""},{"$f":"_xlfn.IFS(A91=\"-\",\"\",ISTEXT(D90),1,ISTEXT(B90),D90+1,TRUE,1)","v":2},{"$f":"_xlfn.IFS(A91=\"-\",\"\",ISTEXT(E90),1,TRUE,E90+1)","v":83},null,null,null,null,null,null,null,null,null,null,null,null,0,0,0,0,0,0,0,0,0,0,0]
[{"$f":"_xlfn.IFS(EDATE($A$9,12)=A91+1,\"-\",TRUE,A91+1)","v":"2025-03-25"},{"$f":"_xlfn.IFS(A92=\"-\",\"\",NOT(ISNUMBER(A93)),2,WEEKDAY(A92)=$H$3,1,TRUE,\"\")","v":""},{"$f":"_xlfn.IFS(A92=\"-\",\"\",$A$9=$A92,\"\",DAY($A$9)=DAY(A92+1),DATEDIF($A$9,A92+1,\"M\"),TRUE,\"\")","v":""},{"$f":"_xlfn.IFS(A92=\"-\",\"\",ISTEXT(D91),1,ISTEXT(B91),D91+1,TRUE,1)","v":3},{"$f":"_xlfn.IFS(A92=\"-\",\"\",ISTEXT(E91),1,TRUE,E91+1)","v":84},null,null,null,null,null,null,null,null,null,null,null,null,0,0,0,0,0,0,0,0,0,0,0]
[{"$f":"_xlfn.IFS(EDATE($A$9,12)=A92+1,\"-\",TRUE,A92+1)","v":"2025-03-26"},{"$f":"_xlfn.IFS(A93=\"-\",\"\",NOT(ISNUMBER(A94)),2,WEEKDAY(A93)=$H$3,1,TRUE,\"\")","v":""},{"$f":"_xlfn.IFS(A93=\"-\",\"\",$A$9=$A93,\"\",DAY($A$9)=DAY(A93+1),DATEDIF($A$9,A93+1,\"M\"),TRUE,\"\")","v":""},{"$f":"_xlfn.IFS(A93=\"-\",\"\",ISTEXT(D92),1,ISTEXT(B92),D92+1,TRUE,1)","v":4},{"$f":"_xlfn.IFS(A93=\"-\",\"\",ISTEXT(E92),1,TRUE,E92+1)","v":85},null,null,null,null,null,null,null,null,null,null,null,null,0,0,0,0,0,0,0,0,0,0,0]
[{"$f":"_xlfn.IFS(EDATE($A$9,12)=A93+1,\"-\",TRUE,A93+1)","v":"2025-03-27"},{"$f":"_xlfn.IFS(A94=\"-\",\"\",NOT(ISNUMBER(A95)),2,WEEKDAY(A94)=$H$3,1,TRUE,\"\")","v":""},{"$f":"_xlfn.IFS(A94=\"-\",\"\",$A$9=$A94,\"\",DAY($A$9)=DAY(A94+1),DATEDIF($A$9,A94+1,\"M\"),TRUE,\"\")","v":""},{"$f":"_xlfn.IFS(A94=\"-\",\"\",ISTEXT(D93),1,ISTEXT(B93),D93+1,TRUE,1)","v":5},{"$f":"_xlfn.IFS(A94=\"-\",\"\",ISTEXT(E93),1,TRUE,E93+1)","v":86},null,null,null,null,null,null,null,null,null,null,null,null,0,0,0,0,0,0,0,0,0,0,0]
[{"$f":"_xlfn.IFS(EDATE($A$9,12)=A94+1,\"-\",TRUE,A94+1)","v":"2025-03-28"},{"$f":"_xlfn.IFS(A95=\"-\",\"\",NOT(ISNUMBER(A96)),2,WEEKDAY(A95)=$H$3,1,TRUE,\"\")","v":""},{"$f":"_xlfn.IFS(A95=\"-\",\"\",$A$9=$A95,\"\",DAY($A$9)=DAY(A95+1),DATEDIF($A$9,A95+1,\"M\"),TRUE,\"\")","v":""},{"$f":"_xlfn.IFS(A95=\"-\",\"\",ISTEXT(D94),1,ISTEXT(B94),D94+1,TRUE,1)","v":6},{"$f":"_xlfn.IFS(A95=\"-\",\"\",ISTEXT(E94),1,TRUE,E94+1)","v":87},null,null,null,null,null,null,null,null,null,null,null,null,0,0,0,0,0,0,0,0,0,0,0]
[{"$f":"_xlfn.IFS(EDATE($A$9,12)=A95+1,\"-\",TRUE,A95+1)","v":"2025-03-29"},{"$f":"_xlfn.IFS(A96=\"-\",\"\",NOT(ISNUMBER(A97)),2,WEEKDAY(A96)=$H$3,1,TRUE,\"\")","v":1},{"$f":"_xlfn.IFS(A96=\"-\",\"\",$A$9=$A96,\"\",DAY($A$9)=DAY(A96+1),DATEDIF($A$9,A96+1,\"M\"),TRUE,\"\")","v":""},{"$f":"_xlfn.IFS(A96=\"-\",\"\",ISTEXT(D95),1,ISTEXT(B95),D95+1,TRUE,1)","v":7},{"$f":"_xlfn.IFS(A96=\"-\",\"\",ISTEXT(E95),1,TRUE,E95+1)","v":88},null,null,null,null,null,null,null,null,null,null,null,null,0,0,0,0,0,0,0,0,0,0,0]
[{"$f":"_xlfn.IFS(EDATE($A$9,12)=A96+1,\"-\",TRUE,A96+1)","v":"2025-03-30"},{"$f":"_xlfn.IFS(A97=\"-\",\"\",NOT(ISNUMBER(A98)),2,WEEKDAY(A97)=$H$3,1,TRUE,\"\")","v":""},{"$f":"_xlfn.IFS(A97=\"-\",\"\",$A$9=$A97,\"\",DAY($A$9)=DAY(A97+1),DATEDIF($A$9,A97+1,\"M\"),TRUE,\"\")","v":""},{"$f":"_xlfn.IFS(A97=\"-\",\"\",ISTEXT(D96),1,ISTEXT(B96),D96+1,TRUE,1)","v":1},{"$f":"_xlfn.IFS(A97=\"-\",\"\",ISTEXT(E96),1,TRUE,E96+1)","v":89},null,null,null,null,null,null,null,null,null,null,null,null,0,0,0,0,0,0,0,0,0,0,0]
[{"$f":"_xlfn.IFS(EDATE($A$9,12)=A97+1,\"-\",TRUE,A97+1)","v":"2025-03-31"},{"$f":"_xlfn.IFS(A98=\"-\",\"\",NOT(ISNUMBER(A99)),2,WEEKDAY(A98)=$H$3,1,TRUE,\"\")","v":""},{"$f":"_xlfn.IFS(A98=\"-\",\"\",$A$9=$A98,\"\",DAY($A$9)=DAY(A98+1),DATEDIF($A$9,A98+1,\"M\"),TRUE,\"\")","v":3},{"$f":"_xlfn.IFS(A98=\"-\",\"\",ISTEXT(D97),1,ISTEXT(B97),D97+1,TRUE,1)","v":2},{"$f":"_xlfn.IFS(A98=\"-\",\"\",ISTEXT(E97),1,TRUE,E97+1)","v":90},null,null,null,null,null,null,null,null,null,null,null,null,0,0,0,0,0,0,0,0,0,0,0]
[{"$f":"_xlfn.IFS(EDATE($A$9,12)=A98+1,\"-\",TRUE,A98+1)","v":"2025-04-01"},{"$f":"_xlfn.IFS(A99=\"-\",\"\",NOT(ISNUMBER(A100)),2,WEEKDAY(A99)=$H$3,1,TRUE,\"\")","v":""},{"$f":"_xlfn.IFS(A99=\"-\",\"\",$A$9=$A99,\"\",DAY($A$9)=DAY(A99+1),DATEDIF($A$9,A99+1,\"M\"),TRUE,\"\")","v":""},{"$f":"_xlfn.IFS(A99=\"-\",\"\",ISTEXT(D98),1,ISTEXT(B98),D98+1,TRUE,1)","v":3},{"$f":"_xlfn.IFS(A99=\"-\",\"\",ISTEXT(E98),1,TRUE,E98+1)","v":91},null,null,null,null,null,null,null,null,null,null,null,null,0,0,0,0,0,0,0,0,0,0,0]
[{"$f":"_xlfn.IFS(EDATE($A$9,12)=A99+1,\"-\",TRUE,A99+1)","v":"2025-04-02"},{"$f":"_xlfn.IFS(A100=\"-\",\"\",NOT(ISNUMBER(A101)),2,WEEKDAY(A100)=$H$3,1,TRUE,\"\")","v":""},{"$f":"_xlfn.IFS(A100=\"-\",\"\",$A$9=$A100,\"\",DAY($A$9)=DAY(A100+1),DATEDIF($A$9,A100+1,\"M\"),TRUE,\"\")","v":""},{"$f":"_xlfn.IFS(A100=\"-\",\"\",ISTEXT(D99),1,ISTEXT(B99),D99+1,TRUE,1)","v":4},{"$f":"_xlfn.IFS(A100=\"-\",\"\",ISTEXT(E99),1,TRUE,E99+1)","v":92},null,null,null,null,null,null,null,null,null,null,null,null,0,0,0,0,0,0,0,0,0,0,0]
[{"$f":"_xlfn.IFS(EDATE($A$9,12)=A100+1,\"-\",TRUE,A100+1)","v":"2025-04-03"},{"$f":"_xlfn.IFS(A101=\"-\",\"\",NOT(ISNUMBER(A102)),2,WEEKDAY(A101)=$H$3,1,TRUE,\"\")","v":""},{"$f":"_xlfn.IFS(A101=\"-\",\"\",$A$9=$A101,\"\",DAY($A$9)=DAY(A101+1),DATEDIF($A$9,A101+1,\"M\"),TRUE,\"\")","v":""},{"$f":"_xlfn.IFS(A101=\"-\",\"\",ISTEXT(D100),1,ISTEXT(B100),D100+1,TRUE,1)","v":5},{"$f":"_xlfn.IFS(A101=\"-\",\"\",ISTEXT(E100),1,TRUE,E100+1)","v":93},null,null,null,null,null,null,null,null,null,null,null,null,0,0,0,0,0,0,0,0,0,0,0]
[{"$f":"_xlfn.IFS(EDATE($A$9,12)=A101+1,\"-\",TRUE,A101+1)","v":"2025-04-04"},{"$f":"_xlfn.IFS(A102=\"-\",\"\",NOT(ISNUMBER(A103)),2,WEEKDAY(A102)=$H$3,1,TRUE,\"\")","v":""},{"$f":"_xlfn.IFS(A102=\"-\",\"\",$A$9=$A102,\"\",DAY($A$9)=DAY(A102+1),DATEDIF($A$9,A102+1,\"M\"),TRUE,\"\")","v":""},{"$f":"_xlfn.IFS(A102=\"-\",\"\",ISTEXT(D101),1,ISTEXT(B101),D101+1,TRUE,1)","v":6},{"$f":"_xlfn.IFS(A102=\"-\",\"\",ISTEXT(E101),1,TRUE,E101+1)","v":94},null,null,null,null,null,null,null,null,null,null,null,null,0,0,0,0,0,0,0,0,0,0,0]
[{"$f":"_xlfn.IFS(EDATE($A$9,12)=A102+1,\"-\",TRUE,A102+1)","v":"2025-04-05"},{"$f":"_xlfn.IFS(A103=\"-\",\"\",NOT(ISNUMBER(A104)),2,WEEKDAY(A103)=$H$3,1,TRUE,\"\")","v":1},{"$f":"_xlfn.IFS(A103=\"-\",\"\",$A$9=$A103,\"\",DAY($A$9)=DAY(A103+1),DATEDIF($A$9,A103+1,\"M\"),TRUE,\"\")","v":""},{"$f":"_xlfn.IFS(A103=\"-\",\"\",ISTEXT(D102),1,ISTEXT(B102),D102+1,TRUE,1)","v":7},{"$f":"_xlfn.IFS(A103=\"-\",\"\",ISTEXT(E102),1,TRUE,E102+1)","v":95},null,null,null,null,null,null,null,null,null,null,null,null,0,0,0,0,0,0,0,0,0,0,0]
[{"$f":"_xlfn.IFS(EDATE($A$9,12)=A103+1,\"-\",TRUE,A103+1)","v":"2025-04-06"},{"$f":"_xlfn.IFS(A104=\"-\",\"\",NOT(ISNUMBER(A105)),2,WEEKDAY(A104)=$H$3,1,TRUE,\"\")","v":""},{"$f":"_xlfn.IFS(A104=\"-\",\"\",$A$9=$A104,\"\",DAY($A$9)=DAY(A104+1),DATEDIF($A$9,A104+1,\"M\"),TRUE,\"\")","v":""},{"$f":"_xlfn.IFS(A104=\"-\",\"\",ISTEXT(D103),1,ISTEXT(B103),D103+1,TRUE,1)","v":1},{"$f":"_xlfn.IFS(A104=\"-\",\"\",ISTEXT(E103),1,TRUE,E103+1)","v":96},null,null,null,null,null,null,null,null,null,null,null,null,0,0,0,0,0,0,0,0,0,0,0]
[{"$f":"_xlfn.IFS(EDATE($A$9,12)=A104+1,\"-\",TRUE,A104+1)","v":"2025-04-07"},{"$f":"_xlfn.IFS(A105=\"-\",\"\",NOT(ISNUMBER(A106)),2,WEEKDAY(A105)=$H$3,1,TRUE,\"\")","v":""},{"$f":"_xlfn.IFS(A105=\"-\",\"\",$A$9=$A105,\"\",DAY($A$9)=DAY(A105+1),DATEDIF($A$9,A105+1,\"M\"),TRUE,\"\")","v":""},{"$f":"_xlfn.IFS(A105=\"-\",\"\",ISTEXT(D104),1,ISTEXT(B104),D104+1,TRUE,1)","v":2},{"$f":"_xlfn.IFS(A105=\"-\",\"\",ISTEXT(E104),1,TRUE,E104+1)","v":97},null,null,null,null,null,null,null,null,null,null,null,null,0,0,0,0,0,0,0,0,0,0,0]
[{"$f":"_xlfn.IFS(EDATE($A$9,12)=A105+1,\"-\",TRUE,A105+1)","v":"2025-04-08"},{"$f":"_xlfn.IFS(A106=\"-\",\"\",NOT(ISNUMBER(A107)),2,WEEKDAY(A106)=$H$3,1,TRUE,\"\")","v":""},{"$f":"_xlfn.IFS(A106=\"-\",\"\",$A$9=$A106,\"\",DAY($A$9)=DAY(A106+1),DATEDIF($A$9,A106+1,\"M\"),TRUE,\"\")","v":""},{"$f":"_xlfn.IFS(A106=\"-\",\"\",ISTEXT(D105),1,ISTEXT(B105),D105+1,TRUE,1)","v":3},{"$f":"_xlfn.IFS(A106=\"-\",\"\",ISTEXT(E105),1,TRUE,E105+1)","v":98},null,null,null,null,null,null,null,null,null,null,null,null,0,0,0,0,0,0,0,0,0,0,0]
[{"$f":"_xlfn.IFS(EDATE($A$9,12)=A106+1,\"-\",TRUE,A106+1)","v":"2025-04-09"},{"$f":"_xlfn.IFS(A107=\"-\",\"\",NOT(ISNUMBER(A108)),2,WEEKDAY(A107)=$H$3,1,TRUE,\"\")","v":""},{"$f":"_xlfn.IFS(A107=\"-\",\"\",$A$9=$A107,\"\",DAY($A$9)=DAY(A107+1),DATEDIF($A$9,A107+1,\"M\"),TRUE,\"\")","v":""},{"$f":"_xlfn.IFS(A107=\"-\",\"\",ISTEXT(D106),1,ISTEXT(B106),D106+1,TRUE,1)","v":4},{"$f":"_xlfn.IFS(A107=\"-\",\"\",ISTEXT(E106),1,TRUE,E106+1)","v":99},null,null,null,null,null,null,null,null,null,null,null,null,0,0,0,0,0,0,0,0,0,0,0]
[{"$f":"_xlfn.IFS(EDATE($A$9,12)=A107+1,\"-\",TRUE,A107+1)","v":"2025-04-10"},{"$f":"_xlfn.IFS(A108=\"-\",\"\",NOT(ISNUMBER(A109)),2,WEEKDAY(A108)=$H$3,1,TRUE,\"\")","v":""},{"$f":"_xlfn.IFS(A108=\"-\",\"\",$A$9=$A108,\"\",DAY($A$9)=DAY(A108+1),DATEDIF($A$9,A108+1,\"M\"),TRUE,\"\")","v":""},{"$f":"_xlfn.IFS(A108=\"-\",\"\",ISTEXT(D107),1,ISTEXT(B107),D107+1,TRUE,1)","v":5},{"$f":"_xlfn.IFS(A108=\"-\",\"\",ISTEXT(E107),1,TRUE,E107+1)","v":100},null,null,null,null,null,null,null,null,null,null,null,null,0,0,0,0,0,0,0,0,0,0,0]
[{"$f":"_xlfn.IFS(EDATE($A$9,12)=A108+1,\"-\",TRUE,A108+1)","v":"2025-04-11"},{"$f":"_xlfn.IFS(A109=\"-\",\"\",NOT(ISNUMBER(A110)),2,WEEKDAY(A109)=$H$3,1,TRUE,\"\")","v":""},{"$f":"_xlfn.IFS(A109=\"-\",\"\",$A$9=$A109,\"\",DAY($A$9)=DAY(A109+1),DATEDIF($A$9,A109+1,\"M\"),TRUE,\"\")","v":""},{"$f":"_xlfn.IFS(A109=\"-\",\"\",ISTEXT(D108),1,ISTEXT(B108),D108+1,TRUE,1)","v":6},{"$f":"_xlfn.IFS(A109=\"-\",\"\",ISTEXT(E108),1,TRUE,E108+1)","v":101},null,null,null,null,null,null,null,null,null,null,null,null,0,0,0,0,0,0,0,0,0,0,0]
[{"$f":"_xlfn.IFS(EDATE($A$9,12)=A109+1,\"-\",TRUE,A109+1)","v":"2025-04-12"},{"$f":"_xlfn.IFS(A110=\"-\",\"\",NOT(ISNUMBER(A111)),2,WEEKDAY(A110)=$H$3,1,TRUE,\"\")","v":1},{"$f":"_xlfn.IFS(A110=\"-\",\"\",$A$9=$A110,\"\",DAY($A$9)=DAY(A110+1),DATEDIF($A$9,A110+1,\"M\"),TRUE,\"\")","v":""},{"$f":"_xlfn.IFS(A110=\"-\",\"\",ISTEXT(D109),1,ISTEXT(B109),D109+1,TRUE,1)","v":7},{"$f":"_xlfn.IFS(A110=\"-\",\"\",ISTEXT(E109),1,TRUE,E109+1)","v":102},null,null,null,null,null,null,null,null,null,null,null,null,0,0,0,0,0,0,0,0,0,0,0]
[{"$f":"_xlfn.IFS(EDATE($A$9,12)=A110+1,\"-\",TRUE,A110+1)","v":"2025-04-13"},{"$f":"_xlfn.IFS(A111=\"-\",\"\",NOT(ISNUMBER(A112)),2,WEEKDAY(A111)=$H$3,1,TRUE,\"\")","v":""},{"$f":"_xlfn.IFS(A111=\"-\",\"\",$A$9=$A111,\"\",DAY($A$9)=DAY(A111+1),DATEDIF($A$9,A111+1,\"M\"),TRUE,\"\")","v":""},{"$f":"_xlfn.IFS(A111=\"-\",\"\",ISTEXT(D110),1,ISTEXT(B110),D110+1,TRUE,1)","v":1},{"$f":"_xlfn.IFS(A111=\"-\",\"\",ISTEXT(E110),1,TRUE,E110+1)","v":103},null,null,null,null,null,null,null,null,null,null,null,null,0,0,0,0,0,0,0,0,0,0,0]
[{"$f":"_xlfn.IFS(EDATE($A$9,12)=A111+1,\"-\",TRUE,A111+1)","v":"2025-04-14"},{"$f":"_xlfn.IFS(A112=\"-\",\"\",NOT(ISNUMBER(A113)),2,WEEKDAY(A112)=$H$3,1,TRUE,\"\")","v":""},{"$f":"_xlfn.IFS(A112=\"-\",\"\",$A$9=$A112,\"\",DAY($A$9)=DAY(A112+1),DATEDIF($A$9,A112+1,\"M\"),TRUE,\"\")","v":""},{"$f":"_xlfn.IFS(A112=\"-\",\"\",ISTEXT(D111),1,ISTEXT(B111),D111+1,TRUE,1)","v":2},{"$f":"_xlfn.IFS(A112=\"-\",\"\",ISTEXT(E111),1,TRUE,E111+1)","v":104},null,null,null,null,null,null,null,null,null,null,null,null,0,0,0,0,0,0,0,0,0,0,0]
[{"$f":"_xlfn.IFS(EDATE($A$9,12)=A112+1,\"-\",TRUE,A112+1)","v":"2025-04-15"},{"$f":"_xlfn.IFS(A113=\"-\",\"\",NOT(ISNUMBER(A114)),2,WEEKDAY(A113)=$H$3,1,TRUE,\"\")","v":""},{"$f":"_xlfn.IFS(A113=\"-\",\"\",$A$9=$A113,\"\",DAY($A$9)=DAY(A113+1),DATEDIF($A$9,A113+1,\"M\"),TRUE,\"\")","v":""},{"$f":"_xlfn.IFS(A113=\"-\",\"\",ISTEXT(D112),1,ISTEXT(B112),D112+1,TRUE,1)","v":3},{"$f":"_xlfn.IFS(A113=\"-\",\"\",ISTEXT(E112),1,TRUE,E112+1)","v":105},null,null,null,null,null,null,null,null,null,null,null,null,0,0,0,0,0,0,0,0,0,0,0]
[{"$f":"_xlfn.IFS(EDATE($A$9,12)=A113+1,\"-\",TRUE,A113+1)","v":"2025-04-16"},{"$f":"_xlfn.IFS(A114=\"-\",\"\",NOT(ISNUMBER(A115)),2,WEEKDAY(A114)=$H$3,1,TRUE,\"\")","v":""},{"$f":"_xlfn.IFS(A114=\"-\",\"\",$A$9=$A114,\"\",DAY($A$9)=DAY(A114+1),DATEDIF($A$9,A114+1,\"M\"),TRUE,\"\")","v":""},{"$f":"_xlfn.IFS(A114=\"-\",\"\",ISTEXT(D113),1,ISTEXT(B113),D113+1,TRUE,1)","v":4},{"$f":"_xlfn.IFS(A114=\"-\",\"\",ISTEXT(E113),1,TRUE,E113+1)","v":106},null,null,null,null,null,null,null,null,null,null,null,null,0,0,0,0,0,0,0,0,0,0,0]
[{"$f":"_xlfn.IFS(EDATE($A$9,12)=A114+1,\"-\",TRUE,A114+1)","v":"2025-04-17"},{"$f":"_xlfn.IFS(A115=\"-\",\"\",NOT(ISNUMBER(A116)),2,WEEKDAY(A115)=$H$3,1,TRUE,\"\")","v":""},{"$f":"_xlfn.IFS(A115=\"-\",\"\",$A$9=$A115,\"\",DAY($A$9)=DAY(A115+1),DATEDIF($A$9,A115+1,\"M\"),TRUE,\"\")","v":""},{"$f":"_xlfn.IFS(A115=\"-\",\"\",ISTEXT(D114),1,ISTEXT(B114),D114+1,TRUE,1)","v":5},{"$f":"_xlfn.IFS(A115=\"-\",\"\",ISTEXT(E114),1,TRUE,E114+1)","v":107},null,null,null,null,null,null,null,null,null,null,null,null,0,0,0,0,0,0,0,0,0,0,0]
[{"$f":"_xlfn.IFS(EDATE($A$9,12)=A115+1,\"-\",TRUE,A115+1)","v":"2025-04-18"},{"$f":"_xlfn.IFS(A116=\"-\",\"\",NOT(ISNUMBER(A117)),2,WEEKDAY(A116)=$H$3,1,TRUE,\"\")","v":""},{"$f":"_xlfn.IFS(A116=\"-\",\"\",$A$9=$A116,\"\",DAY($A$9)=DAY(A116+1),DATEDIF($A$9,A116+1,\"M\"),TRUE,\"\")","v":""},{"$f":"_xlfn.IFS(A116=\"-\",\"\",ISTEXT(D115),1,ISTEXT(B115),D115+1,TRUE,1)","v":6},{"$f":"_xlfn.IFS(A116=\"-\",\"\",ISTEXT(E115),1,TRUE,E115+1)","v":108},null,null,null,null,null,null,null,null,null,null,null,null,0,0,0,0,0,0,0,0,0,0,0]
[{"$f":"_xlfn.IFS(EDATE($A$9,12)=A116+1,\"-\",TRUE,A116+1)","v":"2025-04-19"},{"$f":"_xlfn.IFS(A117=\"-\",\"\",NOT(ISNUMBER(A118)),2,WEEKDAY(A117)=$H$3,1,TRUE,\"\")","v":1},{"$f":"_xlfn.IFS(A117=\"-\",\"\",$A$9=$A117,\"\",DAY($A$9)=DAY(A117+1),DATEDIF($A$9,A117+1,\"M\"),TRUE,\"\")","v":""},{"$f":"_xlfn.IFS(A117=\"-\",\"\",ISTEXT(D116),1,ISTEXT(B116),D116+1,TRUE,1)","v":7},{"$f":"_xlfn.IFS(A117=\"-\",\"\",ISTEXT(E116),1,TRUE,E116+1)","v":109},null,null,null,null,null,null,null,null,null,null,null,null,0,0,0,0,0,0,0,0,0,0,0]
[{"$f":"_xlfn.IFS(EDATE($A$9,12)=A117+1,\"-\",TRUE,A117+1)","v":"2025-04-20"},{"$f":"_xlfn.IFS(A118=\"-\",\"\",NOT(ISNUMBER(A119)),2,WEEKDAY(A118)=$H$3,1,TRUE,\"\")","v":""},{"$f":"_xlfn.IFS(A118=\"-\",\"\",$A$9=$A118,\"\",DAY($A$9)=DAY(A118+1),DATEDIF($A$9,A118+1,\"M\"),TRUE,\"\")","v":""},{"$f":"_xlfn.IFS(A118=\"-\",\"\",ISTEXT(D117),1,ISTEXT(B117),D117+1,TRUE,1)","v":1},{"$f":"_xlfn.IFS(A118=\"-\",\"\",ISTEXT(E117),1,TRUE,E117+1)","v":110},null,null,null,null,null,null,null,null,null,null,null,null,0,0,0,0,0,0,0,0,0,0,0]
[{"$f":"_xlfn.IFS(EDATE($A$9,12)=A118+1,\"-\",TRUE,A118+1)","v":"2025-04-21"},{"$f":"_xlfn.IFS(A119=\"-\",\"\",NOT(ISNUMBER(A120)),2,WEEKDAY(A119)=$H$3,1,TRUE,\"\")","v":""},{"$f":"_xlfn.IFS(A119=\"-\",\"\",$A$9=$A119,\"\",DAY($A$9)=DAY(A119+1),DATEDIF($A$9,A119+1,\"M\"),TRUE,\"\")","v":""},{"$f":"_xlfn.IFS(A119=\"-\",\"\",ISTEXT(D118),1,ISTEXT(B118),D118+1,TRUE,1)","v":2},{"$f":"_xlfn.IFS(A119=\"-\",\"\",ISTEXT(E118),1,TRUE,E118+1)","v":111},null,null,null,null,null,null,null,null,null,null,null,null,0,0,0,0,0,0,0,0,0,0,0]
[{"$f":"_xlfn.IFS(EDATE($A$9,12)=A119+1,\"-\",TRUE,A119+1)","v":"2025-04-22"},{"$f":"_xlfn.IFS(A120=\"-\",\"\",NOT(ISNUMBER(A121)),2,WEEKDAY(A120)=$H$3,1,TRUE,\"\")","v":""},{"$f":"_xlfn.IFS(A120=\"-\",\"\",$A$9=$A120,\"\",DAY($A$9)=DAY(A120+1),DATEDIF($A$9,A120+1,\"M\"),TRUE,\"\")","v":""},{"$f":"_xlfn.IFS(A120=\"-\",\"\",ISTEXT(D119),1,ISTEXT(B119),D119+1,TRUE,1)","v":3},{"$f":"_xlfn.IFS(A120=\"-\",\"\",ISTEXT(E119),1,TRUE,E119+1)","v":112},null,null,null,null,null,null,null,null,null,null,null,null,0,0,0,0,0,0,0,0,0,0,0]
[{"$f":"_xlfn.IFS(EDATE($A$9,12)=A120+1,\"-\",TRUE,A120+1)","v":"2025-04-23"},{"$f":"_xlfn.IFS(A121=\"-\",\"\",NOT(ISNUMBER(A122)),2,WEEKDAY(A121)=$H$3,1,TRUE,\"\")","v":""},{"$f":"_xlfn.IFS(A121=\"-\",\"\",$A$9=$A121,\"\",DAY($A$9)=DAY(A121+1),DATEDIF($A$9,A121+1,\"M\"),TRUE,\"\")","v":""},{"$f":"_xlfn.IFS(A121=\"-\",\"\",ISTEXT(D120),1,ISTEXT(B120),D120+1,TRUE,1)","v":4},{"$f":"_xlfn.IFS(A121=\"-\",\"\",ISTEXT(E120),1,TRUE,E120+1)","v":113},null,null,null,null,null,null,null,null,null,null,null,null,0,0,0,0,0,0,0,0,0,0,0]
[{"$f":"_xlfn.IFS(EDATE($A$9,12)=A121+1,\"-\",TRUE,A121+1)","v":"2025-04-24"},{"$f":"_xlfn.IFS(A122=\"-\",\"\",NOT(ISNUMBER(A123)),2,WEEKDAY(A122)=$H$3,1,TRUE,\"\")","v":""},{"$f":"_xlfn.IFS(A122=\"-\",\"\",$A$9=$A122,\"\",DAY($A$9)=DAY(A122+1),DATEDIF($A$9,A122+1,\"M\"),TRUE,\"\")","v":""},{"$f":"_xlfn.IFS(A122=\"-\",\"\",ISTEXT(D121),1,ISTEXT(B121),D121+1,TRUE,1)","v":5},{"$f":"_xlfn.IFS(A122=\"-\",\"\",ISTEXT(E121),1,TRUE,E121+1)","v":114},null,null,null,null,null,null,null,null,null,null,null,null,0,0,0,0,0,0,0,0,0,0,0]
[{"$f":"_xlfn.IFS(EDATE($A$9,12)=A122+1,\"-\",TRUE,A122+1)","v":"2025-04-25"},{"$f":"_xlfn.IFS(A123=\"-\",\"\",NOT(ISNUMBER(A124)),2,WEEKDAY(A123)=$H$3,1,TRUE,\"\")","v":""},{"$f":"_xlfn.IFS(A123=\"-\",\"\",$A$9=$A123,\"\",DAY($A$9)=DAY(A123+1),DATEDIF($A$9,A123+1,\"M\"),TRUE,\"\")","v":""},{"$f":"_xlfn.IFS(A123=\"-\",\"\",ISTEXT(D122),1,ISTEXT(B122),D122+1,TRUE,1)","v":6},{"$f":"_xlfn.IFS(A123=\"-\",\"\",ISTEXT(E122),1,TRUE,E122+1)","v":115},null,null,null,null,null,null,null,null,null,null,null,null,0,0,0,0,0,0,0,0,0,0,0]
[{"$f":"_xlfn.IFS(EDATE($A$9,12)=A123+1,\"-\",TRUE,A123+1)","v":"2025-04-26"},{"$f":"_xlfn.IFS(A124=\"-\",\"\",NOT(ISNUMBER(A125)),2,WEEKDAY(A124)=$H$3,1,TRUE,\"\")","v":1},{"$f":"_xlfn.IFS(A124=\"-\",\"\",$A$9=$A124,\"\",DAY($A$9)=DAY(A124+1),DATEDIF($A$9,A124+1,\"M\"),TRUE,\"\")","v":""},{"$f":"_xlfn.IFS(A124=\"-\",\"\",ISTEXT(D123),1,ISTEXT(B123),D123+1,TRUE,1)","v":7},{"$f":"_xlfn.IFS(A124=\"-\",\"\",ISTEXT(E123),1,TRUE,E123+1)","v":116},null,null,null,null,null,null,null,null,null,null,null,null,0,0,0,0,0,0,0,0,0,0,0]
[{"$f":"_xlfn.IFS(EDATE($A$9,12)=A124+1,\"-\",TRUE,A124+1)","v":"2025-04-27"},{"$f":"_xlfn.IFS(A125=\"-\",\"\",NOT(ISNUMBER(A126)),2,WEEKDAY(A125)=$H$3,1,TRUE,\"\")","v":""},{"$f":"_xlfn.IFS(A125=\"-\",\"\",$A$9=$A125,\"\",DAY($A$9)=DAY(A125+1),DATEDIF($A$9,A125+1,\"M\"),TRUE,\"\")","v":""},{"$f":"_xlfn.IFS(A125=\"-\",\"\",ISTEXT(D124),1,ISTEXT(B124),D124+1,TRUE,1)","v":1},{"$f":"_xlfn.IFS(A125=\"-\",\"\",ISTEXT(E124),1,TRUE,E124+1)","v":117},null,null,null,null,null,null,null,null,null,null,null,null,0,0,0,0,0,0,0,0,0,0,0]
[{"$f":"_xlfn.IFS(EDATE($A$9,12)=A125+1,\"-\",TRUE,A125+1)","v":"2025-04-28"},{"$f":"_xlfn.IFS(A126=\"-\",\"\",NOT(ISNUMBER(A127)),2,WEEKDAY(A126)=$H$3,1,TRUE,\"\")","v":""},{"$f":"_xlfn.IFS(A126=\"-\",\"\",$A$9=$A126,\"\",DAY($A$9)=DAY(A126+1),DATEDIF($A$9,A126+1,\"M\"),TRUE,\"\")","v":""},{"$f":"_xlfn.IFS(A126=\"-\",\"\",ISTEXT(D125),1,ISTEXT(B125),D125+1,TRUE,1)","v":2},{"$f":"_xlfn.IFS(A126=\"-\",\"\",ISTEXT(E125),1,TRUE,E125+1)","v":118},null,null,null,null,null,null,null,null,null,null,null,null,0,0,0,0,0,0,0,0,0,0,0]
[{"$f":"_xlfn.IFS(EDATE($A$9,12)=A126+1,\"-\",TRUE,A126+1)","v":"2025-04-29"},{"$f":"_xlfn.IFS(A127=\"-\",\"\",NOT(ISNUMBER(A128)),2,WEEKDAY(A127)=$H$3,1,TRUE,\"\")","v":""},{"$f":"_xlfn.IFS(A127=\"-\",\"\",$A$9=$A127,\"\",DAY($A$9)=DAY(A127+1),DATEDIF($A$9,A127+1,\"M\"),TRUE,\"\")","v":""},{"$f":"_xlfn.IFS(A127=\"-\",\"\",ISTEXT(D126),1,ISTEXT(B126),D126+1,TRUE,1)","v":3},{"$f":"_xlfn.IFS(A127=\"-\",\"\",ISTEXT(E126),1,TRUE,E126+1)","v":119},null,null,null,null,null,null,null,null,null,null,null,null,0,0,0,0,0,0,0,0,0,0,0]
[{"$f":"_xlfn.IFS(EDATE($A$9,12)=A127+1,\"-\",TRUE,A127+1)","v":"2025-04-30"},{"$f":"_xlfn.IFS(A128=\"-\",\"\",NOT(ISNUMBER(A129)),2,WEEKDAY(A128)=$H$3,1,TRUE,\"\")","v":""},{"$f":"_xlfn.IFS(A128=\"-\",\"\",$A$9=$A128,\"\",DAY($A$9)=DAY(A128+1),DATEDIF($A$9,A128+1,\"M\"),TRUE,\"\")","v":4},{"$f":"_xlfn.IFS(A128=\"-\",\"\",ISTEXT(D127),1,ISTEXT(B127),D127+1,TRUE,1)","v":4},{"$f":"_xlfn.IFS(A128=\"-\",\"\",ISTEXT(E127),1,TRUE,E127+1)","v":120},null,null,null,null,null,null,null,null,null,null,null,null,0,0,0,0,0,0,0,0,0,0,0]
[{"$f":"_xlfn.IFS(EDATE($A$9,12)=A128+1,\"-\",TRUE,A128+1)","v":"2025-05-01"},{"$f":"_xlfn.IFS(A129=\"-\",\"\",NOT(ISNUMBER(A130)),2,WEEKDAY(A129)=$H$3,1,TRUE,\"\")","v":""},{"$f":"_xlfn.IFS(A129=\"-\",\"\",$A$9=$A129,\"\",DAY($A$9)=DAY(A129+1),DATEDIF($A$9,A129+1,\"M\"),TRUE,\"\")","v":""},{"$f":"_xlfn.IFS(A129=\"-\",\"\",ISTEXT(D128),1,ISTEXT(B128),D128+1,TRUE,1)","v":5},{"$f":"_xlfn.IFS(A129=\"-\",\"\",ISTEXT(E128),1,TRUE,E128+1)","v":121},null,null,null,null,null,null,null,null,null,null,null,null,0,0,0,0,0,0,0,0,0,0,0]
[{"$f":"_xlfn.IFS(EDATE($A$9,12)=A129+1,\"-\",TRUE,A129+1)","v":"2025-05-02"},{"$f":"_xlfn.IFS(A130=\"-\",\"\",NOT(ISNUMBER(A131)),2,WEEKDAY(A130)=$H$3,1,TRUE,\"\")","v":""},{"$f":"_xlfn.IFS(A130=\"-\",\"\",$A$9=$A130,\"\",DAY($A$9)=DAY(A130+1),DATEDIF($A$9,A130+1,\"M\"),TRUE,\"\")","v":""},{"$f":"_xlfn.IFS(A130=\"-\",\"\",ISTEXT(D129),1,ISTEXT(B129),D129+1,TRUE,1)","v":6},{"$f":"_xlfn.IFS(A130=\"-\",\"\",ISTEXT(E129),1,TRUE,E129+1)","v":122},null,null,null,null,null,null,null,null,null,null,null,null,0,0,0,0,0,0,0,0,0,0,0]
[{"$f":"_xlfn.IFS(EDATE($A$9,12)=A130+1,\"-\",TRUE,A130+1)","v":"2025-05-03"},{"$f":"_xlfn.IFS(A131=\"-\",\"\",NOT(ISNUMBER(A132)),2,WEEKDAY(A131)=$H$3,1,TRUE,\"\")","v":1},{"$f":"_xlfn.IFS(A131=\"-\",\"\",$A$9=$A131,\"\",DAY($A$9)=DAY(A131+1),DATEDIF($A$9,A131+1,\"M\"),TRUE,\"\")","v":""},{"$f":"_xlfn.IFS(A131=\"-\",\"\",ISTEXT(D130),1,ISTEXT(B130),D130+1,TRUE,1)","v":7},{"$f":"_xlfn.IFS(A131=\"-\",\"\",ISTEXT(E130),1,TRUE,E130+1)","v":123},null,null,null,null,null,null,null,null,null,null,null,null,0,0,0,0,0,0,0,0,0,0,0]
[{"$f":"_xlfn.IFS(EDATE($A$9,12)=A131+1,\"-\",TRUE,A131+1)","v":"2025-05-04"},{"$f":"_xlfn.IFS(A132=\"-\",\"\",NOT(ISNUMBER(A133)),2,WEEKDAY(A132)=$H$3,1,TRUE,\"\")","v":""},{"$f":"_xlfn.IFS(A132=\"-\",\"\",$A$9=$A132,\"\",DAY($A$9)=DAY(A132+1),DATEDIF($A$9,A132+1,\"M\"),TRUE,\"\")","v":""},{"$f":"_xlfn.IFS(A132=\"-\",\"\",ISTEXT(D131),1,ISTEXT(B131),D131+1,TRUE,1)","v":1},{"$f":"_xlfn.IFS(A132=\"-\",\"\",ISTEXT(E131),1,TRUE,E131+1)","v":124},null,null,null,null,null,null,null,null,null,null,null,null,0,0,0,0,0,0,0,0,0,0,0]
[{"$f":"_xlfn.IFS(EDATE($A$9,12)=A132+1,\"-\",TRUE,A132+1)","v":"2025-05-05"},{"$f":"_xlfn.IFS(A133=\"-\",\"\",NOT(ISNUMBER(A134)),2,WEEKDAY(A133)=$H$3,1,TRUE,\"\")","v":""},{"$f":"_xlfn.IFS(A133=\"-\",\"\",$A$9=$A133,\"\",DAY($A$9)=DAY(A133+1),DATEDIF($A$9,A133+1,\"M\"),TRUE,\"\")","v":""},{"$f":"_xlfn.IFS(A133=\"-\",\"\",ISTEXT(D132),1,ISTEXT(B132),D132+1,TRUE,1)","v":2},{"$f":"_xlfn.IFS(A133=\"-\",\"\",ISTEXT(E132),1,TRUE,E132+1)","v":125},null,null,null,null,null,null,null,null,null,null,null,null,0,0,0,0,0,0,0,0,0,0,0]
[{"$f":"_xlfn.IFS(EDATE($A$9,12)=A133+1,\"-\",TRUE,A133+1)","v":"2025-05-06"},{"$f":"_xlfn.IFS(A134=\"-\",\"\",NOT(ISNUMBER(A135)),2,WEEKDAY(A134)=$H$3,1,TRUE,\"\")","v":""},{"$f":"_xlfn.IFS(A134=\"-\",\"\",$A$9=$A134,\"\",DAY($A$9)=DAY(A134+1),DATEDIF($A$9,A134+1,\"M\"),TRUE,\"\")","v":""},{"$f":"_xlfn.IFS(A134=\"-\",\"\",ISTEXT(D133),1,ISTEXT(B133),D133+1,TRUE,1)","v":3},{"$f":"_xlfn.IFS(A134=\"-\",\"\",ISTEXT(E133),1,TRUE,E133+1)","v":126},null,null,null,null,null,null,null,null,null,null,null,null,0,0,0,0,0,0,0,0,0,0,0]
[{"$f":"_xlfn.IFS(EDATE($A$9,12)=A134+1,\"-\",TRUE,A134+1)","v":"2025-05-07"},{"$f":"_xlfn.IFS(A135=\"-\",\"\",NOT(ISNUMBER(A136)),2,WEEKDAY(A135)=$H$3,1,TRUE,\"\")","v":""},{"$f":"_xlfn.IFS(A135=\"-\",\"\",$A$9=$A135,\"\",DAY($A$9)=DAY(A135+1),DATEDIF($A$9,A135+1,\"M\"),TRUE,\"\")","v":""},{"$f":"_xlfn.IFS(A135=\"-\",\"\",ISTEXT(D134),1,ISTEXT(B134),D134+1,TRUE,1)","v":4},{"$f":"_xlfn.IFS(A135=\"-\",\"\",ISTEXT(E134),1,TRUE,E134+1)","v":127},null,null,null,null,null,null,null,null,null,null,null,null,0,0,0,0,0,0,0,0,0,0,0]
[{"$f":"_xlfn.IFS(EDATE($A$9,12)=A135+1,\"-\",TRUE,A135+1)","v":"2025-05-08"},{"$f":"_xlfn.IFS(A136=\"-\",\"\",NOT(ISNUMBER(A137)),2,WEEKDAY(A136)=$H$3,1,TRUE,\"\")","v":""},{"$f":"_xlfn.IFS(A136=\"-\",\"\",$A$9=$A136,\"\",DAY($A$9)=DAY(A136+1),DATEDIF($A$9,A136+1,\"M\"),TRUE,\"\")","v":""},{"$f":"_xlfn.IFS(A136=\"-\",\"\",ISTEXT(D135),1,ISTEXT(B135),D135+1,TRUE,1)","v":5},{"$f":"_xlfn.IFS(A136=\"-\",\"\",ISTEXT(E135),1,TRUE,E135+1)","v":128},null,null,null,null,null,null,null,null,null,null,null,null,0,0,0,0,0,0,0,0,0,0,0]
[{"$f":"_xlfn.IFS(EDATE($A$9,12)=A136+1,\"-\",TRUE,A136+1)","v":"2025-05-09"},{"$f":"_xlfn.IFS(A137=\"-\",\"\",NOT(ISNUMBER(A138)),2,WEEKDAY(A137)=$H$3,1,TRUE,\"\")","v":""},{"$f":"_xlfn.IFS(A137=\"-\",\"\",$A$9=$A137,\"\",DAY($A$9)=DAY(A137+1),DATEDIF($A$9,A137+1,\"M\"),TRUE,\"\")","v":""},{"$f":"_xlfn.IFS(A137=\"-\",\"\",ISTEXT(D136),1,ISTEXT(B136),D136+1,TRUE,1)","v":6},{"$f":"_xlfn.IFS(A137=\"-\",\"\",ISTEXT(E136),1,TRUE,E136+1)","v":129},null,null,null,null,null,null,null,null,null,null,null,null,0,0,0,0,0,0,0,0,0,0,0]
[{"$f":"_xlfn.IFS(EDATE($A$9,12)=A137+1,\"-\",TRUE,A137+1)","v":"2025-05-10"},{"$f":"_xlfn.IFS(A138=\"-\",\"\",NOT(ISNUMBER(A139)),2,WEEKDAY(A138)=$H$3,1,TRUE,\"\")","v":1},{"$f":"_xlfn.IFS(A138=\"-\",\"\",$A$9=$A138,\"\",DAY($A$9)=DAY(A138+1),DATEDIF($A$9,A138+1,\"M\"),TRUE,\"\")","v":""},{"$f":"_xlfn.IFS(A138=\"-\",\"\",ISTEXT(D137),1,ISTEXT(B137),D137+1,TRUE,1)","v":7},{"$f":"_xlfn.IFS(A138=\"-\",\"\",ISTEXT(E137),1,TRUE,E137+1)","v":130},null,null,null,null,null,null,null,null,null,null,null,null,0,0,0,0,0,0,0,0,0,0,0]
[{"$f":"_xlfn.IFS(EDATE($A$9,12)=A138+1,\"-\",TRUE,A138+1)","v":"2025-05-11"},{"$f":"_xlfn.IFS(A139=\"-\",\"\",NOT(ISNUMBER(A140)),2,WEEKDAY(A139)=$H$3,1,TRUE,\"\")","v":""},{"$f":"_xlfn.IFS(A139=\"-\",\"\",$A$9=$A139,\"\",DAY($A$9)=DAY(A139+1),DATEDIF($A$9,A139+1,\"M\"),TRUE,\"\")","v":""},{"$f":"_xlfn.IFS(A139=\"-\",\"\",ISTEXT(D138),1,ISTEXT(B138),D138+1,TRUE,1)","v":1},{"$f":"_xlfn.IFS(A139=\"-\",\"\",ISTEXT(E138),1,TRUE,E138+1)","v":131},null,null,null,null,null,null,null,null,null,null,null,null,0,0,0,0,0,0,0,0,0,0,0]
[{"$f":"_xlfn.IFS(EDATE($A$9,12)=A139+1,\"-\",TRUE,A139+1)","v":"2025-05-12"},{"$f":"_xlfn.IFS(A140=\"-\",\"\",NOT(ISNUMBER(A141)),2,WEEKDAY(A140)=$H$3,1,TRUE,\"\")","v":""},{"$f":"_xlfn.IFS(A140=\"-\",\"\",$A$9=$A140,\"\",DAY($A$9)=DAY(A140+1),DATEDIF($A$9,A140+1,\"M\"),TRUE,\"\")","v":""},{"$f":"_xlfn.IFS(A140=\"-\",\"\",ISTEXT(D139),1,ISTEXT(B139),D139+1,TRUE,1)","v":2},{"$f":"_xlfn.IFS(A140=\"-\",\"\",ISTEXT(E139),1,TRUE,E139+1)","v":132},null,null,null,null,null,null,null,null,null,null,null,null,0,0,0,0,0,0,0,0,0,0,0]
[{"$f":"_xlfn.IFS(EDATE($A$9,12)=A140+1,\"-\",TRUE,A140+1)","v":"2025-05-13"},{"$f":"_xlfn.IFS(A141=\"-\",\"\",NOT(ISNUMBER(A142)),2,WEEKDAY(A141)=$H$3,1,TRUE,\"\")","v":""},{"$f":"_xlfn.IFS(A141=\"-\",\"\",$A$9=$A141,\"\",DAY($A$9)=DAY(A141+1),DATEDIF($A$9,A141+1,\"M\"),TRUE,\"\")","v":""},{"$f":"_xlfn.IFS(A141=\"-\",\"\",ISTEXT(D140),1,ISTEXT(B140),D140+1,TRUE,1)","v":3},{"$f":"_xlfn.IFS(A141=\"-\",\"\",ISTEXT(E140),1,TRUE,E140+1)","v":133},null,null,null,null,null,null,null,null,null,null,null,null,0,0,0,0,0,0,0,0,0,0,0]
[{"$f":"_xlfn.IFS(EDATE($A$9,12)=A141+1,\"-\",TRUE,A141+1)","v":"2025-05-14"},{"$f":"_xlfn.IFS(A142=\"-\",\"\",NOT(ISNUMBER(A143)),2,WEEKDAY(A142)=$H$3,1,TRUE,\"\")","v":""},{"$f":"_xlfn.IFS(A142=\"-\",\"\",$A$9=$A142,\"\",DAY($A$9)=DAY(A142+1),DATEDIF($A$9,A142+1,\"M\"),TRUE,\"\")","v":""},{"$f":"_xlfn.IFS(A142=\"-\",\"\",ISTEXT(D141),1,ISTEXT(B141),D141+1,TRUE,1)","v":4},{"$f":"_xlfn.IFS(A142=\"-\",\"\",ISTEXT(E141),1,TRUE,E141+1)","v":134},null,null,null,null,null,null,null,null,null,null,null,null,{"$f":"K142-J142-SUM(L142:P142)","v":0},0,0,0,0,0,0,0,0,0,0]
[{"$f":"_xlfn.IFS(EDATE($A$9,12)=A142+1,\"-\",TRUE,A142+1)","v":"2025-05-15"},{"$f":"_xlfn.IFS(A143=\"-\",\"\",NOT(ISNUMBER(A144)),2,WEEKDAY(A143)=$H$3,1,TRUE,\"\")","v":""},{"$f":"_xlfn.IFS(A143=\"-\",\"\",$A$9=$A143,\"\",DAY($A$9)=DAY(A143+1),DATEDIF($A$9,A143+1,\"M\"),TRUE,\"\")","v":""},{"$f":"_xlfn.IFS(A143=\"-\",\"\",ISTEXT(D142),1,ISTEXT(B142),D142+1,TRUE,1)","v":5},{"$f":"_xlfn.IFS(A143=\"-\",\"\",ISTEXT(E142),1,TRUE,E142+1)","v":135},null,null,null,null,null,null,null,null,null,null,null,null,0,0,0,0,0,0,0,0,0,0,0]
[{"$f":"_xlfn.IFS(EDATE($A$9,12)=A143+1,\"-\",TRUE,A143+1)","v":"2025-05-16"},{"$f":"_xlfn.IFS(A144=\"-\",\"\",NOT(ISNUMBER(A145)),2,WEEKDAY(A144)=$H$3,1,TRUE,\"\")","v":""},{"$f":"_xlfn.IFS(A144=\"-\",\"\",$A$9=$A144,\"\",DAY($A$9)=DAY(A144+1),DATEDIF($A$9,A144+1,\"M\"),TRUE,\"\")","v":""},{"$f":"_xlfn.IFS(A144=\"-\",\"\",ISTEXT(D143),1,ISTEXT(B143),D143+1,TRUE,1)","v":6},{"$f":"_xlfn.IFS(A144=\"-\",\"\",ISTEXT(E143),1,TRUE,E143+1)","v":136},null,null,null,null,null,null,null,null,null,null,null,null,0,0,0,0,0,0,0,0,0,0,0]
[{"$f":"_xlfn.IFS(EDATE($A$9,12)=A144+1,\"-\",TRUE,A144+1)","v":"2025-05-17"},{"$f":"_xlfn.IFS(A145=\"-\",\"\",NOT(ISNUMBER(A146)),2,WEEKDAY(A145)=$H$3,1,TRUE,\"\")","v":1},{"$f":"_xlfn.IFS(A145=\"-\",\"\",$A$9=$A145,\"\",DAY($A$9)=DAY(A145+1),DATEDIF($A$9,A145+1,\"M\"),TRUE,\"\")","v":""},{"$f":"_xlfn.IFS(A145=\"-\",\"\",ISTEXT(D144),1,ISTEXT(B144),D144+1,TRUE,1)","v":7},{"$f":"_xlfn.IFS(A145=\"-\",\"\",ISTEXT(E144),1,TRUE,E144+1)","v":137},null,null,null,null,null,null,null,null,null,null,null,null,0,0,0,0,0,0,0,0,0,0,0]
[{"$f":"_xlfn.IFS(EDATE($A$9,12)=A145+1,\"-\",TRUE,A145+1)","v":"2025-05-18"},{"$f":"_xlfn.IFS(A146=\"-\",\"\",NOT(ISNUMBER(A147)),2,WEEKDAY(A146)=$H$3,1,TRUE,\"\")","v":""},{"$f":"_xlfn.IFS(A146=\"-\",\"\",$A$9=$A146,\"\",DAY($A$9)=DAY(A146+1),DATEDIF($A$9,A146+1,\"M\"),TRUE,\"\")","v":""},{"$f":"_xlfn.IFS(A146=\"-\",\"\",ISTEXT(D145),1,ISTEXT(B145),D145+1,TRUE,1)","v":1},{"$f":"_xlfn.IFS(A146=\"-\",\"\",ISTEXT(E145),1,TRUE,E145+1)","v":138},null,null,null,null,null,null,null,null,null,null,null,null,0,0,0,0,0,0,0,0,0,0,0]
[{"$f":"_xlfn.IFS(EDATE($A$9,12)=A146+1,\"-\",TRUE,A146+1)","v":"2025-05-19"},{"$f":"_xlfn.IFS(A147=\"-\",\"\",NOT(ISNUMBER(A148)),2,WEEKDAY(A147)=$H$3,1,TRUE,\"\")","v":""},{"$f":"_xlfn.IFS(A147=\"-\",\"\",$A$9=$A147,\"\",DAY($A$9)=DAY(A147+1),DATEDIF($A$9,A147+1,\"M\"),TRUE,\"\")","v":""},{"$f":"_xlfn.IFS(A147=\"-\",\"\",ISTEXT(D146),1,ISTEXT(B146),D146+1,TRUE,1)","v":2},{"$f":"_xlfn.IFS(A147=\"-\",\"\",ISTEXT(E146),1,TRUE,E146+1)","v":139},null,null,null,null,null,null,null,null,null,null,null,null,0,0,0,0,0,0,0,0,0,0,0]
[{"$f":"_xlfn.IFS(EDATE($A$9,12)=A147+1,\"-\",TRUE,A147+1)","v":"2025-05-20"},{"$f":"_xlfn.IFS(A148=\"-\",\"\",NOT(ISNUMBER(A149)),2,WEEKDAY(A148)=$H$3,1,TRUE,\"\")","v":""},{"$f":"_xlfn.IFS(A148=\"-\",\"\",$A$9=$A148,\"\",DAY($A$9)=DAY(A148+1),DATEDIF($A$9,A148+1,\"M\"),TRUE,\"\")","v":""},{"$f":"_xlfn.IFS(A148=\"-\",\"\",ISTEXT(D147),1,ISTEXT(B147),D147+1,TRUE,1)","v":3},{"$f":"_xlfn.IFS(A148=\"-\",\"\",ISTEXT(E147),1,TRUE,E147+1)","v":140},null,null,null,null,null,null,null,null,null,null,null,null,0,0,0,0,0,0,0,0,0,0,0]
[{"$f":"_xlfn.IFS(EDATE($A$9,12)=A148+1,\"-\",TRUE,A148+1)","v":"2025-05-21"},{"$f":"_xlfn.IFS(A149=\"-\",\"\",NOT(ISNUMBER(A150)),2,WEEKDAY(A149)=$H$3,1,TRUE,\"\")","v":""},{"$f":"_xlfn.IFS(A149=\"-\",\"\",$A$9=$A149,\"\",DAY($A$9)=DAY(A149+1),DATEDIF($A$9,A149+1,\"M\"),TRUE,\"\")","v":""},{"$f":"_xlfn.IFS(A149=\"-\",\"\",ISTEXT(D148),1,ISTEXT(B148),D148+1,TRUE,1)","v":4},{"$f":"_xlfn.IFS(A149=\"-\",\"\",ISTEXT(E148),1,TRUE,E148+1)","v":141},null,null,null,null,null,null,null,null,null,null,null,null,0,0,0,0,0,0,0,0,0,0,0]
[{"$f":"_xlfn.IFS(EDATE($A$9,12)=A149+1,\"-\",TRUE,A149+1)","v":"2025-05-22"},{"$f":"_xlfn.IFS(A150=\"-\",\"\",NOT(ISNUMBER(A151)),2,WEEKDAY(A150)=$H$3,1,TRUE,\"\")","v":""},{"$f":"_xlfn.IFS(A150=\"-\",\"\",$A$9=$A150,\"\",DAY($A$9)=DAY(A150+1),DATEDIF($A$9,A150+1,\"M\"),TRUE,\"\")","v":""},{"$f":"_xlfn.IFS(A150=\"-\",\"\",ISTEXT(D149),1,ISTEXT(B149),D149+1,TRUE,1)","v":5},{"$f":"_xlfn.IFS(A150=\"-\",\"\",ISTEXT(E149),1,TRUE,E149+1)","v":142},null,null,null,null,null,null,null,null,null,null,null,null,0,0,0,0,0,0,0,0,0,0,0]
[{"$f":"_xlfn.IFS(EDATE($A$9,12)=A150+1,\"-\",TRUE,A150+1)","v":"2025-05-23"},{"$f":"_xlfn.IFS(A151=\"-\",\"\",NOT(ISNUMBER(A152)),2,WEEKDAY(A151)=$H$3,1,TRUE,\"\")","v":""},{"$f":"_xlfn.IFS(A151=\"-\",\"\",$A$9=$A151,\"\",DAY($A$9)=DAY(A151+1),DATEDIF($A$9,A151+1,\"M\"),TRUE,\"\")","v":""},{"$f":"_xlfn.IFS(A151=\"-\",\"\",ISTEXT(D150),1,ISTEXT(B150),D150+1,TRUE,1)","v":6},{"$f":"_xlfn.IFS(A151=\"-\",\"\",ISTEXT(E150),1,TRUE,E150+1)","v":143},null,null,null,null,null,null,null,null,null,null,null,null,0,0,0,0,0,0,0,0,0,0,0]
[{"$f":"_xlfn.IFS(EDATE($A$9,12)=A151+1,\"-\",TRUE,A151+1)","v":"2025-05-24"},{"$f":"_xlfn.IFS(A152=\"-\",\"\",NOT(ISNUMBER(A153)),2,WEEKDAY(A152)=$H$3,1,TRUE,\"\")","v":1},{"$f":"_xlfn.IFS(A152=\"-\",\"\",$A$9=$A152,\"\",DAY($A$9)=DAY(A152+1),DATEDIF($A$9,A152+1,\"M\"),TRUE,\"\")","v":""},{"$f":"_xlfn.IFS(A152=\"-\",\"\",ISTEXT(D151),1,ISTEXT(B151),D151+1,TRUE,1)","v":7},{"$f":"_xlfn.IFS(A152=\"-\",\"\",ISTEXT(E151),1,TRUE,E151+1)","v":144},null,null,null,null,null,null,null,null,null,null,null,null,0,0,0,0,0,0,0,0,0,0,0]
[{"$f":"_xlfn.IFS(EDATE($A$9,12)=A152+1,\"-\",TRUE,A152+1)","v":"2025-05-25"},{"$f":"_xlfn.IFS(A153=\"-\",\"\",NOT(ISNUMBER(A154)),2,WEEKDAY(A153)=$H$3,1,TRUE,\"\")","v":""},{"$f":"_xlfn.IFS(A153=\"-\",\"\",$A$9=$A153,\"\",DAY($A$9)=DAY(A153+1),DATEDIF($A$9,A153+1,\"M\"),TRUE,\"\")","v":""},{"$f":"_xlfn.IFS(A153=\"-\",\"\",ISTEXT(D152),1,ISTEXT(B152),D152+1,TRUE,1)","v":1},{"$f":"_xlfn.IFS(A153=\"-\",\"\",ISTEXT(E152),1,TRUE,E152+1)","v":145},null,null,null,null,null,null,null,null,null,null,null,null,0,0,0,0,0,0,0,0,0,0,0]
[{"$f":"_xlfn.IFS(EDATE($A$9,12)=A153+1,\"-\",TRUE,A153+1)","v":"2025-05-26"},{"$f":"_xlfn.IFS(A154=\"-\",\"\",NOT(ISNUMBER(A155)),2,WEEKDAY(A154)=$H$3,1,TRUE,\"\")","v":""},{"$f":"_xlfn.IFS(A154=\"-\",\"\",$A$9=$A154,\"\",DAY($A$9)=DAY(A154+1),DATEDIF($A$9,A154+1,\"M\"),TRUE,\"\")","v":""},{"$f":"_xlfn.IFS(A154=\"-\",\"\",ISTEXT(D153),1,ISTEXT(B153),D153+1,TRUE,1)","v":2},{"$f":"_xlfn.IFS(A154=\"-\",\"\",ISTEXT(E153),1,TRUE,E153+1)","v":146},null,null,null,null,null,null,null,null,null,null,null,null,0,0,0,0,0,0,0,0,0,0,0]
[{"$f":"_xlfn.IFS(EDATE($A$9,12)=A154+1,\"-\",TRUE,A154+1)","v":"2025-05-27"},{"$f":"_xlfn.IFS(A155=\"-\",\"\",NOT(ISNUMBER(A156)),2,WEEKDAY(A155)=$H$3,1,TRUE,\"\")","v":""},{"$f":"_xlfn.IFS(A155=\"-\",\"\",$A$9=$A155,\"\",DAY($A$9)=DAY(A155+1),DATEDIF($A$9,A155+1,\"M\"),TRUE,\"\")","v":""},{"$f":"_xlfn.IFS(A155=\"-\",\"\",ISTEXT(D154),1,ISTEXT(B154),D154+1,TRUE,1)","v":3},{"$f":"_xlfn.IFS(A155=\"-\",\"\",ISTEXT(E154),1,TRUE,E154+1)","v":147},null,null,null,null,null,null,null,null,null,null,null,null,0,0,0,0,0,0,0,0,0,0,0]
[{"$f":"_xlfn.IFS(EDATE($A$9,12)=A155+1,\"-\",TRUE,A155+1)","v":"2025-05-28"},{"$f":"_xlfn.IFS(A156=\"-\",\"\",NOT(ISNUMBER(A157)),2,WEEKDAY(A156)=$H$3,1,TRUE,\"\")","v":""},{"$f":"_xlfn.IFS(A156=\"-\",\"\",$A$9=$A156,\"\",DAY($A$9)=DAY(A156+1),DATEDIF($A$9,A156+1,\"M\"),TRUE,\"\")","v":""},{"$f":"_xlfn.IFS(A156=\"-\",\"\",ISTEXT(D155),1,ISTEXT(B155),D155+1,TRUE,1)","v":4},{"$f":"_xlfn.IFS(A156=\"-\",\"\",ISTEXT(E155),1,TRUE,E155+1)","v":148},null,null,null,null,null,null,null,null,null,null,null,null,0,0,0,0,0,0,0,0,0,0,0]
[{"$f":"_xlfn.IFS(EDATE($A$9,12)=A156+1,\"-\",TRUE,A156+1)","v":"2025-05-29"},{"$f":"_xlfn.IFS(A157=\"-\",\"\",NOT(ISNUMBER(A158)),2,WEEKDAY(A157)=$H$3,1,TRUE,\"\")","v":""},{"$f":"_xlfn.IFS(A157=\"-\",\"\",$A$9=$A157,\"\",DAY($A$9)=DAY(A157+1),DATEDIF($A$9,A157+1,\"M\"),TRUE,\"\")","v":""},{"$f":"_xlfn.IFS(A157=\"-\",\"\",ISTEXT(D156),1,ISTEXT(B156),D156+1,TRUE,1)","v":5},{"$f":"_xlfn.IFS(A157=\"-\",\"\",ISTEXT(E156),1,TRUE,E156+1)","v":149},null,null,null,null,null,null,null,null,null,null,null,null,0,0,0,0,0,0,0,0,0,0,0]
[{"$f":"_xlfn.IFS(EDATE($A$9,12)=A157+1,\"-\",TRUE,A157+1)","v":"2025-05-30"},{"$f":"_xlfn.IFS(A158=\"-\",\"\",NOT(ISNUMBER(A159)),2,WEEKDAY(A158)=$H$3,1,TRUE,\"\")","v":""},{"$f":"_xlfn.IFS(A158=\"-\",\"\",$A$9=$A158,\"\",DAY($A$9)=DAY(A158+1),DATEDIF($A$9,A158+1,\"M\"),TRUE,\"\")","v":""},{"$f":"_xlfn.IFS(A158=\"-\",\"\",ISTEXT(D157),1,ISTEXT(B157),D157+1,TRUE,1)","v":6},{"$f":"_xlfn.IFS(A158=\"-\",\"\",ISTEXT(E157),1,TRUE,E157+1)","v":150},null,null,null,null,null,null,null,null,null,null,null,null,0,0,0,0,0,0,0,0,0,0,0]
[{"$f":"_xlfn.IFS(EDATE($A$9,12)=A158+1,\"-\",TRUE,A158+1)","v":"2025-05-31"},{"$f":"_xlfn.IFS(A159=\"-\",\"\",NOT(ISNUMBER(A160)),2,WEEKDAY(A159)=$H$3,1,TRUE,\"\")","v":1},{"$f":"_xlfn.IFS(A159=\"-\",\"\",$A$9=$A159,\"\",DAY($A$9)=DAY(A159+1),DATEDIF($A$9,A159+1,\"M\"),TRUE,\"\")","v":5},{"$f":"_xlfn.IFS(A159=\"-\",\"\",ISTEXT(D158),1,ISTEXT(B158),D158+1,TRUE,1)","v":7},{"$f":"_xlfn.IFS(A159=\"-\",\"\",ISTEXT(E158),1,TRUE,E158+1)","v":151},null,null,null,null,null,null,null,null,null,null,null,null,0,0,0,0,0,0,0,0,0,0,0]
[{"$f":"_xlfn.IFS(EDATE($A$9,12)=A159+1,\"-\",TRUE,A159+1)","v":"2025-06-01"},{"$f":"_xlfn.IFS(A160=\"-\",\"\",NOT(ISNUMBER(A161)),2,WEEKDAY(A160)=$H$3,1,TRUE,\"\")","v":""},{"$f":"_xlfn.IFS(A160=\"-\",\"\",$A$9=$A160,\"\",DAY($A$9)=DAY(A160+1),DATEDIF($A$9,A160+1,\"M\"),TRUE,\"\")","v":""},{"$f":"_xlfn.IFS(A160=\"-\",\"\",ISTEXT(D159),1,ISTEXT(B159),D159+1,TRUE,1)","v":1},{"$f":"_xlfn.IFS(A160=\"-\",\"\",ISTEXT(E159),1,TRUE,E159+1)","v":152},null,null,null,null,null,null,null,null,null,null,null,null,0,0,0,0,0,0,0,0,0,0,0]
[{"$f":"_xlfn.IFS(EDATE($A$9,12)=A160+1,\"-\",TRUE,A160+1)","v":"2025-06-02"},{"$f":"_xlfn.IFS(A161=\"-\",\"\",NOT(ISNUMBER(A162)),2,WEEKDAY(A161)=$H$3,1,TRUE,\"\")","v":""},{"$f":"_xlfn.IFS(A161=\"-\",\"\",$A$9=$A161,\"\",DAY($A$9)=DAY(A161+1),DATEDIF($A$9,A161+1,\"M\"),TRUE,\"\")","v":""},{"$f":"_xlfn.IFS(A161=\"-\",\"\",ISTEXT(D160),1,ISTEXT(B160),D160+1,TRUE,1)","v":2},{"$f":"_xlfn.IFS(A161=\"-\",\"\",ISTEXT(E160),1,TRUE,E160+1)","v":153},null,null,null,null,null,null,null,null,null,null,null,null,0,0,0,0,0,0,0,0,0,0,0]
[{"$f":"_xlfn.IFS(EDATE($A$9,12)=A161+1,\"-\",TRUE,A161+1)","v":"2025-06-03"},{"$f":"_xlfn.IFS(A162=\"-\",\"\",NOT(ISNUMBER(A163)),2,WEEKDAY(A162)=$H$3,1,TRUE,\"\")","v":""},{"$f":"_xlfn.IFS(A162=\"-\",\"\",$A$9=$A162,\"\",DAY($A$9)=DAY(A162+1),DATEDIF($A$9,A162+1,\"M\"),TRUE,\"\")","v":""},{"$f":"_xlfn.IFS(A162=\"-\",\"\",ISTEXT(D161),1,ISTEXT(B161),D161+1,TRUE,1)","v":3},{"$f":"_xlfn.IFS(A162=\"-\",\"\",ISTEXT(E161),1,TRUE,E161+1)","v":154},null,null,null,null,null,null,null,null,null,null,null,null,0,0,0,0,0,0,0,0,0,0,0]
[{"$f":"_xlfn.IFS(EDATE($A$9,12)=A162+1,\"-\",TRUE,A162+1)","v":"2025-06-04"},{"$f":"_xlfn.IFS(A163=\"-\",\"\",NOT(ISNUMBER(A164)),2,WEEKDAY(A163)=$H$3,1,TRUE,\"\")","v":""},{"$f":"_xlfn.IFS(A163=\"-\",\"\",$A$9=$A163,\"\",DAY($A$9)=DAY(A163+1),DATEDIF($A$9,A163+1,\"M\"),TRUE,\"\")","v":""},{"$f":"_xlfn.IFS(A163=\"-\",\"\",ISTEXT(D162),1,ISTEXT(B162),D162+1,TRUE,1)","v":4},{"$f":"_xlfn.IFS(A163=\"-\",\"\",ISTEXT(E162),1,TRUE,E162+1)","v":155},null,null,null,null,null,null,null,null,null,null,null,null,0,0,0,0,0,0,0,0,0,0,0]
[{"$f":"_xlfn.IFS(EDATE($A$9,12)=A163+1,\"-\",TRUE,A163+1)","v":"2025-06-05"},{"$f":"_xlfn.IFS(A164=\"-\",\"\",NOT(ISNUMBER(A165)),2,WEEKDAY(A164)=$H$3,1,TRUE,\"\")","v":""},{"$f":"_xlfn.IFS(A164=\"-\",\"\",$A$9=$A164,\"\",DAY($A$9)=DAY(A164+1),DATEDIF($A$9,A164+1,\"M\"),TRUE,\"\")","v":""},{"$f":"_xlfn.IFS(A164=\"-\",\"\",ISTEXT(D163),1,ISTEXT(B163),D163+1,TRUE,1)","v":5},{"$f":"_xlfn.IFS(A164=\"-\",\"\",ISTEXT(E163),1,TRUE,E163+1)","v":156},null,null,null,null,null,null,null,null,null,null,null,null,0,0,0,0,0,0,0,0,0,0,0]
[{"$f":"_xlfn.IFS(EDATE($A$9,12)=A164+1,\"-\",TRUE,A164+1)","v":"2025-06-06"},{"$f":"_xlfn.IFS(A165=\"-\",\"\",NOT(ISNUMBER(A166)),2,WEEKDAY(A165)=$H$3,1,TRUE,\"\")","v":""},{"$f":"_xlfn.IFS(A165=\"-\",\"\",$A$9=$A165,\"\",DAY($A$9)=DAY(A165+1),DATEDIF($A$9,A165+1,\"M\"),TRUE,\"\")","v":""},{"$f":"_xlfn.IFS(A165=\"-\",\"\",ISTEXT(D164),1,ISTEXT(B164),D164+1,TRUE,1)","v":6},{"$f":"_xlfn.IFS(A165=\"-\",\"\",ISTEXT(E164),1,TRUE,E164+1)","v":157},null,null,null,null,null,null,null,null,null,null,null,null,0,0,0,0,0,0,0,0,0,0,0]
[{"$f":"_xlfn.IFS(EDATE($A$9,12)=A165+1,\"-\",TRUE,A165+1)","v":"2025-06-07"},{"$f":"_xlfn.IFS(A166=\"-\",\"\",NOT(ISNUMBER(A167)),2,WEEKDAY(A166)=$H$3,1,TRUE,\"\")","v":1},{"$f":"_xlfn.IFS(A166=\"-\",\"\",$A$9=$A166,\"\",DAY($A$9)=DAY(A166+1),DATEDIF($A$9,A166+1,\"M\"),TRUE,\"\")","v":""},{"$f":"_xlfn.IFS(A166=\"-\",\"\",ISTEXT(D165),1,ISTEXT(B165),D165+1,TRUE,1)","v":7},{"$f":"_xlfn.IFS(A166=\"-\",\"\",ISTEXT(E165),1,TRUE,E165+1)","v":158},null,null,null,null,null,null,null,null,null,null,null,null,0,0,0,0,0,0,0,0,0,0,0]
[{"$f":"_xlfn.IFS(EDATE($A$9,12)=A166+1,\"-\",TRUE,A166+1)","v":"2025-06-08"},{"$f":"_xlfn.IFS(A167=\"-\",\"\",NOT(ISNUMBER(A168)),2,WEEKDAY(A167)=$H$3,1,TRUE,\"\")","v":""},{"$f":"_xlfn.IFS(A167=\"-\",\"\",$A$9=$A167,\"\",DAY($A$9)=DAY(A167+1),DATEDIF($A$9,A167+1,\"M\"),TRUE,\"\")","v":""},{"$f":"_xlfn.IFS(A167=\"-\",\"\",ISTEXT(D166),1,ISTEXT(B166),D166+1,TRUE,1)","v":1},{"$f":"_xlfn.IFS(A167=\"-\",\"\",ISTEXT(E166),1,TRUE,E166+1)","v":159},null,null,null,null,null,null,null,null,null,null,null,null,0,0,0,0,0,0,0,0,0,0,0]
[{"$f":"_xlfn.IFS(EDATE($A$9,12)=A167+1,\"-\",TRUE,A167+1)","v":"2025-06-09"},{"$f":"_xlfn.IFS(A168=\"-\",\"\",NOT(ISNUMBER(A169)),2,WEEKDAY(A168)=$H$3,1,TRUE,\"\")","v":""},{"$f":"_xlfn.IFS(A168=\"-\",\"\",$A$9=$A168,\"\",DAY($A$9)=DAY(A168+1),DATEDIF($A$9,A168+1,\"M\"),TRUE,\"\")","v":""},{"$f":"_xlfn.IFS(A168=\"-\",\"\",ISTEXT(D167),1,ISTEXT(B167),D167+1,TRUE,1)","v":2},{"$f":"_xlfn.IFS(A168=\"-\",\"\",ISTEXT(E167),1,TRUE,E167+1)","v":160},null,null,null,null,null,null,null,null,null,null,null,null,0,0,0,0,0,0,0,0,0,0,0]
[{"$f":"_xlfn.IFS(EDATE($A$9,12)=A168+1,\"-\",TRUE,A168+1)","v":"2025-06-10"},{"$f":"_xlfn.IFS(A169=\"-\",\"\",NOT(ISNUMBER(A170)),2,WEEKDAY(A169)=$H$3,1,TRUE,\"\")","v":""},{"$f":"_xlfn.IFS(A169=\"-\",\"\",$A$9=$A169,\"\",DAY($A$9)=DAY(A169+1),DATEDIF($A$9,A169+1,\"M\"),TRUE,\"\")","v":""},{"$f":"_xlfn.IFS(A169=\"-\",\"\",ISTEXT(D168),1,ISTEXT(B168),D168+1,TRUE,1)","v":3},{"$f":"_xlfn.IFS(A169=\"-\",\"\",ISTEXT(E168),1,TRUE,E168+1)","v":161},null,null,null,null,null,null,null,null,null,null,null,null,0,0,0,0,0,0,0,0,0,0,0]
[{"$f":"_xlfn.IFS(EDATE($A$9,12)=A169+1,\"-\",TRUE,A169+1)","v":"2025-06-11"},{"$f":"_xlfn.IFS(A170=\"-\",\"\",NOT(ISNUMBER(A171)),2,WEEKDAY(A170)=$H$3,1,TRUE,\"\")","v":""},{"$f":"_xlfn.IFS(A170=\"-\",\"\",$A$9=$A170,\"\",DAY($A$9)=DAY(A170+1),DATEDIF($A$9,A170+1,\"M\"),TRUE,\"\")","v":""},{"$f":"_xlfn.IFS(A170=\"-\",\"\",ISTEXT(D169),1,ISTEXT(B169),D169+1,TRUE,1)","v":4},{"$f":"_xlfn.IFS(A170=\"-\",\"\",ISTEXT(E169),1,TRUE,E169+1)","v":162},null,null,null,null,null,null,null,null,null,null,null,null,0,0,0,0,0,0,0,0,0,0,0]
[{"$f":"_xlfn.IFS(EDATE($A$9,12)=A170+1,\"-\",TRUE,A170+1)","v":"2025-06-12"},{"$f":"_xlfn.IFS(A171=\"-\",\"\",NOT(ISNUMBER(A172)),2,WEEKDAY(A171)=$H$3,1,TRUE,\"\")","v":""},{"$f":"_xlfn.IFS(A171=\"-\",\"\",$A$9=$A171,\"\",DAY($A$9)=DAY(A171+1),DATEDIF($A$9,A171+1,\"M\"),TRUE,\"\")","v":""},{"$f":"_xlfn.IFS(A171=\"-\",\"\",ISTEXT(D170),1,ISTEXT(B170),D170+1,TRUE,1)","v":5},{"$f":"_xlfn.IFS(A171=\"-\",\"\",ISTEXT(E170),1,TRUE,E170+1)","v":163},null,null,null,null,null,null,null,null,null,null,null,null,0,0,0,0,0,0,0,0,0,0,0]
[{"$f":"_xlfn.IFS(EDATE($A$9,12)=A171+1,\"-\",TRUE,A171+1)","v":"2025-06-13"},{"$f":"_xlfn.IFS(A172=\"-\",\"\",NOT(ISNUMBER(A173)),2,WEEKDAY(A172)=$H$3,1,TRUE,\"\")","v":""},{"$f":"_xlfn.IFS(A172=\"-\",\"\",$A$9=$A172,\"\",DAY($A$9)=DAY(A172+1),DATEDIF($A$9,A172+1,\"M\"),TRUE,\"\")","v":""},{"$f":"_xlfn.IFS(A172=\"-\",\"\",ISTEXT(D171),1,ISTEXT(B171),D171+1,TRUE,1)","v":6},{"$f":"_xlfn.IFS(A172=\"-\",\"\",ISTEXT(E171),1,TRUE,E171+1)","v":164},null,null,null,null,null,null,null,null,null,null,null,null,0,0,0,0,0,0,0,0,0,0,0]
[{"$f":"_xlfn.IFS(EDATE($A$9,12)=A172+1,\"-\",TRUE,A172+1)","v":"2025-06-14"},{"$f":"_xlfn.IFS(A173=\"-\",\"\",NOT(ISNUMBER(A174)),2,WEEKDAY(A173)=$H$3,1,TRUE,\"\")","v":1},{"$f":"_xlfn.IFS(A173=\"-\",\"\",$A$9=$A173,\"\",DAY($A$9)=DAY(A173+1),DATEDIF($A$9,A173+1,\"M\"),TRUE,\"\")","v":""},{"$f":"_xlfn.IFS(A173=\"-\",\"\",ISTEXT(D172),1,ISTEXT(B172),D172+1,TRUE,1)","v":7},{"$f":"_xlfn.IFS(A173=\"-\",\"\",ISTEXT(E172),1,TRUE,E172+1)","v":165},null,null,null,null,null,null,null,null,null,null,null,null,0,0,0,0,0,0,0,0,0,0,0]
[{"$f":"_xlfn.IFS(EDATE($A$9,12)=A173+1,\"-\",TRUE,A173+1)","v":"2025-06-15"},{"$f":"_xlfn.IFS(A174=\"-\",\"\",NOT(ISNUMBER(A175)),2,WEEKDAY(A174)=$H$3,1,TRUE,\"\")","v":""},{"$f":"_xlfn.IFS(A174=\"-\",\"\",$A$9=$A174,\"\",DAY($A$9)=DAY(A174+1),DATEDIF($A$9,A174+1,\"M\"),TRUE,\"\")","v":""},{"$f":"_xlfn.IFS(A174=\"-\",\"\",ISTEXT(D173),1,ISTEXT(B173),D173+1,TRUE,1)","v":1},{"$f":"_xlfn.IFS(A174=\"-\",\"\",ISTEXT(E173),1,TRUE,E173+1)","v":166},null,null,null,null,null,null,null,null,null,null,null,null,0,0,0,0,0,0,0,0,0,0,0]
[{"$f":"_xlfn.IFS(EDATE($A$9,12)=A174+1,\"-\",TRUE,A174+1)","v":"2025-06-16"},{"$f":"_xlfn.IFS(A175=\"-\",\"\",NOT(ISNUMBER(A176)),2,WEEKDAY(A175)=$H$3,1,TRUE,\"\")","v":""},{"$f":"_xlfn.IFS(A175=\"-\",\"\",$A$9=$A175,\"\",DAY($A$9)=DAY(A175+1),DATEDIF($A$9,A175+1,\"M\"),TRUE,\"\")","v":""},{"$f":"_xlfn.IFS(A175=\"-\",\"\",ISTEXT(D174),1,ISTEXT(B174),D174+1,TRUE,1)","v":2},{"$f":"_xlfn.IFS(A175=\"-\",\"\",ISTEXT(E174),1,TRUE,E174+1)","v":167},null,null,null,null,null,null,null,null,null,null,null,null,0,0,0,0,0,0,0,0,0,0,0]
[{"$f":"_xlfn.IFS(EDATE($A$9,12)=A175+1,\"-\",TRUE,A175+1)","v":"2025-06-17"},{"$f":"_xlfn.IFS(A176=\"-\",\"\",NOT(ISNUMBER(A177)),2,WEEKDAY(A176)=$H$3,1,TRUE,\"\")","v":""},{"$f":"_xlfn.IFS(A176=\"-\",\"\",$A$9=$A176,\"\",DAY($A$9)=DAY(A176+1),DATEDIF($A$9,A176+1,\"M\"),TRUE,\"\")","v":""},{"$f":"_xlfn.IFS(A176=\"-\",\"\",ISTEXT(D175),1,ISTEXT(B175),D175+1,TRUE,1)","v":3},{"$f":"_xlfn.IFS(A176=\"-\",\"\",ISTEXT(E175),1,TRUE,E175+1)","v":168},null,null,null,null,null,null,null,null,null,null,null,null,0,0,0,0,0,0,0,0,0,0,0]
[{"$f":"_xlfn.IFS(EDATE($A$9,12)=A176+1,\"-\",TRUE,A176+1)","v":"2025-06-18"},{"$f":"_xlfn.IFS(A177=\"-\",\"\",NOT(ISNUMBER(A178)),2,WEEKDAY(A177)=$H$3,1,TRUE,\"\")","v":""},{"$f":"_xlfn.IFS(A177=\"-\",\"\",$A$9=$A177,\"\",DAY($A$9)=DAY(A177+1),DATEDIF($A$9,A177+1,\"M\"),TRUE,\"\")","v":""},{"$f":"_xlfn.IFS(A177=\"-\",\"\",ISTEXT(D176),1,ISTEXT(B176),D176+1,TRUE,1)","v":4},{"$f":"_xlfn.IFS(A177=\"-\",\"\",ISTEXT(E176),1,TRUE,E176+1)","v":169},null,null,null,null,null,null,null,null,null,null,null,null,0,0,0,0,0,0,0,0,0,0,0]
[{"$f":"_xlfn.IFS(EDATE($A$9,12)=A177+1,\"-\",TRUE,A177+1)","v":"2025-06-19"},{"$f":"_xlfn.IFS(A178=\"-\",\"\",NOT(ISNUMBER(A179)),2,WEEKDAY(A178)=$H$3,1,TRUE,\"\")","v":""},{"$f":"_xlfn.IFS(A178=\"-\",\"\",$A$9=$A178,\"\",DAY($A$9)=DAY(A178+1),DATEDIF($A$9,A178+1,\"M\"),TRUE,\"\")","v":""},{"$f":"_xlfn.IFS(A178=\"-\",\"\",ISTEXT(D177),1,ISTEXT(B177),D177+1,TRUE,1)","v":5},{"$f":"_xlfn.IFS(A178=\"-\",\"\",ISTEXT(E177),1,TRUE,E177+1)","v":170},null,null,null,null,null,null,null,null,null,null,null,null,0,0,0,0,0,0,0,0,0,0,0]
[{"$f":"_xlfn.IFS(EDATE($A$9,12)=A178+1,\"-\",TRUE,A178+1)","v":"2025-06-20"},{"$f":"_xlfn.IFS(A179=\"-\",\"\",NOT(ISNUMBER(A180)),2,WEEKDAY(A179)=$H$3,1,TRUE,\"\")","v":""},{"$f":"_xlfn.IFS(A179=\"-\",\"\",$A$9=$A179,\"\",DAY($A$9)=DAY(A179+1),DATEDIF($A$9,A179+1,\"M\"),TRUE,\"\")","v":""},{"$f":"_xlfn.IFS(A179=\"-\",\"\",ISTEXT(D178),1,ISTEXT(B178),D178+1,TRUE,1)","v":6},{"$f":"_xlfn.IFS(A179=\"-\",\"\",ISTEXT(E178),1,TRUE,E178+1)","v":171},null,null,null,null,null,null,null,null,null,null,null,null,0,0,0,0,0,0,0,0,0,0,0]
[{"$f":"_xlfn.IFS(EDATE($A$9,12)=A179+1,\"-\",TRUE,A179+1)","v":"2025-06-21"},{"$f":"_xlfn.IFS(A180=\"-\",\"\",NOT(ISNUMBER(A181)),2,WEEKDAY(A180)=$H$3,1,TRUE,\"\")","v":1},{"$f":"_xlfn.IFS(A180=\"-\",\"\",$A$9=$A180,\"\",DAY($A$9)=DAY(A180+1),DATEDIF($A$9,A180+1,\"M\"),TRUE,\"\")","v":""},{"$f":"_xlfn.IFS(A180=\"-\",\"\",ISTEXT(D179),1,ISTEXT(B179),D179+1,TRUE,1)","v":7},{"$f":"_xlfn.IFS(A180=\"-\",\"\",ISTEXT(E179),1,TRUE,E179+1)","v":172},null,null,null,null,null,null,null,null,null,null,null,null,0,0,0,0,0,0,0,0,0,0,0]
[{"$f":"_xlfn.IFS(EDATE($A$9,12)=A180+1,\"-\",TRUE,A180+1)","v":"2025-06-22"},{"$f":"_xlfn.IFS(A181=\"-\",\"\",NOT(ISNUMBER(A182)),2,WEEKDAY(A181)=$H$3,1,TRUE,\"\")","v":""},{"$f":"_xlfn.IFS(A181=\"-\",\"\",$A$9=$A181,\"\",DAY($A$9)=DAY(A181+1),DATEDIF($A$9,A181+1,\"M\"),TRUE,\"\")","v":""},{"$f":"_xlfn.IFS(A181=\"-\",\"\",ISTEXT(D180),1,ISTEXT(B180),D180+1,TRUE,1)","v":1},{"$f":"_xlfn.IFS(A181=\"-\",\"\",ISTEXT(E180),1,TRUE,E180+1)","v":173},null,null,null,null,null,null,null,null,null,null,null,null,0,0,0,0,0,0,0,0,0,0,0]
[{"$f":"_xlfn.IFS(EDATE($A$9,12)=A181+1,\"-\",TRUE,A181+1)","v":"2025-06-23"},{"$f":"_xlfn.IFS(A182=\"-\",\"\",NOT(ISNUMBER(A183)),2,WEEKDAY(A182)=$H$3,1,TRUE,\"\")","v":""},{"$f":"_xlfn.IFS(A182=\"-\",\"\",$A$9=$A182,\"\",DAY($A$9)=DAY(A182+1),DATEDIF($A$9,A182+1,\"M\"),TRUE,\"\")","v":""},{"$f":"_xlfn.IFS(A182=\"-\",\"\",ISTEXT(D181),1,ISTEXT(B181),D181+1,TRUE,1)","v":2},{"$f":"_xlfn.IFS(A182=\"-\",\"\",ISTEXT(E181),1,TRUE,E181+1)","v":174},null,null,null,null,null,null,null,null,null,null,null,null,0,0,0,0,0,0,0,0,0,0,0]
[{"$f":"_xlfn.IFS(EDATE($A$9,12)=A182+1,\"-\",TRUE,A182+1)","v":"2025-06-24"},{"$f":"_xlfn.IFS(A183=\"-\",\"\",NOT(ISNUMBER(A184)),2,WEEKDAY(A183)=$H$3,1,TRUE,\"\")","v":""},{"$f":"_xlfn.IFS(A183=\"-\",\"\",$A$9=$A183,\"\",DAY($A$9)=DAY(A183+1),DATEDIF($A$9,A183+1,\"M\"),TRUE,\"\")","v":""},{"$f":"_xlfn.IFS(A183=\"-\",\"\",ISTEXT(D182),1,ISTEXT(B182),D182+1,TRUE,1)","v":3},{"$f":"_xlfn.IFS(A183=\"-\",\"\",ISTEXT(E182),1,TRUE,E182+1)","v":175},null,null,null,null,null,null,null,null,null,null,null,null,0,0,0,0,0,0,0,0,0,0,0]
[{"$f":"_xlfn.IFS(EDATE($A$9,12)=A183+1,\"-\",TRUE,A183+1)","v":"2025-06-25"},{"$f":"_xlfn.IFS(A184=\"-\",\"\",NOT(ISNUMBER(A185)),2,WEEKDAY(A184)=$H$3,1,TRUE,\"\")","v":""},{"$f":"_xlfn.IFS(A184=\"-\",\"\",$A$9=$A184,\"\",DAY($A$9)=DAY(A184+1),DATEDIF($A$9,A184+1,\"M\"),TRUE,\"\")","v":""},{"$f":"_xlfn.IFS(A184=\"-\",\"\",ISTEXT(D183),1,ISTEXT(B183),D183+1,TRUE,1)","v":4},{"$f":"_xlfn.IFS(A184=\"-\",\"\",ISTEXT(E183),1,TRUE,E183+1)","v":176},null,null,null,null,null,null,null,null,null,null,null,null,0,0,0,0,0,0,0,0,0,0,0]
[{"$f":"_xlfn.IFS(EDATE($A$9,12)=A184+1,\"-\",TRUE,A184+1)","v":"2025-06-26"},{"$f":"_xlfn.IFS(A185=\"-\",\"\",NOT(ISNUMBER(A186)),2,WEEKDAY(A185)=$H$3,1,TRUE,\"\")","v":""},{"$f":"_xlfn.IFS(A185=\"-\",\"\",$A$9=$A185,\"\",DAY($A$9)=DAY(A185+1),DATEDIF($A$9,A185+1,\"M\"),TRUE,\"\")","v":""},{"$f":"_xlfn.IFS(A185=\"-\",\"\",ISTEXT(D184),1,ISTEXT(B184),D184+1,TRUE,1)","v":5},{"$f":"_xlfn.IFS(A185=\"-\",\"\",ISTEXT(E184),1,TRUE,E184+1)","v":177},null,null,null,null,null,null,null,null,null,null,null,null,0,0,0,0,0,0,0,0,0,0,0]
[{"$f":"_xlfn.IFS(EDATE($A$9,12)=A185+1,\"-\",TRUE,A185+1)","v":"2025-06-27"},{"$f":"_xlfn.IFS(A186=\"-\",\"\",NOT(ISNUMBER(A187)),2,WEEKDAY(A186)=$H$3,1,TRUE,\"\")","v":""},{"$f":"_xlfn.IFS(A186=\"-\",\"\",$A$9=$A186,\"\",DAY($A$9)=DAY(A186+1),DATEDIF($A$9,A186+1,\"M\"),TRUE,\"\")","v":""},{"$f":"_xlfn.IFS(A186=\"-\",\"\",ISTEXT(D185),1,ISTEXT(B185),D185+1,TRUE,1)","v":6},{"$f":"_xlfn.IFS(A186=\"-\",\"\",ISTEXT(E185),1,TRUE,E185+1)","v":178},null,null,null,null,null,null,null,null,null,null,null,null,0,0,0,0,0,0,0,0,0,0,0]
[{"$f":"_xlfn.IFS(EDATE($A$9,12)=A186+1,\"-\",TRUE,A186+1)","v":"2025-06-28"},{"$f":"_xlfn.IFS(A187=\"-\",\"\",NOT(ISNUMBER(A188)),2,WEEKDAY(A187)=$H$3,1,TRUE,\"\")","v":1},{"$f":"_xlfn.IFS(A187=\"-\",\"\",$A$9=$A187,\"\",DAY($A$9)=DAY(A187+1),DATEDIF($A$9,A187+1,\"M\"),TRUE,\"\")","v":""},{"$f":"_xlfn.IFS(A187=\"-\",\"\",ISTEXT(D186),1,ISTEXT(B186),D186+1,TRUE,1)","v":7},{"$f":"_xlfn.IFS(A187=\"-\",\"\",ISTEXT(E186),1,TRUE,E186+1)","v":179},null,null,null,null,null,null,null,null,null,null,null,null,0,0,0,0,0,0,0,0,0,0,0]
[{"$f":"_xlfn.IFS(EDATE($A$9,12)=A187+1,\"-\",TRUE,A187+1)","v":"2025-06-29"},{"$f":"_xlfn.IFS(A188=\"-\",\"\",NOT(ISNUMBER(A189)),2,WEEKDAY(A188)=$H$3,1,TRUE,\"\")","v":""},{"$f":"_xlfn.IFS(A188=\"-\",\"\",$A$9=$A188,\"\",DAY($A$9)=DAY(A188+1),DATEDIF($A$9,A188+1,\"M\"),TRUE,\"\")","v":""},{"$f":"_xlfn.IFS(A188=\"-\",\"\",ISTEXT(D187),1,ISTEXT(B187),D187+1,TRUE,1)","v":1},{"$f":"_xlfn.IFS(A188=\"-\",\"\",ISTEXT(E187),1,TRUE,E187+1)","v":180},null,null,null,null,null,null,null,null,null,null,null,null,0,0,0,0,0,0,0,0,0,0,0]
[{"$f":"_xlfn.IFS(EDATE($A$9,12)=A188+1,\"-\",TRUE,A188+1)","v":"2025-06-30"},{"$f":"_xlfn.IFS(A189=\"-\",\"\",NOT(ISNUMBER(A190)),2,WEEKDAY(A189)=$H$3,1,TRUE,\"\")","v":""},{"$f":"_xlfn.IFS(A189=\"-\",\"\",$A$9=$A189,\"\",DAY($A$9)=DAY(A189+1),DATEDIF($A$9,A189+1,\"M\"),TRUE,\"\")","v":6},{"$f":"_xlfn.IFS(A189=\"-\",\"\",ISTEXT(D188),1,ISTEXT(B188),D188+1,TRUE,1)","v":2},{"$f":"_xlfn.IFS(A189=\"-\",\"\",ISTEXT(E188),1,TRUE,E188+1)","v":181},null,null,null,null,null,null,null,null,null,null,null,null,0,0,0,0,0,0,0,0,0,0,0]
[{"$f":"_xlfn.IFS(EDATE($A$9,12)=A189+1,\"-\",TRUE,A189+1)","v":"2025-07-01"},{"$f":"_xlfn.IFS(A190=\"-\",\"\",NOT(ISNUMBER(A191)),2,WEEKDAY(A190)=$H$3,1,TRUE,\"\")","v":""},{"$f":"_xlfn.IFS(A190=\"-\",\"\",$A$9=$A190,\"\",DAY($A$9)=DAY(A190+1),DATEDIF($A$9,A190+1,\"M\"),TRUE,\"\")","v":""},{"$f":"_xlfn.IFS(A190=\"-\",\"\",ISTEXT(D189),1,ISTEXT(B189),D189+1,TRUE,1)","v":3},{"$f":"_xlfn.IFS(A190=\"-\",\"\",ISTEXT(E189),1,TRUE,E189+1)","v":182},null,null,null,null,null,null,null,null,null,null,null,null,0,0,0,0,0,0,0,0,0,0,0]
[{"$f":"_xlfn.IFS(EDATE($A$9,12)=A190+1,\"-\",TRUE,A190+1)","v":"2025-07-02"},{"$f":"_xlfn.IFS(A191=\"-\",\"\",NOT(ISNUMBER(A192)),2,WEEKDAY(A191)=$H$3,1,TRUE,\"\")","v":""},{"$f":"_xlfn.IFS(A191=\"-\",\"\",$A$9=$A191,\"\",DAY($A$9)=DAY(A191+1),DATEDIF($A$9,A191+1,\"M\"),TRUE,\"\")","v":""},{"$f":"_xlfn.IFS(A191=\"-\",\"\",ISTEXT(D190),1,ISTEXT(B190),D190+1,TRUE,1)","v":4},{"$f":"_xlfn.IFS(A191=\"-\",\"\",ISTEXT(E190),1,TRUE,E190+1)","v":183},null,null,null,null,null,null,null,null,null,null,null,null,0,0,0,0,0,0,0,0,0,0,0]
[{"$f":"_xlfn.IFS(EDATE($A$9,12)=A191+1,\"-\",TRUE,A191+1)","v":"2025-07-03"},{"$f":"_xlfn.IFS(A192=\"-\",\"\",NOT(ISNUMBER(A193)),2,WEEKDAY(A192)=$H$3,1,TRUE,\"\")","v":""},{"$f":"_xlfn.IFS(A192=\"-\",\"\",$A$9=$A192,\"\",DAY($A$9)=DAY(A192+1),DATEDIF($A$9,A192+1,\"M\"),TRUE,\"\")","v":""},{"$f":"_xlfn.IFS(A192=\"-\",\"\",ISTEXT(D191),1,ISTEXT(B191),D191+1,TRUE,1)","v":5},{"$f":"_xlfn.IFS(A192=\"-\",\"\",ISTEXT(E191),1,TRUE,E191+1)","v":184},null,null,null,null,null,null,null,null,null,null,null,null,0,0,0,0,0,0,0,0,0,0,0]
[{"$f":"_xlfn.IFS(EDATE($A$9,12)=A192+1,\"-\",TRUE,A192+1)","v":"2025-07-04"},{"$f":"_xlfn.IFS(A193=\"-\",\"\",NOT(ISNUMBER(A194)),2,WEEKDAY(A193)=$H$3,1,TRUE,\"\")","v":""},{"$f":"_xlfn.IFS(A193=\"-\",\"\",$A$9=$A193,\"\",DAY($A$9)=DAY(A193+1),DATEDIF($A$9,A193+1,\"M\"),TRUE,\"\")","v":""},{"$f":"_xlfn.IFS(A193=\"-\",\"\",ISTEXT(D192),1,ISTEXT(B192),D192+1,TRUE,1)","v":6},{"$f":"_xlfn.IFS(A193=\"-\",\"\",ISTEXT(E192),1,TRUE,E192+1)","v":185},null,null,null,null,null,null,null,null,null,null,null,null,0,0,0,0,0,0,0,0,0,0,0]
[{"$f":"_xlfn.IFS(EDATE($A$9,12)=A193+1,\"-\",TRUE,A193+1)","v":"2025-07-05"},{"$f":"_xlfn.IFS(A194=\"-\",\"\",NOT(ISNUMBER(A195)),2,WEEKDAY(A194)=$H$3,1,TRUE,\"\")","v":1},{"$f":"_xlfn.IFS(A194=\"-\",\"\",$A$9=$A194,\"\",DAY($A$9)=DAY(A194+1),DATEDIF($A$9,A194+1,\"M\"),TRUE,\"\")","v":""},{"$f":"_xlfn.IFS(A194=\"-\",\"\",ISTEXT(D193),1,ISTEXT(B193),D193+1,TRUE,1)","v":7},{"$f":"_xlfn.IFS(A194=\"-\",\"\",ISTEXT(E193),1,TRUE,E193+1)","v":186},null,null,null,null,null,null,null,null,null,null,null,null,0,0,0,0,0,0,0,0,0,0,0]
[{"$f":"_xlfn.IFS(EDATE($A$9,12)=A194+1,\"-\",TRUE,A194+1)","v":"2025-07-06"},{"$f":"_xlfn.IFS(A195=\"-\",\"\",NOT(ISNUMBER(A196)),2,WEEKDAY(A195)=$H$3,1,TRUE,\"\")","v":""},{"$f":"_xlfn.IFS(A195=\"-\",\"\",$A$9=$A195,\"\",DAY($A$9)=DAY(A195+1),DATEDIF($A$9,A195+1,\"M\"),TRUE,\"\")","v":""},{"$f":"_xlfn.IFS(A195=\"-\",\"\",ISTEXT(D194),1,ISTEXT(B194),D194+1,TRUE,1)","v":1},{"$f":"_xlfn.IFS(A195=\"-\",\"\",ISTEXT(E194),1,TRUE,E194+1)","v":187},null,null,null,null,null,null,null,null,null,null,null,null,0,0,0,0,0,0,0,0,0,0,0]
[{"$f":"_xlfn.IFS(EDATE($A$9,12)=A195+1,\"-\",TRUE,A195+1)","v":"2025-07-07"},{"$f":"_xlfn.IFS(A196=\"-\",\"\",NOT(ISNUMBER(A197)),2,WEEKDAY(A196)=$H$3,1,TRUE,\"\")","v":""},{"$f":"_xlfn.IFS(A196=\"-\",\"\",$A$9=$A196,\"\",DAY($A$9)=DAY(A196+1),DATEDIF($A$9,A196+1,\"M\"),TRUE,\"\")","v":""},{"$f":"_xlfn.IFS(A196=\"-\",\"\",ISTEXT(D195),1,ISTEXT(B195),D195+1,TRUE,1)","v":2},{"$f":"_xlfn.IFS(A196=\"-\",\"\",ISTEXT(E195),1,TRUE,E195+1)","v":188},null,null,null,null,null,null,null,null,null,null,null,null,0,0,0,0,0,0,0,0,0,0,0]
[{"$f":"_xlfn.IFS(EDATE($A$9,12)=A196+1,\"-\",TRUE,A196+1)","v":"2025-07-08"},{"$f":"_xlfn.IFS(A197=\"-\",\"\",NOT(ISNUMBER(A198)),2,WEEKDAY(A197)=$H$3,1,TRUE,\"\")","v":""},{"$f":"_xlfn.IFS(A197=\"-\",\"\",$A$9=$A197,\"\",DAY($A$9)=DAY(A197+1),DATEDIF($A$9,A197+1,\"M\"),TRUE,\"\")","v":""},{"$f":"_xlfn.IFS(A197=\"-\",\"\",ISTEXT(D196),1,ISTEXT(B196),D196+1,TRUE,1)","v":3},{"$f":"_xlfn.IFS(A197=\"-\",\"\",ISTEXT(E196),1,TRUE,E196+1)","v":189},null,null,null,null,null,null,null,null,null,null,null,null,0,0,0,0,0,0,0,0,0,0,0]
[{"$f":"_xlfn.IFS(EDATE($A$9,12)=A197+1,\"-\",TRUE,A197+1)","v":"2025-07-09"},{"$f":"_xlfn.IFS(A198=\"-\",\"\",NOT(ISNUMBER(A199)),2,WEEKDAY(A198)=$H$3,1,TRUE,\"\")","v":""},{"$f":"_xlfn.IFS(A198=\"-\",\"\",$A$9=$A198,\"\",DAY($A$9)=DAY(A198+1),DATEDIF($A$9,A198+1,\"M\"),TRUE,\"\")","v":""},{"$f":"_xlfn.IFS(A198=\"-\",\"\",ISTEXT(D197),1,ISTEXT(B197),D197+1,TRUE,1)","v":4},{"$f":"_xlfn.IFS(A198=\"-\",\"\",ISTEXT(E197),1,TRUE,E197+1)","v":190},null,null,null,null,null,null,null,null,null,null,null,null,0,0,0,0,0,0,0,0,0,0,0]
[{"$f":"_xlfn.IFS(EDATE($A$9,12)=A198+1,\"-\",TRUE,A198+1)","v":"2025-07-10"},{"$f":"_xlfn.IFS(A199=\"-\",\"\",NOT(ISNUMBER(A200)),2,WEEKDAY(A199)=$H$3,1,TRUE,\"\")","v":""},{"$f":"_xlfn.IFS(A199=\"-\",\"\",$A$9=$A199,\"\",DAY($A$9)=DAY(A199+1),DATEDIF($A$9,A199+1,\"M\"),TRUE,\"\")","v":""},{"$f":"_xlfn.IFS(A199=\"-\",\"\",ISTEXT(D198),1,ISTEXT(B198),D198+1,TRUE,1)","v":5},{"$f":"_xlfn.IFS(A199=\"-\",\"\",ISTEXT(E198),1,TRUE,E198+1)","v":191},null,null,null,null,null,null,null,null,null,null,null,null,0,0,0,0,0,0,0,0,0,0,0]
[{"$f":"_xlfn.IFS(EDATE($A$9,12)=A199+1,\"-\",TRUE,A199+1)","v":"2025-07-11"},{"$f":"_xlfn.IFS(A200=\"-\",\"\",NOT(ISNUMBER(A201)),2,WEEKDAY(A200)=$H$3,1,TRUE,\"\")","v":""},{"$f":"_xlfn.IFS(A200=\"-\",\"\",$A$9=$A200,\"\",DAY($A$9)=DAY(A200+1),DATEDIF($A$9,A200+1,\"M\"),TRUE,\"\")","v":""},{"$f":"_xlfn.IFS(A200=\"-\",\"\",ISTEXT(D199),1,ISTEXT(B199),D199+1,TRUE,1)","v":6},{"$f":"_xlfn.IFS(A200=\"-\",\"\",ISTEXT(E199),1,TRUE,E199+1)","v":192},null,null,null,null,null,null,null,null,null,null,null,null,0,0,0,0,0,0,0,0,0,0,0]
[{"$f":"_xlfn.IFS(EDATE($A$9,12)=A200+1,\"-\",TRUE,A200+1)","v":"2025-07-12"},{"$f":"_xlfn.IFS(A201=\"-\",\"\",NOT(ISNUMBER(A202)),2,WEEKDAY(A201)=$H$3,1,TRUE,\"\")","v":1},{"$f":"_xlfn.IFS(A201=\"-\",\"\",$A$9=$A201,\"\",DAY($A$9)=DAY(A201+1),DATEDIF($A$9,A201+1,\"M\"),TRUE,\"\")","v":""},{"$f":"_xlfn.IFS(A201=\"-\",\"\",ISTEXT(D200),1,ISTEXT(B200),D200+1,TRUE,1)","v":7},{"$f":"_xlfn.IFS(A201=\"-\",\"\",ISTEXT(E200),1,TRUE,E200+1)","v":193},null,null,null,null,null,null,null,null,null,null,null,null,0,0,0,0,0,0,0,0,0,0,0]
[{"$f":"_xlfn.IFS(EDATE($A$9,12)=A201+1,\"-\",TRUE,A201+1)","v":"2025-07-13"},{"$f":"_xlfn.IFS(A202=\"-\",\"\",NOT(ISNUMBER(A203)),2,WEEKDAY(A202)=$H$3,1,TRUE,\"\")","v":""},{"$f":"_xlfn.IFS(A202=\"-\",\"\",$A$9=$A202,\"\",DAY($A$9)=DAY(A202+1),DATEDIF($A$9,A202+1,\"M\"),TRUE,\"\")","v":""},{"$f":"_xlfn.IFS(A202=\"-\",\"\",ISTEXT(D201),1,ISTEXT(B201),D201+1,TRUE,1)","v":1},{"$f":"_xlfn.IFS(A202=\"-\",\"\",ISTEXT(E201),1,TRUE,E201+1)","v":194},null,null,null,null,null,null,null,null,null,null,null,null,0,0,0,0,0,0,0,0,0,0,0]
[{"$f":"_xlfn.IFS(EDATE($A$9,12)=A202+1,\"-\",TRUE,A202+1)","v":"2025-07-14"},{"$f":"_xlfn.IFS(A203=\"-\",\"\",NOT(ISNUMBER(A204)),2,WEEKDAY(A203)=$H$3,1,TRUE,\"\")","v":""},{"$f":"_xlfn.IFS(A203=\"-\",\"\",$A$9=$A203,\"\",DAY($A$9)=DAY(A203+1),DATEDIF($A$9,A203+1,\"M\"),TRUE,\"\")","v":""},{"$f":"_xlfn.IFS(A203=\"-\",\"\",ISTEXT(D202),1,ISTEXT(B202),D202+1,TRUE,1)","v":2},{"$f":"_xlfn.IFS(A203=\"-\",\"\",ISTEXT(E202),1,TRUE,E202+1)","v":195},null,null,null,null,null,null,null,null,null,null,null,null,0,0,0,0,0,0,0,0,0,0,0]
[{"$f":"_xlfn.IFS(EDATE($A$9,12)=A203+1,\"-\",TRUE,A203+1)","v":"2025-07-15"},{"$f":"_xlfn.IFS(A204=\"-\",\"\",NOT(ISNUMBER(A205)),2,WEEKDAY(A204)=$H$3,1,TRUE,\"\")","v":""},{"$f":"_xlfn.IFS(A204=\"-\",\"\",$A$9=$A204,\"\",DAY($A$9)=DAY(A204+1),DATEDIF($A$9,A204+1,\"M\"),TRUE,\"\")","v":""},{"$f":"_xlfn.IFS(A204=\"-\",\"\",ISTEXT(D203),1,ISTEXT(B203),D203+1,TRUE,1)","v":3},{"$f":"_xlfn.IFS(A204=\"-\",\"\",ISTEXT(E203),1,TRUE,E203+1)","v":196},null,null,null,null,null,null,null,null,null,null,null,null,0,0,0,0,0,0,0,0,0,0,0]
[{"$f":"_xlfn.IFS(EDATE($A$9,12)=A204+1,\"-\",TRUE,A204+1)","v":"2025-07-16"},{"$f":"_xlfn.IFS(A205=\"-\",\"\",NOT(ISNUMBER(A206)),2,WEEKDAY(A205)=$H$3,1,TRUE,\"\")","v":""},{"$f":"_xlfn.IFS(A205=\"-\",\"\",$A$9=$A205,\"\",DAY($A$9)=DAY(A205+1),DATEDIF($A$9,A205+1,\"M\"),TRUE,\"\")","v":""},{"$f":"_xlfn.IFS(A205=\"-\",\"\",ISTEXT(D204),1,ISTEXT(B204),D204+1,TRUE,1)","v":4},{"$f":"_xlfn.IFS(A205=\"-\",\"\",ISTEXT(E204),1,TRUE,E204+1)","v":197},null,null,null,null,null,null,null,null,null,null,null,null,0,0,0,0,0,0,0,0,0,0,0]
[{"$f":"_xlfn.IFS(EDATE($A$9,12)=A205+1,\"-\",TRUE,A205+1)","v":"2025-07-17"},{"$f":"_xlfn.IFS(A206=\"-\",\"\",NOT(ISNUMBER(A207)),2,WEEKDAY(A206)=$H$3,1,TRUE,\"\")","v":""},{"$f":"_xlfn.IFS(A206=\"-\",\"\",$A$9=$A206,\"\",DAY($A$9)=DAY(A206+1),DATEDIF($A$9,A206+1,\"M\"),TRUE,\"\")","v":""},{"$f":"_xlfn.IFS(A206=\"-\",\"\",ISTEXT(D205),1,ISTEXT(B205),D205+1,TRUE,1)","v":5},{"$f":"_xlfn.IFS(A206=\"-\",\"\",ISTEXT(E205),1,TRUE,E205+1)","v":198},null,null,null,null,null,null,null,null,null,null,null,null,{"$f":"K206-J206-SUM(L206:P206)","v":0},0,0,0,0,0,0,0,0,0,0]
[{"$f":"_xlfn.IFS(EDATE($A$9,12)=A206+1,\"-\",TRUE,A206+1)","v":"2025-07-18"},{"$f":"_xlfn.IFS(A207=\"-\",\"\",NOT(ISNUMBER(A208)),2,WEEKDAY(A207)=$H$3,1,TRUE,\"\")","v":""},{"$f":"_xlfn.IFS(A207=\"-\",\"\",$A$9=$A207,\"\",DAY($A$9)=DAY(A207+1),DATEDIF($A$9,A207+1,\"M\"),TRUE,\"\")","v":""},{"$f":"_xlfn.IFS(A207=\"-\",\"\",ISTEXT(D206),1,ISTEXT(B206),D206+1,TRUE,1)","v":6},{"$f":"_xlfn.IFS(A207=\"-\",\"\",ISTEXT(E206),1,TRUE,E206+1)","v":199},null,null,null,null,null,null,null,null,null,null,null,null,0,0,0,0,0,0,0,0,0,0,0]
[{"$f":"_xlfn.IFS(EDATE($A$9,12)=A207+1,\"-\",TRUE,A207+1)","v":"2025-07-19"},{"$f":"_xlfn.IFS(A208=\"-\",\"\",NOT(ISNUMBER(A209)),2,WEEKDAY(A208)=$H$3,1,TRUE,\"\")","v":1},{"$f":"_xlfn.IFS(A208=\"-\",\"\",$A$9=$A208,\"\",DAY($A$9)=DAY(A208+1),DATEDIF($A$9,A208+1,\"M\"),TRUE,\"\")","v":""},{"$f":"_xlfn.IFS(A208=\"-\",\"\",ISTEXT(D207),1,ISTEXT(B207),D207+1,TRUE,1)","v":7},{"$f":"_xlfn.IFS(A208=\"-\",\"\",ISTEXT(E207),1,TRUE,E207+1)","v":200},null,null,null,null,null,null,null,null,null,null,null,null,0,0,0,0,0,0,0,0,0,0,0]
[{"$f":"_xlfn.IFS(EDATE($A$9,12)=A208+1,\"-\",TRUE,A208+1)","v":"2025-07-20"},{"$f":"_xlfn.IFS(A209=\"-\",\"\",NOT(ISNUMBER(A210)),2,WEEKDAY(A209)=$H$3,1,TRUE,\"\")","v":""},{"$f":"_xlfn.IFS(A209=\"-\",\"\",$A$9=$A209,\"\",DAY($A$9)=DAY(A209+1),DATEDIF($A$9,A209+1,\"M\"),TRUE,\"\")","v":""},{"$f":"_xlfn.IFS(A209=\"-\",\"\",ISTEXT(D208),1,ISTEXT(B208),D208+1,TRUE,1)","v":1},{"$f":"_xlfn.IFS(A209=\"-\",\"\",ISTEXT(E208),1,TRUE,E208+1)","v":201},null,null,null,null,null,null,null,null,null,null,null,null,0,0,0,0,0,0,0,0,0,0,0]
[{"$f":"_xlfn.IFS(EDATE($A$9,12)=A209+1,\"-\",TRUE,A209+1)","v":"2025-07-21"},{"$f":"_xlfn.IFS(A210=\"-\",\"\",NOT(ISNUMBER(A211)),2,WEEKDAY(A210)=$H$3,1,TRUE,\"\")","v":""},{"$f":"_xlfn.IFS(A210=\"-\",\"\",$A$9=$A210,\"\",DAY($A$9)=DAY(A210+1),DATEDIF($A$9,A210+1,\"M\"),TRUE,\"\")","v":""},{"$f":"_xlfn.IFS(A210=\"-\",\"\",ISTEXT(D209),1,ISTEXT(B209),D209+1,TRUE,1)","v":2},{"$f":"_xlfn.IFS(A210=\"-\",\"\",ISTEXT(E209),1,TRUE,E209+1)","v":202},null,null,null,null,null,null,null,null,null,null,null,null,0,0,0,0,0,0,0,0,0,0,0]
[{"$f":"_xlfn.IFS(EDATE($A$9,12)=A210+1,\"-\",TRUE,A210+1)","v":"2025-07-22"},{"$f":"_xlfn.IFS(A211=\"-\",\"\",NOT(ISNUMBER(A212)),2,WEEKDAY(A211)=$H$3,1,TRUE,\"\")","v":""},{"$f":"_xlfn.IFS(A211=\"-\",\"\",$A$9=$A211,\"\",DAY($A$9)=DAY(A211+1),DATEDIF($A$9,A211+1,\"M\"),TRUE,\"\")","v":""},{"$f":"_xlfn.IFS(A211=\"-\",\"\",ISTEXT(D210),1,ISTEXT(B210),D210+1,TRUE,1)","v":3},{"$f":"_xlfn.IFS(A211=\"-\",\"\",ISTEXT(E210),1,TRUE,E210+1)","v":203},null,null,null,null,null,null,null,null,null,null,null,null,0,0,0,0,0,0,0,0,0,0,0]
[{"$f":"_xlfn.IFS(EDATE($A$9,12)=A211+1,\"-\",TRUE,A211+1)","v":"2025-07-23"},{"$f":"_xlfn.IFS(A212=\"-\",\"\",NOT(ISNUMBER(A213)),2,WEEKDAY(A212)=$H$3,1,TRUE,\"\")","v":""},{"$f":"_xlfn.IFS(A212=\"-\",\"\",$A$9=$A212,\"\",DAY($A$9)=DAY(A212+1),DATEDIF($A$9,A212+1,\"M\"),TRUE,\"\")","v":""},{"$f":"_xlfn.IFS(A212=\"-\",\"\",ISTEXT(D211),1,ISTEXT(B211),D211+1,TRUE,1)","v":4},{"$f":"_xlfn.IFS(A212=\"-\",\"\",ISTEXT(E211),1,TRUE,E211+1)","v":204},null,null,null,null,null,null,null,null,null,null,null,null,0,0,0,0,0,0,0,0,0,0,0]
[{"$f":"_xlfn.IFS(EDATE($A$9,12)=A212+1,\"-\",TRUE,A212+1)","v":"2025-07-24"},{"$f":"_xlfn.IFS(A213=\"-\",\"\",NOT(ISNUMBER(A214)),2,WEEKDAY(A213)=$H$3,1,TRUE,\"\")","v":""},{"$f":"_xlfn.IFS(A213=\"-\",\"\",$A$9=$A213,\"\",DAY($A$9)=DAY(A213+1),DATEDIF($A$9,A213+1,\"M\"),TRUE,\"\")","v":""},{"$f":"_xlfn.IFS(A213=\"-\",\"\",ISTEXT(D212),1,ISTEXT(B212),D212+1,TRUE,1)","v":5},{"$f":"_xlfn.IFS(A213=\"-\",\"\",ISTEXT(E212),1,TRUE,E212+1)","v":205},null,null,null,null,null,null,null,null,null,null,null,null,0,0,0,0,0,0,0,0,0,0,0]
[{"$f":"_xlfn.IFS(EDATE($A$9,12)=A213+1,\"-\",TRUE,A213+1)","v":"2025-07-25"},{"$f":"_xlfn.IFS(A214=\"-\",\"\",NOT(ISNUMBER(A215)),2,WEEKDAY(A214)=$H$3,1,TRUE,\"\")","v":""},{"$f":"_xlfn.IFS(A214=\"-\",\"\",$A$9=$A214,\"\",DAY($A$9)=DAY(A214+1),DATEDIF($A$9,A214+1,\"M\"),TRUE,\"\")","v":""},{"$f":"_xlfn.IFS(A214=\"-\",\"\",ISTEXT(D213),1,ISTEXT(B213),D213+1,TRUE,1)","v":6},{"$f":"_xlfn.IFS(A214=\"-\",\"\",ISTEXT(E213),1,TRUE,E213+1)","v":206},null,null,null,null,null,null,null,null,null,null,null,null,0,0,0,0,0,0,0,0,0,0,0]
[{"$f":"_xlfn.IFS(EDATE($A$9,12)=A214+1,\"-\",TRUE,A214+1)","v":"2025-07-26"},{"$f":"_xlfn.IFS(A215=\"-\",\"\",NOT(ISNUMBER(A216)),2,WEEKDAY(A215)=$H$3,1,TRUE,\"\")","v":1},{"$f":"_xlfn.IFS(A215=\"-\",\"\",$A$9=$A215,\"\",DAY($A$9)=DAY(A215+1),DATEDIF($A$9,A215+1,\"M\"),TRUE,\"\")","v":""},{"$f":"_xlfn.IFS(A215=\"-\",\"\",ISTEXT(D214),1,ISTEXT(B214),D214+1,TRUE,1)","v":7},{"$f":"_xlfn.IFS(A215=\"-\",\"\",ISTEXT(E214),1,TRUE,E214+1)","v":207},null,null,null,null,null,null,null,null,null,null,null,null,0,0,0,0,0,0,0,0,0,0,0]
[{"$f":"_xlfn.IFS(EDATE($A$9,12)=A215+1,\"-\",TRUE,A215+1)","v":"2025-07-27"},{"$f":"_xlfn.IFS(A216=\"-\",\"\",NOT(ISNUMBER(A217)),2,WEEKDAY(A216)=$H$3,1,TRUE,\"\")","v":""},{"$f":"_xlfn.IFS(A216=\"-\",\"\",$A$9=$A216,\"\",DAY($A$9)=DAY(A216+1),DATEDIF($A$9,A216+1,\"M\"),TRUE,\"\")","v":""},{"$f":"_xlfn.IFS(A216=\"-\",\"\",ISTEXT(D215),1,ISTEXT(B215),D215+1,TRUE,1)","v":1},{"$f":"_xlfn.IFS(A216=\"-\",\"\",ISTEXT(E215),1,TRUE,E215+1)","v":208},null,null,null,null,null,null,null,null,null,null,null,null,0,0,0,0,0,0,0,0,0,0,0]
[{"$f":"_xlfn.IFS(EDATE($A$9,12)=A216+1,\"-\",TRUE,A216+1)","v":"2025-07-28"},{"$f":"_xlfn.IFS(A217=\"-\",\"\",NOT(ISNUMBER(A218)),2,WEEKDAY(A217)=$H$3,1,TRUE,\"\")","v":""},{"$f":"_xlfn.IFS(A217=\"-\",\"\",$A$9=$A217,\"\",DAY($A$9)=DAY(A217+1),DATEDIF($A$9,A217+1,\"M\"),TRUE,\"\")","v":""},{"$f":"_xlfn.IFS(A217=\"-\",\"\",ISTEXT(D216),1,ISTEXT(B216),D216+1,TRUE,1)","v":2},{"$f":"_xlfn.IFS(A217=\"-\",\"\",ISTEXT(E216),1,TRUE,E216+1)","v":209},null,null,null,null,null,null,null,null,null,null,null,null,0,0,0,0,0,0,0,0,0,0,0]
[{"$f":"_xlfn.IFS(EDATE($A$9,12)=A217+1,\"-\",TRUE,A217+1)","v":"2025-07-29"},{"$f":"_xlfn.IFS(A218=\"-\",\"\",NOT(ISNUMBER(A219)),2,WEEKDAY(A218)=$H$3,1,TRUE,\"\")","v":""},{"$f":"_xlfn.IFS(A218=\"-\",\"\",$A$9=$A218,\"\",DAY($A$9)=DAY(A218+1),DATEDIF($A$9,A218+1,\"M\"),TRUE,\"\")","v":""},{"$f":"_xlfn.IFS(A218=\"-\",\"\",ISTEXT(D217),1,ISTEXT(B217),D217+1,TRUE,1)","v":3},{"$f":"_xlfn.IFS(A218=\"-\",\"\",ISTEXT(E217),1,TRUE,E217+1)","v":210},null,null,null,null,null,null,null,null,null,null,null,null,0,0,0,0,0,0,0,0,0,0,0]
[{"$f":"_xlfn.IFS(EDATE($A$9,12)=A218+1,\"-\",TRUE,A218+1)","v":"2025-07-30"},{"$f":"_xlfn.IFS(A219=\"-\",\"\",NOT(ISNUMBER(A220)),2,WEEKDAY(A219)=$H$3,1,TRUE,\"\")","v":""},{"$f":"_xlfn.IFS(A219=\"-\",\"\",$A$9=$A219,\"\",DAY($A$9)=DAY(A219+1),DATEDIF($A$9,A219+1,\"M\"),TRUE,\"\")","v":""},{"$f":"_xlfn.IFS(A219=\"-\",\"\",ISTEXT(D218),1,ISTEXT(B218),D218+1,TRUE,1)","v":4},{"$f":"_xlfn.IFS(A219=\"-\",\"\",ISTEXT(E218),1,TRUE,E218+1)","v":211},null,null,null,null,null,null,null,null,null,null,null,null,0,0,0,0,0,0,0,0,0,0,0]
[{"$f":"_xlfn.IFS(EDATE($A$9,12)=A219+1,\"-\",TRUE,A219+1)","v":"2025-07-31"},{"$f":"_xlfn.IFS(A220=\"-\",\"\",NOT(ISNUMBER(A221)),2,WEEKDAY(A220)=$H$3,1,TRUE,\"\")","v":""},{"$f":"_xlfn.IFS(A220=\"-\",\"\",$A$9=$A220,\"\",DAY($A$9)=DAY(A220+1),DATEDIF($A$9,A220+1,\"M\"),TRUE,\"\")","v":7},{"$f":"_xlfn.IFS(A220=\"-\",\"\",ISTEXT(D219),1,ISTEXT(B219),D219+1,TRUE,1)","v":5},{"$f":"_xlfn.IFS(A220=\"-\",\"\",ISTEXT(E219),1,TRUE,E219+1)","v":212},null,null,null,null,null,null,null,null,null,null,null,null,0,0,0,0,0,0,0,0,0,0,0]
[{"$f":"_xlfn.IFS(EDATE($A$9,12)=A220+1,\"-\",TRUE,A220+1)","v":"2025-08-01"},{"$f":"_xlfn.IFS(A221=\"-\",\"\",NOT(ISNUMBER(A222)),2,WEEKDAY(A221)=$H$3,1,TRUE,\"\")","v":""},{"$f":"_xlfn.IFS(A221=\"-\",\"\",$A$9=$A221,\"\",DAY($A$9)=DAY(A221+1),DATEDIF($A$9,A221+1,\"M\"),TRUE,\"\")","v":""},{"$f":"_xlfn.IFS(A221=\"-\",\"\",ISTEXT(D220),1,ISTEXT(B220),D220+1,TRUE,1)","v":6},{"$f":"_xlfn.IFS(A221=\"-\",\"\",ISTEXT(E220),1,TRUE,E220+1)","v":213},null,null,null,null,null,null,null,null,null,null,null,null,0,0,0,0,0,0,0,0,0,0,0]
[{"$f":"_xlfn.IFS(EDATE($A$9,12)=A221+1,\"-\",TRUE,A221+1)","v":"2025-08-02"},{"$f":"_xlfn.IFS(A222=\"-\",\"\",NOT(ISNUMBER(A223)),2,WEEKDAY(A222)=$H$3,1,TRUE,\"\")","v":1},{"$f":"_xlfn.IFS(A222=\"-\",\"\",$A$9=$A222,\"\",DAY($A$9)=DAY(A222+1),DATEDIF($A$9,A222+1,\"M\"),TRUE,\"\")","v":""},{"$f":"_xlfn.IFS(A222=\"-\",\"\",ISTEXT(D221),1,ISTEXT(B221),D221+1,TRUE,1)","v":7},{"$f":"_xlfn.IFS(A222=\"-\",\"\",ISTEXT(E221),1,TRUE,E221+1)","v":214},null,null,null,null,null,null,null,null,null,null,null,null,0,0,0,0,0,0,0,0,0,0,0]
[{"$f":"_xlfn.IFS(EDATE($A$9,12)=A222+1,\"-\",TRUE,A222+1)","v":"2025-08-03"},{"$f":"_xlfn.IFS(A223=\"-\",\"\",NOT(ISNUMBER(A224)),2,WEEKDAY(A223)=$H$3,1,TRUE,\"\")","v":""},{"$f":"_xlfn.IFS(A223=\"-\",\"\",$A$9=$A223,\"\",DAY($A$9)=DAY(A223+1),DATEDIF($A$9,A223+1,\"M\"),TRUE,\"\")","v":""},{"$f":"_xlfn.IFS(A223=\"-\",\"\",ISTEXT(D222),1,ISTEXT(B222),D222+1,TRUE,1)","v":1},{"$f":"_xlfn.IFS(A223=\"-\",\"\",ISTEXT(E222),1,TRUE,E222+1)","v":215},null,null,null,null,null,null,null,null,null,null,null,null,0,0,0,0,0,0,0,0,0,0,0]
[{"$f":"_xlfn.IFS(EDATE($A$9,12)=A223+1,\"-\",TRUE,A223+1)","v":"2025-08-04"},{"$f":"_xlfn.IFS(A224=\"-\",\"\",NOT(ISNUMBER(A225)),2,WEEKDAY(A224)=$H$3,1,TRUE,\"\")","v":""},{"$f":"_xlfn.IFS(A224=\"-\",\"\",$A$9=$A224,\"\",DAY($A$9)=DAY(A224+1),DATEDIF($A$9,A224+1,\"M\"),TRUE,\"\")","v":""},{"$f":"_xlfn.IFS(A224=\"-\",\"\",ISTEXT(D223),1,ISTEXT(B223),D223+1,TRUE,1)","v":2},{"$f":"_xlfn.IFS(A224=\"-\",\"\",ISTEXT(E223),1,TRUE,E223+1)","v":216},null,null,null,null,null,null,null,null,null,null,null,null,0,0,0,0,0,0,0,0,0,0,0]
[{"$f":"_xlfn.IFS(EDATE($A$9,12)=A224+1,\"-\",TRUE,A224+1)","v":"2025-08-05"},{"$f":"_xlfn.IFS(A225=\"-\",\"\",NOT(ISNUMBER(A226)),2,WEEKDAY(A225)=$H$3,1,TRUE,\"\")","v":""},{"$f":"_xlfn.IFS(A225=\"-\",\"\",$A$9=$A225,\"\",DAY($A$9)=DAY(A225+1),DATEDIF($A$9,A225+1,\"M\"),TRUE,\"\")","v":""},{"$f":"_xlfn.IFS(A225=\"-\",\"\",ISTEXT(D224),1,ISTEXT(B224),D224+1,TRUE,1)","v":3},{"$f":"_xlfn.IFS(A225=\"-\",\"\",ISTEXT(E224),1,TRUE,E224+1)","v":217},null,null,null,null,null,null,null,null,null,null,null,null,0,0,0,0,0,0,0,0,0,0,0]
[{"$f":"_xlfn.IFS(EDATE($A$9,12)=A225+1,\"-\",TRUE,A225+1)","v":"2025-08-06"},{"$f":"_xlfn.IFS(A226=\"-\",\"\",NOT(ISNUMBER(A227)),2,WEEKDAY(A226)=$H$3,1,TRUE,\"\")","v":""},{"$f":"_xlfn.IFS(A226=\"-\",\"\",$A$9=$A226,\"\",DAY($A$9)=DAY(A226+1),DATEDIF($A$9,A226+1,\"M\"),TRUE,\"\")","v":""},{"$f":"_xlfn.IFS(A226=\"-\",\"\",ISTEXT(D225),1,ISTEXT(B225),D225+1,TRUE,1)","v":4},{"$f":"_xlfn.IFS(A226=\"-\",\"\",ISTEXT(E225),1,TRUE,E225+1)","v":218},null,null,null,null,null,null,null,null,null,null,null,null,0,0,0,0,0,0,0,0,0,0,0]
[{"$f":"_xlfn.IFS(EDATE($A$9,12)=A226+1,\"-\",TRUE,A226+1)","v":"2025-08-07"},{"$f":"_xlfn.IFS(A227=\"-\",\"\",NOT(ISNUMBER(A228)),2,WEEKDAY(A227)=$H$3,1,TRUE,\"\")","v":""},{"$f":"_xlfn.IFS(A227=\"-\",\"\",$A$9=$A227,\"\",DAY($A$9)=DAY(A227+1),DATEDIF($A$9,A227+1,\"M\"),TRUE,\"\")","v":""},{"$f":"_xlfn.IFS(A227=\"-\",\"\",ISTEXT(D226),1,ISTEXT(B226),D226+1,TRUE,1)","v":5},{"$f":"_xlfn.IFS(A227=\"-\",\"\",ISTEXT(E226),1,TRUE,E226+1)","v":219},null,null,null,null,null,null,null,null,null,null,null,null,0,0,0,0,0,0,0,0,0,0,0]
[{"$f":"_xlfn.IFS(EDATE($A$9,12)=A227+1,\"-\",TRUE,A227+1)","v":"2025-08-08"},{"$f":"_xlfn.IFS(A228=\"-\",\"\",NOT(ISNUMBER(A229)),2,WEEKDAY(A228)=$H$3,1,TRUE,\"\")","v":""},{"$f":"_xlfn.IFS(A228=\"-\",\"\",$A$9=$A228,\"\",DAY($A$9)=DAY(A228+1),DATEDIF($A$9,A228+1,\"M\"),TRUE,\"\")","v":""},{"$f":"_xlfn.IFS(A228=\"-\",\"\",ISTEXT(D227),1,ISTEXT(B227),D227+1,TRUE,1)","v":6},{"$f":"_xlfn.IFS(A228=\"-\",\"\",ISTEXT(E227),1,TRUE,E227+1)","v":220},null,null,null,null,null,null,null,null,null,null,null,null,0,0,0,0,0,0,0,0,0,0,0]
[{"$f":"_xlfn.IFS(EDATE($A$9,12)=A228+1,\"-\",TRUE,A228+1)","v":"2025-08-09"},{"$f":"_xlfn.IFS(A229=\"-\",\"\",NOT(ISNUMBER(A230)),2,WEEKDAY(A229)=$H$3,1,TRUE,\"\")","v":1},{"$f":"_xlfn.IFS(A229=\"-\",\"\",$A$9=$A229,\"\",DAY($A$9)=DAY(A229+1),DATEDIF($A$9,A229+1,\"M\"),TRUE,\"\")","v":""},{"$f":"_xlfn.IFS(A229=\"-\",\"\",ISTEXT(D228),1,ISTEXT(B228),D228+1,TRUE,1)","v":7},{"$f":"_xlfn.IFS(A229=\"-\",\"\",ISTEXT(E228),1,TRUE,E228+1)","v":221},null,null,null,null,null,null,null,null,null,null,null,null,0,0,0,0,0,0,0,0,0,0,0]
[{"$f":"_xlfn.IFS(EDATE($A$9,12)=A229+1,\"-\",TRUE,A229+1)","v":"2025-08-10"},{"$f":"_xlfn.IFS(A230=\"-\",\"\",NOT(ISNUMBER(A231)),2,WEEKDAY(A230)=$H$3,1,TRUE,\"\")","v":""},{"$f":"_xlfn.IFS(A230=\"-\",\"\",$A$9=$A230,\"\",DAY($A$9)=DAY(A230+1),DATEDIF($A$9,A230+1,\"M\"),TRUE,\"\")","v":""},{"$f":"_xlfn.IFS(A230=\"-\",\"\",ISTEXT(D229),1,ISTEXT(B229),D229+1,TRUE,1)","v":1},{"$f":"_xlfn.IFS(A230=\"-\",\"\",ISTEXT(E229),1,TRUE,E229+1)","v":222},null,null,null,null,null,null,null,null,null,null,null,null,0,0,0,0,0,0,0,0,0,0,0]
[{"$f":"_xlfn.IFS(EDATE($A$9,12)=A230+1,\"-\",TRUE,A230+1)","v":"2025-08-11"},{"$f":"_xlfn.IFS(A231=\"-\",\"\",NOT(ISNUMBER(A232)),2,WEEKDAY(A231)=$H$3,1,TRUE,\"\")","v":""},{"$f":"_xlfn.IFS(A231=\"-\",\"\",$A$9=$A231,\"\",DAY($A$9)=DAY(A231+1),DATEDIF($A$9,A231+1,\"M\"),TRUE,\"\")","v":""},{"$f":"_xlfn.IFS(A231=\"-\",\"\",ISTEXT(D230),1,ISTEXT(B230),D230+1,TRUE,1)","v":2},{"$f":"_xlfn.IFS(A231=\"-\",\"\",ISTEXT(E230),1,TRUE,E230+1)","v":223},null,null,null,null,null,null,null,null,null,null,null,null,0,0,0,0,0,0,0,0,0,0,0]
[{"$f":"_xlfn.IFS(EDATE($A$9,12)=A231+1,\"-\",TRUE,A231+1)","v":"2025-08-12"},{"$f":"_xlfn.IFS(A232=\"-\",\"\",NOT(ISNUMBER(A233)),2,WEEKDAY(A232)=$H$3,1,TRUE,\"\")","v":""},{"$f":"_xlfn.IFS(A232=\"-\",\"\",$A$9=$A232,\"\",DAY($A$9)=DAY(A232+1),DATEDIF($A$9,A232+1,\"M\"),TRUE,\"\")","v":""},{"$f":"_xlfn.IFS(A232=\"-\",\"\",ISTEXT(D231),1,ISTEXT(B231),D231+1,TRUE,1)","v":3},{"$f":"_xlfn.IFS(A232=\"-\",\"\",ISTEXT(E231),1,TRUE,E231+1)","v":224},null,null,null,null,null,null,null,null,null,null,null,null,0,0,0,0,0,0,0,0,0,0,0]
[{"$f":"_xlfn.IFS(EDATE($A$9,12)=A232+1,\"-\",TRUE,A232+1)","v":"2025-08-13"},{"$f":"_xlfn.IFS(A233=\"-\",\"\",NOT(ISNUMBER(A234)),2,WEEKDAY(A233)=$H$3,1,TRUE,\"\")","v":""},{"$f":"_xlfn.IFS(A233=\"-\",\"\",$A$9=$A233,\"\",DAY($A$9)=DAY(A233+1),DATEDIF($A$9,A233+1,\"M\"),TRUE,\"\")","v":""},{"$f":"_xlfn.IFS(A233=\"-\",\"\",ISTEXT(D232),1,ISTEXT(B232),D232+1,TRUE,1)","v":4},{"$f":"_xlfn.IFS(A233=\"-\",\"\",ISTEXT(E232),1,TRUE,E232+1)","v":225},null,null,null,null,null,null,null,null,null,null,null,null,0,0,0,0,0,0,0,0,0,0,0]
[{"$f":"_xlfn.IFS(EDATE($A$9,12)=A233+1,\"-\",TRUE,A233+1)","v":"2025-08-14"},{"$f":"_xlfn.IFS(A234=\"-\",\"\",NOT(ISNUMBER(A235)),2,WEEKDAY(A234)=$H$3,1,TRUE,\"\")","v":""},{"$f":"_xlfn.IFS(A234=\"-\",\"\",$A$9=$A234,\"\",DAY($A$9)=DAY(A234+1),DATEDIF($A$9,A234+1,\"M\"),TRUE,\"\")","v":""},{"$f":"_xlfn.IFS(A234=\"-\",\"\",ISTEXT(D233),1,ISTEXT(B233),D233+1,TRUE,1)","v":5},{"$f":"_xlfn.IFS(A234=\"-\",\"\",ISTEXT(E233),1,TRUE,E233+1)","v":226},null,null,null,null,null,null,null,null,null,null,null,null,0,0,0,0,0,0,0,0,0,0,0]
[{"$f":"_xlfn.IFS(EDATE($A$9,12)=A234+1,\"-\",TRUE,A234+1)","v":"2025-08-15"},{"$f":"_xlfn.IFS(A235=\"-\",\"\",NOT(ISNUMBER(A236)),2,WEEKDAY(A235)=$H$3,1,TRUE,\"\")","v":""},{"$f":"_xlfn.IFS(A235=\"-\",\"\",$A$9=$A235,\"\",DAY($A$9)=DAY(A235+1),DATEDIF($A$9,A235+1,\"M\"),TRUE,\"\")","v":""},{"$f":"_xlfn.IFS(A235=\"-\",\"\",ISTEXT(D234),1,ISTEXT(B234),D234+1,TRUE,1)","v":6},{"$f":"_xlfn.IFS(A235=\"-\",\"\",ISTEXT(E234),1,TRUE,E234+1)","v":227},null,null,null,null,null,null,null,null,null,null,null,null,0,0,0,0,0,0,0,0,0,0,0]
[{"$f":"_xlfn.IFS(EDATE($A$9,12)=A235+1,\"-\",TRUE,A235+1)","v":"2025-08-16"},{"$f":"_xlfn.IFS(A236=\"-\",\"\",NOT(ISNUMBER(A237)),2,WEEKDAY(A236)=$H$3,1,TRUE,\"\")","v":1},{"$f":"_xlfn.IFS(A236=\"-\",\"\",$A$9=$A236,\"\",DAY($A$9)=DAY(A236+1),DATEDIF($A$9,A236+1,\"M\"),TRUE,\"\")","v":""},{"$f":"_xlfn.IFS(A236=\"-\",\"\",ISTEXT(D235),1,ISTEXT(B235),D235+1,TRUE,1)","v":7},{"$f":"_xlfn.IFS(A236=\"-\",\"\",ISTEXT(E235),1,TRUE,E235+1)","v":228},null,null,null,null,null,null,null,null,null,null,null,null,0,0,0,0,0,0,0,0,0,0,0]
[{"$f":"_xlfn.IFS(EDATE($A$9,12)=A236+1,\"-\",TRUE,A236+1)","v":"2025-08-17"},{"$f":"_xlfn.IFS(A237=\"-\",\"\",NOT(ISNUMBER(A238)),2,WEEKDAY(A237)=$H$3,1,TRUE,\"\")","v":""},{"$f":"_xlfn.IFS(A237=\"-\",\"\",$A$9=$A237,\"\",DAY($A$9)=DAY(A237+1),DATEDIF($A$9,A237+1,\"M\"),TRUE,\"\")","v":""},{"$f":"_xlfn.IFS(A237=\"-\",\"\",ISTEXT(D236),1,ISTEXT(B236),D236+1,TRUE,1)","v":1},{"$f":"_xlfn.IFS(A237=\"-\",\"\",ISTEXT(E236),1,TRUE,E236+1)","v":229},null,null,null,null,null,null,null,null,null,null,null,null,0,0,0,0,0,0,0,0,0,0,0]
[{"$f":"_xlfn.IFS(EDATE($A$9,12)=A237+1,\"-\",TRUE,A237+1)","v":"2025-08-18"},{"$f":"_xlfn.IFS(A238=\"-\",\"\",NOT(ISNUMBER(A239)),2,WEEKDAY(A238)=$H$3,1,TRUE,\"\")","v":""},{"$f":"_xlfn.IFS(A238=\"-\",\"\",$A$9=$A238,\"\",DAY($A$9)=DAY(A238+1),DATEDIF($A$9,A238+1,\"M\"),TRUE,\"\")","v":""},{"$f":"_xlfn.IFS(A238=\"-\",\"\",ISTEXT(D237),1,ISTEXT(B237),D237+1,TRUE,1)","v":2},{"$f":"_xlfn.IFS(A238=\"-\",\"\",ISTEXT(E237),1,TRUE,E237+1)","v":230},null,null,null,null,null,null,null,null,null,null,null,null,0,0,0,0,0,0,0,0,0,0,0]
[{"$f":"_xlfn.IFS(EDATE($A$9,12)=A238+1,\"-\",TRUE,A238+1)","v":"2025-08-19"},{"$f":"_xlfn.IFS(A239=\"-\",\"\",NOT(ISNUMBER(A240)),2,WEEKDAY(A239)=$H$3,1,TRUE,\"\")","v":""},{"$f":"_xlfn.IFS(A239=\"-\",\"\",$A$9=$A239,\"\",DAY($A$9)=DAY(A239+1),DATEDIF($A$9,A239+1,\"M\"),TRUE,\"\")","v":""},{"$f":"_xlfn.IFS(A239=\"-\",\"\",ISTEXT(D238),1,ISTEXT(B238),D238+1,TRUE,1)","v":3},{"$f":"_xlfn.IFS(A239=\"-\",\"\",ISTEXT(E238),1,TRUE,E238+1)","v":231},null,null,null,null,null,null,null,null,null,null,null,null,0,0,0,0,0,0,0,0,0,0,0]
[{"$f":"_xlfn.IFS(EDATE($A$9,12)=A239+1,\"-\",TRUE,A239+1)","v":"2025-08-20"},{"$f":"_xlfn.IFS(A240=\"-\",\"\",NOT(ISNUMBER(A241)),2,WEEKDAY(A240)=$H$3,1,TRUE,\"\")","v":""},{"$f":"_xlfn.IFS(A240=\"-\",\"\",$A$9=$A240,\"\",DAY($A$9)=DAY(A240+1),DATEDIF($A$9,A240+1,\"M\"),TRUE,\"\")","v":""},{"$f":"_xlfn.IFS(A240=\"-\",\"\",ISTEXT(D239),1,ISTEXT(B239),D239+1,TRUE,1)","v":4},{"$f":"_xlfn.IFS(A240=\"-\",\"\",ISTEXT(E239),1,TRUE,E239+1)","v":232},null,null,null,null,null,null,null,null,null,null,null,null,0,0,0,0,0,0,0,0,0,0,0]
[{"$f":"_xlfn.IFS(EDATE($A$9,12)=A240+1,\"-\",TRUE,A240+1)","v":"2025-08-21"},{"$f":"_xlfn.IFS(A241=\"-\",\"\",NOT(ISNUMBER(A242)),2,WEEKDAY(A241)=$H$3,1,TRUE,\"\")","v":""},{"$f":"_xlfn.IFS(A241=\"-\",\"\",$A$9=$A241,\"\",DAY($A$9)=DAY(A241+1),DATEDIF($A$9,A241+1,\"M\"),TRUE,\"\")","v":""},{"$f":"_xlfn.IFS(A241=\"-\",\"\",ISTEXT(D240),1,ISTEXT(B240),D240+1,TRUE,1)","v":5},{"$f":"_xlfn.IFS(A241=\"-\",\"\",ISTEXT(E240),1,TRUE,E240+1)","v":233},null,null,null,null,null,null,null,null,null,null,null,null,0,0,0,0,0,0,0,0,0,0,0]
[{"$f":"_xlfn.IFS(EDATE($A$9,12)=A241+1,\"-\",TRUE,A241+1)","v":"2025-08-22"},{"$f":"_xlfn.IFS(A242=\"-\",\"\",NOT(ISNUMBER(A243)),2,WEEKDAY(A242)=$H$3,1,TRUE,\"\")","v":""},{"$f":"_xlfn.IFS(A242=\"-\",\"\",$A$9=$A242,\"\",DAY($A$9)=DAY(A242+1),DATEDIF($A$9,A242+1,\"M\"),TRUE,\"\")","v":""},{"$f":"_xlfn.IFS(A242=\"-\",\"\",ISTEXT(D241),1,ISTEXT(B241),D241+1,TRUE,1)","v":6},{"$f":"_xlfn.IFS(A242=\"-\",\"\",ISTEXT(E241),1,TRUE,E241+1)","v":234},null,null,null,null,null,null,null,null,null,null,null,null,0,0,0,0,0,0,0,0,0,0,0]
[{"$f":"_xlfn.IFS(EDATE($A$9,12)=A242+1,\"-\",TRUE,A242+1)","v":"2025-08-23"},{"$f":"_xlfn.IFS(A243=\"-\",\"\",NOT(ISNUMBER(A244)),2,WEEKDAY(A243)=$H$3,1,TRUE,\"\")","v":1},{"$f":"_xlfn.IFS(A243=\"-\",\"\",$A$9=$A243,\"\",DAY($A$9)=DAY(A243+1),DATEDIF($A$9,A243+1,\"M\"),TRUE,\"\")","v":""},{"$f":"_xlfn.IFS(A243=\"-\",\"\",ISTEXT(D242),1,ISTEXT(B242),D242+1,TRUE,1)","v":7},{"$f":"_xlfn.IFS(A243=\"-\",\"\",ISTEXT(E242),1,TRUE,E242+1)","v":235},null,null,null,null,null,null,null,null,null,null,null,null,0,0,0,0,0,0,0,0,0,0,0]
[{"$f":"_xlfn.IFS(EDATE($A$9,12)=A243+1,\"-\",TRUE,A243+1)","v":"2025-08-24"},{"$f":"_xlfn.IFS(A244=\"-\",\"\",NOT(ISNUMBER(A245)),2,WEEKDAY(A244)=$H$3,1,TRUE,\"\")","v":""},{"$f":"_xlfn.IFS(A244=\"-\",\"\",$A$9=$A244,\"\",DAY($A$9)=DAY(A244+1),DATEDIF($A$9,A244+1,\"M\"),TRUE,\"\")","v":""},{"$f":"_xlfn.IFS(A244=\"-\",\"\",ISTEXT(D243),1,ISTEXT(B243),D243+1,TRUE,1)","v":1},{"$f":"_xlfn.IFS(A244=\"-\",\"\",ISTEXT(E243),1,TRUE,E243+1)","v":236},null,null,null,null,null,null,null,null,null,null,null,null,0,0,0,0,0,0,0,0,0,0,0]
[{"$f":"_xlfn.IFS(EDATE($A$9,12)=A244+1,\"-\",TRUE,A244+1)","v":"2025-08-25"},{"$f":"_xlfn.IFS(A245=\"-\",\"\",NOT(ISNUMBER(A246)),2,WEEKDAY(A245)=$H$3,1,TRUE,\"\")","v":""},{"$f":"_xlfn.IFS(A245=\"-\",\"\",$A$9=$A245,\"\",DAY($A$9)=DAY(A245+1),DATEDIF($A$9,A245+1,\"M\"),TRUE,\"\")","v":""},{"$f":"_xlfn.IFS(A245=\"-\",\"\",ISTEXT(D244),1,ISTEXT(B244),D244+1,TRUE,1)","v":2},{"$f":"_xlfn.IFS(A245=\"-\",\"\",ISTEXT(E244),1,TRUE,E244+1)","v":237},null,null,null,null,null,null,null,null,null,null,null,null,0,0,0,0,0,0,0,0,0,0,0]
[{"$f":"_xlfn.IFS(EDATE($A$9,12)=A245+1,\"-\",TRUE,A245+1)","v":"2025-08-26"},{"$f":"_xlfn.IFS(A246=\"-\",\"\",NOT(ISNUMBER(A247)),2,WEEKDAY(A246)=$H$3,1,TRUE,\"\")","v":""},{"$f":"_xlfn.IFS(A246=\"-\",\"\",$A$9=$A246,\"\",DAY($A$9)=DAY(A246+1),DATEDIF($A$9,A246+1,\"M\"),TRUE,\"\")","v":""},{"$f":"_xlfn.IFS(A246=\"-\",\"\",ISTEXT(D245),1,ISTEXT(B245),D245+1,TRUE,1)","v":3},{"$f":"_xlfn.IFS(A246=\"-\",\"\",ISTEXT(E245),1,TRUE,E245+1)","v":238},null,null,null,null,null,null,null,null,null,null,null,null,0,0,0,0,0,0,0,0,0,0,0]
[{"$f":"_xlfn.IFS(EDATE($A$9,12)=A246+1,\"-\",TRUE,A246+1)","v":"2025-08-27"},{"$f":"_xlfn.IFS(A247=\"-\",\"\",NOT(ISNUMBER(A248)),2,WEEKDAY(A247)=$H$3,1,TRUE,\"\")","v":""},{"$f":"_xlfn.IFS(A247=\"-\",\"\",$A$9=$A247,\"\",DAY($A$9)=DAY(A247+1),DATEDIF($A$9,A247+1,\"M\"),TRUE,\"\")","v":""},{"$f":"_xlfn.IFS(A247=\"-\",\"\",ISTEXT(D246),1,ISTEXT(B246),D246+1,TRUE,1)","v":4},{"$f":"_xlfn.IFS(A247=\"-\",\"\",ISTEXT(E246),1,TRUE,E246+1)","v":239},null,null,null,null,null,null,null,null,null,null,null,null,0,0,0,0,0,0,0,0,0,0,0]
[{"$f":"_xlfn.IFS(EDATE($A$9,12)=A247+1,\"-\",TRUE,A247+1)","v":"2025-08-28"},{"$f":"_xlfn.IFS(A248=\"-\",\"\",NOT(ISNUMBER(A249)),2,WEEKDAY(A248)=$H$3,1,TRUE,\"\")","v":""},{"$f":"_xlfn.IFS(A248=\"-\",\"\",$A$9=$A248,\"\",DAY($A$9)=DAY(A248+1),DATEDIF($A$9,A248+1,\"M\"),TRUE,\"\")","v":""},{"$f":"_xlfn.IFS(A248=\"-\",\"\",ISTEXT(D247),1,ISTEXT(B247),D247+1,TRUE,1)","v":5},{"$f":"_xlfn.IFS(A248=\"-\",\"\",ISTEXT(E247),1,TRUE,E247+1)","v":240},null,null,null,null,null,null,null,null,null,null,null,null,0,0,0,0,0,0,0,0,0,0,0]
[{"$f":"_xlfn.IFS(EDATE($A$9,12)=A248+1,\"-\",TRUE,A248+1)","v":"2025-08-29"},{"$f":"_xlfn.IFS(A249=\"-\",\"\",NOT(ISNUMBER(A250)),2,WEEKDAY(A249)=$H$3,1,TRUE,\"\")","v":""},{"$f":"_xlfn.IFS(A249=\"-\",\"\",$A$9=$A249,\"\",DAY($A$9)=DAY(A249+1),DATEDIF($A$9,A249+1,\"M\"),TRUE,\"\")","v":""},{"$f":"_xlfn.IFS(A249=\"-\",\"\",ISTEXT(D248),1,ISTEXT(B248),D248+1,TRUE,1)","v":6},{"$f":"_xlfn.IFS(A249=\"-\",\"\",ISTEXT(E248),1,TRUE,E248+1)","v":241},null,null,null,null,null,null,null,null,null,null,null,null,0,0,0,0,0,0,0,0,0,0,0]
[{"$f":"_xlfn.IFS(EDATE($A$9,12)=A249+1,\"-\",TRUE,A249+1)","v":"2025-08-30"},{"$f":"_xlfn.IFS(A250=\"-\",\"\",NOT(ISNUMBER(A251)),2,WEEKDAY(A250)=$H$3,1,TRUE,\"\")","v":1},{"$f":"_xlfn.IFS(A250=\"-\",\"\",$A$9=$A250,\"\",DAY($A$9)=DAY(A250+1),DATEDIF($A$9,A250+1,\"M\"),TRUE,\"\")","v":""},{"$f":"_xlfn.IFS(A250=\"-\",\"\",ISTEXT(D249),1,ISTEXT(B249),D249+1,TRUE,1)","v":7},{"$f":"_xlfn.IFS(A250=\"-\",\"\",ISTEXT(E249),1,TRUE,E249+1)","v":242},null,null,null,null,null,null,null,null,null,null,null,null,0,0,0,0,0,0,0,0,0,0,0]
[{"$f":"_xlfn.IFS(EDATE($A$9,12)=A250+1,\"-\",TRUE,A250+1)","v":"2025-08-31"},{"$f":"_xlfn.IFS(A251=\"-\",\"\",NOT(ISNUMBER(A252)),2,WEEKDAY(A251)=$H$3,1,TRUE,\"\")","v":""},{"$f":"_xlfn.IFS(A251=\"-\",\"\",$A$9=$A251,\"\",DAY($A$9)=DAY(A251+1),DATEDIF($A$9,A251+1,\"M\"),TRUE,\"\")","v":8},{"$f":"_xlfn.IFS(A251=\"-\",\"\",ISTEXT(D250),1,ISTEXT(B250),D250+1,TRUE,1)","v":1},{"$f":"_xlfn.IFS(A251=\"-\",\"\",ISTEXT(E250),1,TRUE,E250+1)","v":243},null,null,null,null,null,null,null,null,null,null,null,null,0,0,0,0,0,0,0,0,0,0,0]
[{"$f":"_xlfn.IFS(EDATE($A$9,12)=A251+1,\"-\",TRUE,A251+1)","v":"2025-09-01"},{"$f":"_xlfn.IFS(A252=\"-\",\"\",NOT(ISNUMBER(A253)),2,WEEKDAY(A252)=$H$3,1,TRUE,\"\")","v":""},{"$f":"_xlfn.IFS(A252=\"-\",\"\",$A$9=$A252,\"\",DAY($A$9)=DAY(A252+1),DATEDIF($A$9,A252+1,\"M\"),TRUE,\"\")","v":""},{"$f":"_xlfn.IFS(A252=\"-\",\"\",ISTEXT(D251),1,ISTEXT(B251),D251+1,TRUE,1)","v":2},{"$f":"_xlfn.IFS(A252=\"-\",\"\",ISTEXT(E251),1,TRUE,E251+1)","v":244},null,null,null,null,null,null,null,null,null,null,null,null,0,0,0,0,0,0,0,0,0,0,0]
[{"$f":"_xlfn.IFS(EDATE($A$9,12)=A252+1,\"-\",TRUE,A252+1)","v":"2025-09-02"},{"$f":"_xlfn.IFS(A253=\"-\",\"\",NOT(ISNUMBER(A254)),2,WEEKDAY(A253)=$H$3,1,TRUE,\"\")","v":""},{"$f":"_xlfn.IFS(A253=\"-\",\"\",$A$9=$A253,\"\",DAY($A$9)=DAY(A253+1),DATEDIF($A$9,A253+1,\"M\"),TRUE,\"\")","v":""},{"$f":"_xlfn.IFS(A253=\"-\",\"\",ISTEXT(D252),1,ISTEXT(B252),D252+1,TRUE,1)","v":3},{"$f":"_xlfn.IFS(A253=\"-\",\"\",ISTEXT(E252),1,TRUE,E252+1)","v":245},null,null,null,null,null,null,null,null,null,null,null,null,0,0,0,0,0,0,0,0,0,0,0]
[{"$f":"_xlfn.IFS(EDATE($A$9,12)=A253+1,\"-\",TRUE,A253+1)","v":"2025-09-03"},{"$f":"_xlfn.IFS(A254=\"-\",\"\",NOT(ISNUMBER(A255)),2,WEEKDAY(A254)=$H$3,1,TRUE,\"\")","v":""},{"$f":"_xlfn.IFS(A254=\"-\",\"\",$A$9=$A254,\"\",DAY($A$9)=DAY(A254+1),DATEDIF($A$9,A254+1,\"M\"),TRUE,\"\")","v":""},{"$f":"_xlfn.IFS(A254=\"-\",\"\",ISTEXT(D253),1,ISTEXT(B253),D253+1,TRUE,1)","v":4},{"$f":"_xlfn.IFS(A254=\"-\",\"\",ISTEXT(E253),1,TRUE,E253+1)","v":246},null,null,null,null,null,null,null,null,null,null,null,null,0,0,0,0,0,0,0,0,0,0,0]
[{"$f":"_xlfn.IFS(EDATE($A$9,12)=A254+1,\"-\",TRUE,A254+1)","v":"2025-09-04"},{"$f":"_xlfn.IFS(A255=\"-\",\"\",NOT(ISNUMBER(A256)),2,WEEKDAY(A255)=$H$3,1,TRUE,\"\")","v":""},{"$f":"_xlfn.IFS(A255=\"-\",\"\",$A$9=$A255,\"\",DAY($A$9)=DAY(A255+1),DATEDIF($A$9,A255+1,\"M\"),TRUE,\"\")","v":""},{"$f":"_xlfn.IFS(A255=\"-\",\"\",ISTEXT(D254),1,ISTEXT(B254),D254+1,TRUE,1)","v":5},{"$f":"_xlfn.IFS(A255=\"-\",\"\",ISTEXT(E254),1,TRUE,E254+1)","v":247},null,null,null,null,null,null,null,null,null,null,null,null,0,0,0,0,0,0,0,0,0,0,0]
[{"$f":"_xlfn.IFS(EDATE($A$9,12)=A255+1,\"-\",TRUE,A255+1)","v":"2025-09-05"},{"$f":"_xlfn.IFS(A256=\"-\",\"\",NOT(ISNUMBER(A257)),2,WEEKDAY(A256)=$H$3,1,TRUE,\"\")","v":""},{"$f":"_xlfn.IFS(A256=\"-\",\"\",$A$9=$A256,\"\",DAY($A$9)=DAY(A256+1),DATEDIF($A$9,A256+1,\"M\"),TRUE,\"\")","v":""},{"$f":"_xlfn.IFS(A256=\"-\",\"\",ISTEXT(D255),1,ISTEXT(B255),D255+1,TRUE,1)","v":6},{"$f":"_xlfn.IFS(A256=\"-\",\"\",ISTEXT(E255),1,TRUE,E255+1)","v":248},null,null,null,null,null,null,null,null,null,null,null,null,0,0,0,0,0,0,0,0,0,0,0]
[{"$f":"_xlfn.IFS(EDATE($A$9,12)=A256+1,\"-\",TRUE,A256+1)","v":"2025-09-06"},{"$f":"_xlfn.IFS(A257=\"-\",\"\",NOT(ISNUMBER(A258)),2,WEEKDAY(A257)=$H$3,1,TRUE,\"\")","v":1},{"$f":"_xlfn.IFS(A257=\"-\",\"\",$A$9=$A257,\"\",DAY($A$9)=DAY(A257+1),DATEDIF($A$9,A257+1,\"M\"),TRUE,\"\")","v":""},{"$f":"_xlfn.IFS(A257=\"-\",\"\",ISTEXT(D256),1,ISTEXT(B256),D256+1,TRUE,1)","v":7},{"$f":"_xlfn.IFS(A257=\"-\",\"\",ISTEXT(E256),1,TRUE,E256+1)","v":249},null,null,null,null,null,null,null,null,null,null,null,null,0,0,0,0,0,0,0,0,0,0,0]
[{"$f":"_xlfn.IFS(EDATE($A$9,12)=A257+1,\"-\",TRUE,A257+1)","v":"2025-09-07"},{"$f":"_xlfn.IFS(A258=\"-\",\"\",NOT(ISNUMBER(A259)),2,WEEKDAY(A258)=$H$3,1,TRUE,\"\")","v":""},{"$f":"_xlfn.IFS(A258=\"-\",\"\",$A$9=$A258,\"\",DAY($A$9)=DAY(A258+1),DATEDIF($A$9,A258+1,\"M\"),TRUE,\"\")","v":""},{"$f":"_xlfn.IFS(A258=\"-\",\"\",ISTEXT(D257),1,ISTEXT(B257),D257+1,TRUE,1)","v":1},{"$f":"_xlfn.IFS(A258=\"-\",\"\",ISTEXT(E257),1,TRUE,E257+1)","v":250},null,null,null,null,null,null,null,null,null,null,null,null,0,0,0,0,0,0,0,0,0,0,0]
[{"$f":"_xlfn.IFS(EDATE($A$9,12)=A258+1,\"-\",TRUE,A258+1)","v":"2025-09-08"},{"$f":"_xlfn.IFS(A259=\"-\",\"\",NOT(ISNUMBER(A260)),2,WEEKDAY(A259)=$H$3,1,TRUE,\"\")","v":""},{"$f":"_xlfn.IFS(A259=\"-\",\"\",$A$9=$A259,\"\",DAY($A$9)=DAY(A259+1),DATEDIF($A$9,A259+1,\"M\"),TRUE,\"\")","v":""},{"$f":"_xlfn.IFS(A259=\"-\",\"\",ISTEXT(D258),1,ISTEXT(B258),D258+1,TRUE,1)","v":2},{"$f":"_xlfn.IFS(A259=\"-\",\"\",ISTEXT(E258),1,TRUE,E258+1)","v":251},null,null,null,null,null,null,null,null,null,null,null,null,0,0,0,0,0,0,0,0,0,0,0]
[{"$f":"_xlfn.IFS(EDATE($A$9,12)=A259+1,\"-\",TRUE,A259+1)","v":"2025-09-09"},{"$f":"_xlfn.IFS(A260=\"-\",\"\",NOT(ISNUMBER(A261)),2,WEEKDAY(A260)=$H$3,1,TRUE,\"\")","v":""},{"$f":"_xlfn.IFS(A260=\"-\",\"\",$A$9=$A260,\"\",DAY($A$9)=DAY(A260+1),DATEDIF($A$9,A260+1,\"M\"),TRUE,\"\")","v":""},{"$f":"_xlfn.IFS(A260=\"-\",\"\",ISTEXT(D259),1,ISTEXT(B259),D259+1,TRUE,1)","v":3},{"$f":"_xlfn.IFS(A260=\"-\",\"\",ISTEXT(E259),1,TRUE,E259+1)","v":252},null,null,null,null,null,null,null,null,null,null,null,null,0,0,0,0,0,0,0,0,0,0,0]
[{"$f":"_xlfn.IFS(EDATE($A$9,12)=A260+1,\"-\",TRUE,A260+1)","v":"2025-09-10"},{"$f":"_xlfn.IFS(A261=\"-\",\"\",NOT(ISNUMBER(A262)),2,WEEKDAY(A261)=$H$3,1,TRUE,\"\")","v":""},{"$f":"_xlfn.IFS(A261=\"-\",\"\",$A$9=$A261,\"\",DAY($A$9)=DAY(A261+1),DATEDIF($A$9,A261+1,\"M\"),TRUE,\"\")","v":""},{"$f":"_xlfn.IFS(A261=\"-\",\"\",ISTEXT(D260),1,ISTEXT(B260),D260+1,TRUE,1)","v":4},{"$f":"_xlfn.IFS(A261=\"-\",\"\",ISTEXT(E260),1,TRUE,E260+1)","v":253},null,null,null,null,null,null,null,null,null,null,null,null,0,0,0,0,0,0,0,0,0,0,0]
[{"$f":"_xlfn.IFS(EDATE($A$9,12)=A261+1,\"-\",TRUE,A261+1)","v":"2025-09-11"},{"$f":"_xlfn.IFS(A262=\"-\",\"\",NOT(ISNUMBER(A263)),2,WEEKDAY(A262)=$H$3,1,TRUE,\"\")","v":""},{"$f":"_xlfn.IFS(A262=\"-\",\"\",$A$9=$A262,\"\",DAY($A$9)=DAY(A262+1),DATEDIF($A$9,A262+1,\"M\"),TRUE,\"\")","v":""},{"$f":"_xlfn.IFS(A262=\"-\",\"\",ISTEXT(D261),1,ISTEXT(B261),D261+1,TRUE,1)","v":5},{"$f":"_xlfn.IFS(A262=\"-\",\"\",ISTEXT(E261),1,TRUE,E261+1)","v":254},null,null,null,null,null,null,null,null,null,null,null,null,0,0,0,0,0,0,0,0,0,0,0]
[{"$f":"_xlfn.IFS(EDATE($A$9,12)=A262+1,\"-\",TRUE,A262+1)","v":"2025-09-12"},{"$f":"_xlfn.IFS(A263=\"-\",\"\",NOT(ISNUMBER(A264)),2,WEEKDAY(A263)=$H$3,1,TRUE,\"\")","v":""},{"$f":"_xlfn.IFS(A263=\"-\",\"\",$A$9=$A263,\"\",DAY($A$9)=DAY(A263+1),DATEDIF($A$9,A263+1,\"M\"),TRUE,\"\")","v":""},{"$f":"_xlfn.IFS(A263=\"-\",\"\",ISTEXT(D262),1,ISTEXT(B262),D262+1,TRUE,1)","v":6},{"$f":"_xlfn.IFS(A263=\"-\",\"\",ISTEXT(E262),1,TRUE,E262+1)","v":255},null,null,null,null,null,null,null,null,null,null,null,null,0,0,0,0,0,0,0,0,0,0,0]
[{"$f":"_xlfn.IFS(EDATE($A$9,12)=A263+1,\"-\",TRUE,A263+1)","v":"2025-09-13"},{"$f":"_xlfn.IFS(A264=\"-\",\"\",NOT(ISNUMBER(A265)),2,WEEKDAY(A264)=$H$3,1,TRUE,\"\")","v":1},{"$f":"_xlfn.IFS(A264=\"-\",\"\",$A$9=$A264,\"\",DAY($A$9)=DAY(A264+1),DATEDIF($A$9,A264+1,\"M\"),TRUE,\"\")","v":""},{"$f":"_xlfn.IFS(A264=\"-\",\"\",ISTEXT(D263),1,ISTEXT(B263),D263+1,TRUE,1)","v":7},{"$f":"_xlfn.IFS(A264=\"-\",\"\",ISTEXT(E263),1,TRUE,E263+1)","v":256},null,null,null,null,null,null,null,null,null,null,null,null,0,0,0,0,0,0,0,0,0,0,0]
[{"$f":"_xlfn.IFS(EDATE($A$9,12)=A264+1,\"-\",TRUE,A264+1)","v":"2025-09-14"},{"$f":"_xlfn.IFS(A265=\"-\",\"\",NOT(ISNUMBER(A266)),2,WEEKDAY(A265)=$H$3,1,TRUE,\"\")","v":""},{"$f":"_xlfn.IFS(A265=\"-\",\"\",$A$9=$A265,\"\",DAY($A$9)=DAY(A265+1),DATEDIF($A$9,A265+1,\"M\"),TRUE,\"\")","v":""},{"$f":"_xlfn.IFS(A265=\"-\",\"\",ISTEXT(D264),1,ISTEXT(B264),D264+1,TRUE,1)","v":1},{"$f":"_xlfn.IFS(A265=\"-\",\"\",ISTEXT(E264),1,TRUE,E264+1)","v":257},null,null,null,null,null,null,null,null,null,null,null,null,0,0,0,0,0,0,0,0,0,0,0]
[{"$f":"_xlfn.IFS(EDATE($A$9,12)=A265+1,\"-\",TRUE,A265+1)","v":"2025-09-15"},{"$f":"_xlfn.IFS(A266=\"-\",\"\",NOT(ISNUMBER(A267)),2,WEEKDAY(A266)=$H$3,1,TRUE,\"\")","v":""},{"$f":"_xlfn.IFS(A266=\"-\",\"\",$A$9=$A266,\"\",DAY($A$9)=DAY(A266+1),DATEDIF($A$9,A266+1,\"M\"),TRUE,\"\")","v":""},{"$f":"_xlfn.IFS(A266=\"-\",\"\",ISTEXT(D265),1,ISTEXT(B265),D265+1,TRUE,1)","v":2},{"$f":"_xlfn.IFS(A266=\"-\",\"\",ISTEXT(E265),1,TRUE,E265+1)","v":258},null,null,null,null,null,null,null,null,null,null,null,null,0,0,0,0,0,0,0,0,0,0,0]
[{"$f":"_xlfn.IFS(EDATE($A$9,12)=A266+1,\"-\",TRUE,A266+1)","v":"2025-09-16"},{"$f":"_xlfn.IFS(A267=\"-\",\"\",NOT(ISNUMBER(A268)),2,WEEKDAY(A267)=$H$3,1,TRUE,\"\")","v":""},{"$f":"_xlfn.IFS(A267=\"-\",\"\",$A$9=$A267,\"\",DAY($A$9)=DAY(A267+1),DATEDIF($A$9,A267+1,\"M\"),TRUE,\"\")","v":""},{"$f":"_xlfn.IFS(A267=\"-\",\"\",ISTEXT(D266),1,ISTEXT(B266),D266+1,TRUE,1)","v":3},{"$f":"_xlfn.IFS(A267=\"-\",\"\",ISTEXT(E266),1,TRUE,E266+1)","v":259},null,null,null,null,null,null,null,null,null,null,null,null,0,0,0,0,0,0,0,0,0,0,0]
[{"$f":"_xlfn.IFS(EDATE($A$9,12)=A267+1,\"-\",TRUE,A267+1)","v":"2025-09-17"},{"$f":"_xlfn.IFS(A268=\"-\",\"\",NOT(ISNUMBER(A269)),2,WEEKDAY(A268)=$H$3,1,TRUE,\"\")","v":""},{"$f":"_xlfn.IFS(A268=\"-\",\"\",$A$9=$A268,\"\",DAY($A$9)=DAY(A268+1),DATEDIF($A$9,A268+1,\"M\"),TRUE,\"\")","v":""},{"$f":"_xlfn.IFS(A268=\"-\",\"\",ISTEXT(D267),1,ISTEXT(B267),D267+1,TRUE,1)","v":4},{"$f":"_xlfn.IFS(A268=\"-\",\"\",ISTEXT(E267),1,TRUE,E267+1)","v":260},null,null,null,null,null,null,null,null,null,null,null,null,0,0,0,0,0,0,0,0,0,0,0]
[{"$f":"_xlfn.IFS(EDATE($A$9,12)=A268+1,\"-\",TRUE,A268+1)","v":"2025-09-18"},{"$f":"_xlfn.IFS(A269=\"-\",\"\",NOT(ISNUMBER(A270)),2,WEEKDAY(A269)=$H$3,1,TRUE,\"\")","v":""},{"$f":"_xlfn.IFS(A269=\"-\",\"\",$A$9=$A269,\"\",DAY($A$9)=DAY(A269+1),DATEDIF($A$9,A269+1,\"M\"),TRUE,\"\")","v":""},{"$f":"_xlfn.IFS(A269=\"-\",\"\",ISTEXT(D268),1,ISTEXT(B268),D268+1,TRUE,1)","v":5},{"$f":"_xlfn.IFS(A269=\"-\",\"\",ISTEXT(E268),1,TRUE,E268+1)","v":261},null,null,null,null,null,null,null,null,null,null,null,null,0,0,0,0,0,0,0,0,0,0,0]
[{"$f":"_xlfn.IFS(EDATE($A$9,12)=A269+1,\"-\",TRUE,A269+1)","v":"2025-09-19"},{"$f":"_xlfn.IFS(A270=\"-\",\"\",NOT(ISNUMBER(A271)),2,WEEKDAY(A270)=$H$3,1,TRUE,\"\")","v":""},{"$f":"_xlfn.IFS(A270=\"-\",\"\",$A$9=$A270,\"\",DAY($A$9)=DAY(A270+1),DATEDIF($A$9,A270+1,\"M\"),TRUE,\"\")","v":""},{"$f":"_xlfn.IFS(A270=\"-\",\"\",ISTEXT(D269),1,ISTEXT(B269),D269+1,TRUE,1)","v":6},{"$f":"_xlfn.IFS(A270=\"-\",\"\",ISTEXT(E269),1,TRUE,E269+1)","v":262},null,null,null,null,null,null,null,null,null,null,null,null,{"$f":"K270-J270-SUM(L270:P270)","v":0},0,0,0,0,0,0,0,0,0,0]
[{"$f":"_xlfn.IFS(EDATE($A$9,12)=A270+1,\"-\",TRUE,A270+1)","v":"2025-09-20"},{"$f":"_xlfn.IFS(A271=\"-\",\"\",NOT(ISNUMBER(A272)),2,WEEKDAY(A271)=$H$3,1,TRUE,\"\")","v":1},{"$f":"_xlfn.IFS(A271=\"-\",\"\",$A$9=$A271,\"\",DAY($A$9)=DAY(A271+1),DATEDIF($A$9,A271+1,\"M\"),TRUE,\"\")","v":""},{"$f":"_xlfn.IFS(A271=\"-\",\"\",ISTEXT(D270),1,ISTEXT(B270),D270+1,TRUE,1)","v":7},{"$f":"_xlfn.IFS(A271=\"-\",\"\",ISTEXT(E270),1,TRUE,E270+1)","v":263},null,null,null,null,null,null,null,null,null,null,null,null,0,0,0,0,0,0,0,0,0,0,0]
[{"$f":"_xlfn.IFS(EDATE($A$9,12)=A271+1,\"-\",TRUE,A271+1)","v":"2025-09-21"},{"$f":"_xlfn.IFS(A272=\"-\",\"\",NOT(ISNUMBER(A273)),2,WEEKDAY(A272)=$H$3,1,TRUE,\"\")","v":""},{"$f":"_xlfn.IFS(A272=\"-\",\"\",$A$9=$A272,\"\",DAY($A$9)=DAY(A272+1),DATEDIF($A$9,A272+1,\"M\"),TRUE,\"\")","v":""},{"$f":"_xlfn.IFS(A272=\"-\",\"\",ISTEXT(D271),1,ISTEXT(B271),D271+1,TRUE,1)","v":1},{"$f":"_xlfn.IFS(A272=\"-\",\"\",ISTEXT(E271),1,TRUE,E271+1)","v":264},null,null,null,null,null,null,null,null,null,null,null,null,0,0,0,0,0,0,0,0,0,0,0]
[{"$f":"_xlfn.IFS(EDATE($A$9,12)=A272+1,\"-\",TRUE,A272+1)","v":"2025-09-22"},{"$f":"_xlfn.IFS(A273=\"-\",\"\",NOT(ISNUMBER(A274)),2,WEEKDAY(A273)=$H$3,1,TRUE,\"\")","v":""},{"$f":"_xlfn.IFS(A273=\"-\",\"\",$A$9=$A273,\"\",DAY($A$9)=DAY(A273+1),DATEDIF($A$9,A273+1,\"M\"),TRUE,\"\")","v":""},{"$f":"_xlfn.IFS(A273=\"-\",\"\",ISTEXT(D272),1,ISTEXT(B272),D272+1,TRUE,1)","v":2},{"$f":"_xlfn.IFS(A273=\"-\",\"\",ISTEXT(E272),1,TRUE,E272+1)","v":265},null,null,null,null,null,null,null,null,null,null,null,null,0,0,0,0,0,0,0,0,0,0,0]
[{"$f":"_xlfn.IFS(EDATE($A$9,12)=A273+1,\"-\",TRUE,A273+1)","v":"2025-09-23"},{"$f":"_xlfn.IFS(A274=\"-\",\"\",NOT(ISNUMBER(A275)),2,WEEKDAY(A274)=$H$3,1,TRUE,\"\")","v":""},{"$f":"_xlfn.IFS(A274=\"-\",\"\",$A$9=$A274,\"\",DAY($A$9)=DAY(A274+1),DATEDIF($A$9,A274+1,\"M\"),TRUE,\"\")","v":""},{"$f":"_xlfn.IFS(A274=\"-\",\"\",ISTEXT(D273),1,ISTEXT(B273),D273+1,TRUE,1)","v":3},{"$f":"_xlfn.IFS(A274=\"-\",\"\",ISTEXT(E273),1,TRUE,E273+1)","v":266},null,null,null,null,null,null,null,null,null,null,null,null,0,0,0,0,0,0,0,0,0,0,0]
[{"$f":"_xlfn.IFS(EDATE($A$9,12)=A274+1,\"-\",TRUE,A274+1)","v":"2025-09-24"},{"$f":"_xlfn.IFS(A275=\"-\",\"\",NOT(ISNUMBER(A276)),2,WEEKDAY(A275)=$H$3,1,TRUE,\"\")","v":""},{"$f":"_xlfn.IFS(A275=\"-\",\"\",$A$9=$A275,\"\",DAY($A$9)=DAY(A275+1),DATEDIF($A$9,A275+1,\"M\"),TRUE,\"\")","v":""},{"$f":"_xlfn.IFS(A275=\"-\",\"\",ISTEXT(D274),1,ISTEXT(B274),D274+1,TRUE,1)","v":4},{"$f":"_xlfn.IFS(A275=\"-\",\"\",ISTEXT(E274),1,TRUE,E274+1)","v":267},null,null,null,null,null,null,null,null,null,null,null,null,0,0,0,0,0,0,0,0,0,0,0]
[{"$f":"_xlfn.IFS(EDATE($A$9,12)=A275+1,\"-\",TRUE,A275+1)","v":"2025-09-25"},{"$f":"_xlfn.IFS(A276=\"-\",\"\",NOT(ISNUMBER(A277)),2,WEEKDAY(A276)=$H$3,1,TRUE,\"\")","v":""},{"$f":"_xlfn.IFS(A276=\"-\",\"\",$A$9=$A276,\"\",DAY($A$9)=DAY(A276+1),DATEDIF($A$9,A276+1,\"M\"),TRUE,\"\")","v":""},{"$f":"_xlfn.IFS(A276=\"-\",\"\",ISTEXT(D275),1,ISTEXT(B275),D275+1,TRUE,1)","v":5},{"$f":"_xlfn.IFS(A276=\"-\",\"\",ISTEXT(E275),1,TRUE,E275+1)","v":268},null,null,null,null,null,null,null,null,null,null,null,null,0,0,0,0,0,0,0,0,0,0,0]
[{"$f":"_xlfn.IFS(EDATE($A$9,12)=A276+1,\"-\",TRUE,A276+1)","v":"2025-09-26"},{"$f":"_xlfn.IFS(A277=\"-\",\"\",NOT(ISNUMBER(A278)),2,WEEKDAY(A277)=$H$3,1,TRUE,\"\")","v":""},{"$f":"_xlfn.IFS(A277=\"-\",\"\",$A$9=$A277,\"\",DAY($A$9)=DAY(A277+1),DATEDIF($A$9,A277+1,\"M\"),TRUE,\"\")","v":""},{"$f":"_xlfn.IFS(A277=\"-\",\"\",ISTEXT(D276),1,ISTEXT(B276),D276+1,TRUE,1)","v":6},{"$f":"_xlfn.IFS(A277=\"-\",\"\",ISTEXT(E276),1,TRUE,E276+1)","v":269},null,null,null,null,null,null,null,null,null,null,null,null,0,0,0,0,0,0,0,0,0,0,0]
[{"$f":"_xlfn.IFS(EDATE($A$9,12)=A277+1,\"-\",TRUE,A277+1)","v":"2025-09-27"},{"$f":"_xlfn.IFS(A278=\"-\",\"\",NOT(ISNUMBER(A279)),2,WEEKDAY(A278)=$H$3,1,TRUE,\"\")","v":1},{"$f":"_xlfn.IFS(A278=\"-\",\"\",$A$9=$A278,\"\",DAY($A$9)=DAY(A278+1),DATEDIF($A$9,A278+1,\"M\"),TRUE,\"\")","v":""},{"$f":"_xlfn.IFS(A278=\"-\",\"\",ISTEXT(D277),1,ISTEXT(B277),D277+1,TRUE,1)","v":7},{"$f":"_xlfn.IFS(A278=\"-\",\"\",ISTEXT(E277),1,TRUE,E277+1)","v":270},null,null,null,null,null,null,null,null,null,null,null,null,0,0,0,0,0,0,0,0,0,0,0]
[{"$f":"_xlfn.IFS(EDATE($A$9,12)=A278+1,\"-\",TRUE,A278+1)","v":"2025-09-28"},{"$f":"_xlfn.IFS(A279=\"-\",\"\",NOT(ISNUMBER(A280)),2,WEEKDAY(A279)=$H$3,1,TRUE,\"\")","v":""},{"$f":"_xlfn.IFS(A279=\"-\",\"\",$A$9=$A279,\"\",DAY($A$9)=DAY(A279+1),DATEDIF($A$9,A279+1,\"M\"),TRUE,\"\")","v":""},{"$f":"_xlfn.IFS(A279=\"-\",\"\",ISTEXT(D278),1,ISTEXT(B278),D278+1,TRUE,1)","v":1},{"$f":"_xlfn.IFS(A279=\"-\",\"\",ISTEXT(E278),1,TRUE,E278+1)","v":271},null,null,null,null,null,null,null,null,null,null,null,null,0,0,0,0,0,0,0,0,0,0,0]
[{"$f":"_xlfn.IFS(EDATE($A$9,12)=A279+1,\"-\",TRUE,A279+1)","v":"2025-09-29"},{"$f":"_xlfn.IFS(A280=\"-\",\"\",NOT(ISNUMBER(A281)),2,WEEKDAY(A280)=$H$3,1,TRUE,\"\")","v":""},{"$f":"_xlfn.IFS(A280=\"-\",\"\",$A$9=$A280,\"\",DAY($A$9)=DAY(A280+1),DATEDIF($A$9,A280+1,\"M\"),TRUE,\"\")","v":""},{"$f":"_xlfn.IFS(A280=\"-\",\"\",ISTEXT(D279),1,ISTEXT(B279),D279+1,TRUE,1)","v":2},{"$f":"_xlfn.IFS(A280=\"-\",\"\",ISTEXT(E279),1,TRUE,E279+1)","v":272},null,null,null,null,null,null,null,null,null,null,null,null,0,0,0,0,0,0,0,0,0,0,0]
[{"$f":"_xlfn.IFS(EDATE($A$9,12)=A280+1,\"-\",TRUE,A280+1)","v":"2025-09-30"},{"$f":"_xlfn.IFS(A281=\"-\",\"\",NOT(ISNUMBER(A282)),2,WEEKDAY(A281)=$H$3,1,TRUE,\"\")","v":""},{"$f":"_xlfn.IFS(A281=\"-\",\"\",$A$9=$A281,\"\",DAY($A$9)=DAY(A281+1),DATEDIF($A$9,A281+1,\"M\"),TRUE,\"\")","v":9},{"$f":"_xlfn.IFS(A281=\"-\",\"\",ISTEXT(D280),1,ISTEXT(B280),D280+1,TRUE,1)","v":3},{"$f":"_xlfn.IFS(A281=\"-\",\"\",ISTEXT(E280),1,TRUE,E280+1)","v":273},null,null,null,null,null,null,null,null,null,null,null,null,0,0,0,0,0,0,0,0,0,0,0]
[{"$f":"_xlfn.IFS(EDATE($A$9,12)=A281+1,\"-\",TRUE,A281+1)","v":"2025-10-01"},{"$f":"_xlfn.IFS(A282=\"-\",\"\",NOT(ISNUMBER(A283)),2,WEEKDAY(A282)=$H$3,1,TRUE,\"\")","v":""},{"$f":"_xlfn.IFS(A282=\"-\",\"\",$A$9=$A282,\"\",DAY($A$9)=DAY(A282+1),DATEDIF($A$9,A282+1,\"M\"),TRUE,\"\")","v":""},{"$f":"_xlfn.IFS(A282=\"-\",\"\",ISTEXT(D281),1,ISTEXT(B281),D281+1,TRUE,1)","v":4},{"$f":"_xlfn.IFS(A282=\"-\",\"\",ISTEXT(E281),1,TRUE,E281+1)","v":274},null,null,null,null,null,null,null,null,null,null,null,null,0,0,0,0,0,0,0,0,0,0,0]
[{"$f":"_xlfn.IFS(EDATE($A$9,12)=A282+1,\"-\",TRUE,A282+1)","v":"2025-10-02"},{"$f":"_xlfn.IFS(A283=\"-\",\"\",NOT(ISNUMBER(A284)),2,WEEKDAY(A283)=$H$3,1,TRUE,\"\")","v":""},{"$f":"_xlfn.IFS(A283=\"-\",\"\",$A$9=$A283,\"\",DAY($A$9)=DAY(A283+1),DATEDIF($A$9,A283+1,\"M\"),TRUE,\"\")","v":""},{"$f":"_xlfn.IFS(A283=\"-\",\"\",ISTEXT(D282),1,ISTEXT(B282),D282+1,TRUE,1)","v":5},{"$f":"_xlfn.IFS(A283=\"-\",\"\",ISTEXT(E282),1,TRUE,E282+1)","v":275},null,null,null,null,null,null,null,null,null,null,null,null,0,0,0,0,0,0,0,0,0,0,0]
[{"$f":"_xlfn.IFS(EDATE($A$9,12)=A283+1,\"-\",TRUE,A283+1)","v":"2025-10-03"},{"$f":"_xlfn.IFS(A284=\"-\",\"\",NOT(ISNUMBER(A285)),2,WEEKDAY(A284)=$H$3,1,TRUE,\"\")","v":""},{"$f":"_xlfn.IFS(A284=\"-\",\"\",$A$9=$A284,\"\",DAY($A$9)=DAY(A284+1),DATEDIF($A$9,A284+1,\"M\"),TRUE,\"\")","v":""},{"$f":"_xlfn.IFS(A284=\"-\",\"\",ISTEXT(D283),1,ISTEXT(B283),D283+1,TRUE,1)","v":6},{"$f":"_xlfn.IFS(A284=\"-\",\"\",ISTEXT(E283),1,TRUE,E283+1)","v":276},null,null,null,null,null,null,null,null,null,null,null,null,0,0,0,0,0,0,0,0,0,0,0]
[{"$f":"_xlfn.IFS(EDATE($A$9,12)=A284+1,\"-\",TRUE,A284+1)","v":"2025-10-04"},{"$f":"_xlfn.IFS(A285=\"-\",\"\",NOT(ISNUMBER(A286)),2,WEEKDAY(A285)=$H$3,1,TRUE,\"\")","v":1},{"$f":"_xlfn.IFS(A285=\"-\",\"\",$A$9=$A285,\"\",DAY($A$9)=DAY(A285+1),DATEDIF($A$9,A285+1,\"M\"),TRUE,\"\")","v":""},{"$f":"_xlfn.IFS(A285=\"-\",\"\",ISTEXT(D284),1,ISTEXT(B284),D284+1,TRUE,1)","v":7},{"$f":"_xlfn.IFS(A285=\"-\",\"\",ISTEXT(E284),1,TRUE,E284+1)","v":277},null,null,null,null,null,null,null,null,null,null,null,null,0,0,0,0,0,0,0,0,0,0,0]
[{"$f":"_xlfn.IFS(EDATE($A$9,12)=A285+1,\"-\",TRUE,A285+1)","v":"2025-10-05"},{"$f":"_xlfn.IFS(A286=\"-\",\"\",NOT(ISNUMBER(A287)),2,WEEKDAY(A286)=$H$3,1,TRUE,\"\")","v":""},{"$f":"_xlfn.IFS(A286=\"-\",\"\",$A$9=$A286,\"\",DAY($A$9)=DAY(A286+1),DATEDIF($A$9,A286+1,\"M\"),TRUE,\"\")","v":""},{"$f":"_xlfn.IFS(A286=\"-\",\"\",ISTEXT(D285),1,ISTEXT(B285),D285+1,TRUE,1)","v":1},{"$f":"_xlfn.IFS(A286=\"-\",\"\",ISTEXT(E285),1,TRUE,E285+1)","v":278},null,null,null,null,null,null,null,null,null,null,null,null,0,0,0,0,0,0,0,0,0,0,0]
[{"$f":"_xlfn.IFS(EDATE($A$9,12)=A286+1,\"-\",TRUE,A286+1)","v":"2025-10-06"},{"$f":"_xlfn.IFS(A287=\"-\",\"\",NOT(ISNUMBER(A288)),2,WEEKDAY(A287)=$H$3,1,TRUE,\"\")","v":""},{"$f":"_xlfn.IFS(A287=\"-\",\"\",$A$9=$A287,\"\",DAY($A$9)=DAY(A287+1),DATEDIF($A$9,A287+1,\"M\"),TRUE,\"\")","v":""},{"$f":"_xlfn.IFS(A287=\"-\",\"\",ISTEXT(D286),1,ISTEXT(B286),D286+1,TRUE,1)","v":2},{"$f":"_xlfn.IFS(A287=\"-\",\"\",ISTEXT(E286),1,TRUE,E286+1)","v":279},null,null,null,null,null,null,null,null,null,null,null,null,0,0,0,0,0,0,0,0,0,0,0]
[{"$f":"_xlfn.IFS(EDATE($A$9,12)=A287+1,\"-\",TRUE,A287+1)","v":"2025-10-07"},{"$f":"_xlfn.IFS(A288=\"-\",\"\",NOT(ISNUMBER(A289)),2,WEEKDAY(A288)=$H$3,1,TRUE,\"\")","v":""},{"$f":"_xlfn.IFS(A288=\"-\",\"\",$A$9=$A288,\"\",DAY($A$9)=DAY(A288+1),DATEDIF($A$9,A288+1,\"M\"),TRUE,\"\")","v":""},{"$f":"_xlfn.IFS(A288=\"-\",\"\",ISTEXT(D287),1,ISTEXT(B287),D287+1,TRUE,1)","v":3},{"$f":"_xlfn.IFS(A288=\"-\",\"\",ISTEXT(E287),1,TRUE,E287+1)","v":280},null,null,null,null,null,null,null,null,null,null,null,null,0,0,0,0,0,0,0,0,0,0,0]
[{"$f":"_xlfn.IFS(EDATE($A$9,12)=A288+1,\"-\",TRUE,A288+1)","v":"2025-10-08"},{"$f":"_xlfn.IFS(A289=\"-\",\"\",NOT(ISNUMBER(A290)),2,WEEKDAY(A289)=$H$3,1,TRUE,\"\")","v":""},{"$f":"_xlfn.IFS(A289=\"-\",\"\",$A$9=$A289,\"\",DAY($A$9)=DAY(A289+1),DATEDIF($A$9,A289+1,\"M\"),TRUE,\"\")","v":""},{"$f":"_xlfn.IFS(A289=\"-\",\"\",ISTEXT(D288),1,ISTEXT(B288),D288+1,TRUE,1)","v":4},{"$f":"_xlfn.IFS(A289=\"-\",\"\",ISTEXT(E288),1,TRUE,E288+1)","v":281},null,null,null,null,null,null,null,null,null,null,null,null,0,0,0,0,0,0,0,0,0,0,0]
[{"$f":"_xlfn.IFS(EDATE($A$9,12)=A289+1,\"-\",TRUE,A289+1)","v":"2025-10-09"},{"$f":"_xlfn.IFS(A290=\"-\",\"\",NOT(ISNUMBER(A291)),2,WEEKDAY(A290)=$H$3,1,TRUE,\"\")","v":""},{"$f":"_xlfn.IFS(A290=\"-\",\"\",$A$9=$A290,\"\",DAY($A$9)=DAY(A290+1),DATEDIF($A$9,A290+1,\"M\"),TRUE,\"\")","v":""},{"$f":"_xlfn.IFS(A290=\"-\",\"\",ISTEXT(D289),1,ISTEXT(B289),D289+1,TRUE,1)","v":5},{"$f":"_xlfn.IFS(A290=\"-\",\"\",ISTEXT(E289),1,TRUE,E289+1)","v":282},null,null,null,null,null,null,null,null,null,null,null,null,0,0,0,0,0,0,0,0,0,0,0]
[{"$f":"_xlfn.IFS(EDATE($A$9,12)=A290+1,\"-\",TRUE,A290+1)","v":"2025-10-10"},{"$f":"_xlfn.IFS(A291=\"-\",\"\",NOT(ISNUMBER(A292)),2,WEEKDAY(A291)=$H$3,1,TRUE,\"\")","v":""},{"$f":"_xlfn.IFS(A291=\"-\",\"\",$A$9=$A291,\"\",DAY($A$9)=DAY(A291+1),DATEDIF($A$9,A291+1,\"M\"),TRUE,\"\")","v":""},{"$f":"_xlfn.IFS(A291=\"-\",\"\",ISTEXT(D290),1,ISTEXT(B290),D290+1,TRUE,1)","v":6},{"$f":"_xlfn.IFS(A291=\"-\",\"\",ISTEXT(E290),1,TRUE,E290+1)","v":283},null,null,null,null,null,null,null,null,null,null,null,null,0,0,0,0,0,0,0,0,0,0,0]
[{"$f":"_xlfn.IFS(EDATE($A$9,12)=A291+1,\"-\",TRUE,A291+1)","v":"2025-10-11"},{"$f":"_xlfn.IFS(A292=\"-\",\"\",NOT(ISNUMBER(A293)),2,WEEKDAY(A292)=$H$3,1,TRUE,\"\")","v":1},{"$f":"_xlfn.IFS(A292=\"-\",\"\",$A$9=$A292,\"\",DAY($A$9)=DAY(A292+1),DATEDIF($A$9,A292+1,\"M\"),TRUE,\"\")","v":""},{"$f":"_xlfn.IFS(A292=\"-\",\"\",ISTEXT(D291),1,ISTEXT(B291),D291+1,TRUE,1)","v":7},{"$f":"_xlfn.IFS(A292=\"-\",\"\",ISTEXT(E291),1,TRUE,E291+1)","v":284},null,null,null,null,null,null,null,null,null,null,null,null,0,0,0,0,0,0,0,0,0,0,0]
[{"$f":"_xlfn.IFS(EDATE($A$9,12)=A292+1,\"-\",TRUE,A292+1)","v":"2025-10-12"},{"$f":"_xlfn.IFS(A293=\"-\",\"\",NOT(ISNUMBER(A294)),2,WEEKDAY(A293)=$H$3,1,TRUE,\"\")","v":""},{"$f":"_xlfn.IFS(A293=\"-\",\"\",$A$9=$A293,\"\",DAY($A$9)=DAY(A293+1),DATEDIF($A$9,A293+1,\"M\"),TRUE,\"\")","v":""},{"$f":"_xlfn.IFS(A293=\"-\",\"\",ISTEXT(D292),1,ISTEXT(B292),D292+1,TRUE,1)","v":1},{"$f":"_xlfn.IFS(A293=\"-\",\"\",ISTEXT(E292),1,TRUE,E292+1)","v":285},null,null,null,null,null,null,null,null,null,null,null,null,0,0,0,0,0,0,0,0,0,0,0]
[{"$f":"_xlfn.IFS(EDATE($A$9,12)=A293+1,\"-\",TRUE,A293+1)","v":"2025-10-13"},{"$f":"_xlfn.IFS(A294=\"-\",\"\",NOT(ISNUMBER(A295)),2,WEEKDAY(A294)=$H$3,1,TRUE,\"\")","v":""},{"$f":"_xlfn.IFS(A294=\"-\",\"\",$A$9=$A294,\"\",DAY($A$9)=DAY(A294+1),DATEDIF($A$9,A294+1,\"M\"),TRUE,\"\")","v":""},{"$f":"_xlfn.IFS(A294=\"-\",\"\",ISTEXT(D293),1,ISTEXT(B293),D293+1,TRUE,1)","v":2},{"$f":"_xlfn.IFS(A294=\"-\",\"\",ISTEXT(E293),1,TRUE,E293+1)","v":286},null,null,null,null,null,null,null,null,null,null,null,null,0,0,0,0,0,0,0,0,0,0,0]
[{"$f":"_xlfn.IFS(EDATE($A$9,12)=A294+1,\"-\",TRUE,A294+1)","v":"2025-10-14"},{"$f":"_xlfn.IFS(A295=\"-\",\"\",NOT(ISNUMBER(A296)),2,WEEKDAY(A295)=$H$3,1,TRUE,\"\")","v":""},{"$f":"_xlfn.IFS(A295=\"-\",\"\",$A$9=$A295,\"\",DAY($A$9)=DAY(A295+1),DATEDIF($A$9,A295+1,\"M\"),TRUE,\"\")","v":""},{"$f":"_xlfn.IFS(A295=\"-\",\"\",ISTEXT(D294),1,ISTEXT(B294),D294+1,TRUE,1)","v":3},{"$f":"_xlfn.IFS(A295=\"-\",\"\",ISTEXT(E294),1,TRUE,E294+1)","v":287},null,null,null,null,null,null,null,null,null,null,null,null,0,0,0,0,0,0,0,0,0,0,0]
[{"$f":"_xlfn.IFS(EDATE($A$9,12)=A295+1,\"-\",TRUE,A295+1)","v":"2025-10-15"},{"$f":"_xlfn.IFS(A296=\"-\",\"\",NOT(ISNUMBER(A297)),2,WEEKDAY(A296)=$H$3,1,TRUE,\"\")","v":""},{"$f":"_xlfn.IFS(A296=\"-\",\"\",$A$9=$A296,\"\",DAY($A$9)=DAY(A296+1),DATEDIF($A$9,A296+1,\"M\"),TRUE,\"\")","v":""},{"$f":"_xlfn.IFS(A296=\"-\",\"\",ISTEXT(D295),1,ISTEXT(B295),D295+1,TRUE,1)","v":4},{"$f":"_xlfn.IFS(A296=\"-\",\"\",ISTEXT(E295),1,TRUE,E295+1)","v":288},null,null,null,null,null,null,null,null,null,null,null,null,0,0,0,0,0,0,0,0,0,0,0]
[{"$f":"_xlfn.IFS(EDATE($A$9,12)=A296+1,\"-\",TRUE,A296+1)","v":"2025-10-16"},{"$f":"_xlfn.IFS(A297=\"-\",\"\",NOT(ISNUMBER(A298)),2,WEEKDAY(A297)=$H$3,1,TRUE,\"\")","v":""},{"$f":"_xlfn.IFS(A297=\"-\",\"\",$A$9=$A297,\"\",DAY($A$9)=DAY(A297+1),DATEDIF($A$9,A297+1,\"M\"),TRUE,\"\")","v":""},{"$f":"_xlfn.IFS(A297=\"-\",\"\",ISTEXT(D296),1,ISTEXT(B296),D296+1,TRUE,1)","v":5},{"$f":"_xlfn.IFS(A297=\"-\",\"\",ISTEXT(E296),1,TRUE,E296+1)","v":289},null,null,null,null,null,null,null,null,null,null,null,null,0,0,0,0,0,0,0,0,0,0,0]
[{"$f":"_xlfn.IFS(EDATE($A$9,12)=A297+1,\"-\",TRUE,A297+1)","v":"2025-10-17"},{"$f":"_xlfn.IFS(A298=\"-\",\"\",NOT(ISNUMBER(A299)),2,WEEKDAY(A298)=$H$3,1,TRUE,\"\")","v":""},{"$f":"_xlfn.IFS(A298=\"-\",\"\",$A$9=$A298,\"\",DAY($A$9)=DAY(A298+1),DATEDIF($A$9,A298+1,\"M\"),TRUE,\"\")","v":""},{"$f":"_xlfn.IFS(A298=\"-\",\"\",ISTEXT(D297),1,ISTEXT(B297),D297+1,TRUE,1)","v":6},{"$f":"_xlfn.IFS(A298=\"-\",\"\",ISTEXT(E297),1,TRUE,E297+1)","v":290},null,null,null,null,null,null,null,null,null,null,null,null,0,0,0,0,0,0,0,0,0,0,0]
[{"$f":"_xlfn.IFS(EDATE($A$9,12)=A298+1,\"-\",TRUE,A298+1)","v":"2025-10-18"},{"$f":"_xlfn.IFS(A299=\"-\",\"\",NOT(ISNUMBER(A300)),2,WEEKDAY(A299)=$H$3,1,TRUE,\"\")","v":1},{"$f":"_xlfn.IFS(A299=\"-\",\"\",$A$9=$A299,\"\",DAY($A$9)=DAY(A299+1),DATEDIF($A$9,A299+1,\"M\"),TRUE,\"\")","v":""},{"$f":"_xlfn.IFS(A299=\"-\",\"\",ISTEXT(D298),1,ISTEXT(B298),D298+1,TRUE,1)","v":7},{"$f":"_xlfn.IFS(A299=\"-\",\"\",ISTEXT(E298),1,TRUE,E298+1)","v":291},null,null,null,null,null,null,null,null,null,null,null,null,0,0,0,0,0,0,0,0,0,0,0]
[{"$f":"_xlfn.IFS(EDATE($A$9,12)=A299+1,\"-\",TRUE,A299+1)","v":"2025-10-19"},{"$f":"_xlfn.IFS(A300=\"-\",\"\",NOT(ISNUMBER(A301)),2,WEEKDAY(A300)=$H$3,1,TRUE,\"\")","v":""},{"$f":"_xlfn.IFS(A300=\"-\",\"\",$A$9=$A300,\"\",DAY($A$9)=DAY(A300+1),DATEDIF($A$9,A300+1,\"M\"),TRUE,\"\")","v":""},{"$f":"_xlfn.IFS(A300=\"-\",\"\",ISTEXT(D299),1,ISTEXT(B299),D299+1,TRUE,1)","v":1},{"$f":"_xlfn.IFS(A300=\"-\",\"\",ISTEXT(E299),1,TRUE,E299+1)","v":292},null,null,null,null,null,null,null,null,null,null,null,null,0,0,0,0,0,0,0,0,0,0,0]
[{"$f":"_xlfn.IFS(EDATE($A$9,12)=A300+1,\"-\",TRUE,A300+1)","v":"2025-10-20"},{"$f":"_xlfn.IFS(A301=\"-\",\"\",NOT(ISNUMBER(A302)),2,WEEKDAY(A301)=$H$3,1,TRUE,\"\")","v":""},{"$f":"_xlfn.IFS(A301=\"-\",\"\",$A$9=$A301,\"\",DAY($A$9)=DAY(A301+1),DATEDIF($A$9,A301+1,\"M\"),TRUE,\"\")","v":""},{"$f":"_xlfn.IFS(A301=\"-\",\"\",ISTEXT(D300),1,ISTEXT(B300),D300+1,TRUE,1)","v":2},{"$f":"_xlfn.IFS(A301=\"-\",\"\",ISTEXT(E300),1,TRUE,E300+1)","v":293},null,null,null,null,null,null,null,null,null,null,null,null,0,0,0,0,0,0,0,0,0,0,0]
[{"$f":"_xlfn.IFS(EDATE($A$9,12)=A301+1,\"-\",TRUE,A301+1)","v":"2025-10-21"},{"$f":"_xlfn.IFS(A302=\"-\",\"\",NOT(ISNUMBER(A303)),2,WEEKDAY(A302)=$H$3,1,TRUE,\"\")","v":""},{"$f":"_xlfn.IFS(A302=\"-\",\"\",$A$9=$A302,\"\",DAY($A$9)=DAY(A302+1),DATEDIF($A$9,A302+1,\"M\"),TRUE,\"\")","v":""},{"$f":"_xlfn.IFS(A302=\"-\",\"\",ISTEXT(D301),1,ISTEXT(B301),D301+1,TRUE,1)","v":3},{"$f":"_xlfn.IFS(A302=\"-\",\"\",ISTEXT(E301),1,TRUE,E301+1)","v":294},null,null,null,null,null,null,null,null,null,null,null,null,0,0,0,0,0,0,0,0,0,0,0]
[{"$f":"_xlfn.IFS(EDATE($A$9,12)=A302+1,\"-\",TRUE,A302+1)","v":"2025-10-22"},{"$f":"_xlfn.IFS(A303=\"-\",\"\",NOT(ISNUMBER(A304)),2,WEEKDAY(A303)=$H$3,1,TRUE,\"\")","v":""},{"$f":"_xlfn.IFS(A303=\"-\",\"\",$A$9=$A303,\"\",DAY($A$9)=DAY(A303+1),DATEDIF($A$9,A303+1,\"M\"),TRUE,\"\")","v":""},{"$f":"_xlfn.IFS(A303=\"-\",\"\",ISTEXT(D302),1,ISTEXT(B302),D302+1,TRUE,1)","v":4},{"$f":"_xlfn.IFS(A303=\"-\",\"\",ISTEXT(E302),1,TRUE,E302+1)","v":295},null,null,null,null,null,null,null,null,null,null,null,null,0,0,0,0,0,0,0,0,0,0,0]
[{"$f":"_xlfn.IFS(EDATE($A$9,12)=A303+1,\"-\",TRUE,A303+1)","v":"2025-10-23"},{"$f":"_xlfn.IFS(A304=\"-\",\"\",NOT(ISNUMBER(A305)),2,WEEKDAY(A304)=$H$3,1,TRUE,\"\")","v":""},{"$f":"_xlfn.IFS(A304=\"-\",\"\",$A$9=$A304,\"\",DAY($A$9)=DAY(A304+1),DATEDIF($A$9,A304+1,\"M\"),TRUE,\"\")","v":""},{"$f":"_xlfn.IFS(A304=\"-\",\"\",ISTEXT(D303),1,ISTEXT(B303),D303+1,TRUE,1)","v":5},{"$f":"_xlfn.IFS(A304=\"-\",\"\",ISTEXT(E303),1,TRUE,E303+1)","v":296},null,null,null,null,null,null,null,null,null,null,null,null,0,0,0,0,0,0,0,0,0,0,0]
[{"$f":"_xlfn.IFS(EDATE($A$9,12)=A304+1,\"-\",TRUE,A304+1)","v":"2025-10-24"},{"$f":"_xlfn.IFS(A305=\"-\",\"\",NOT(ISNUMBER(A306)),2,WEEKDAY(A305)=$H$3,1,TRUE,\"\")","v":""},{"$f":"_xlfn.IFS(A305=\"-\",\"\",$A$9=$A305,\"\",DAY($A$9)=DAY(A305+1),DATEDIF($A$9,A305+1,\"M\"),TRUE,\"\")","v":""},{"$f":"_xlfn.IFS(A305=\"-\",\"\",ISTEXT(D304),1,ISTEXT(B304),D304+1,TRUE,1)","v":6},{"$f":"_xlfn.IFS(A305=\"-\",\"\",ISTEXT(E304),1,TRUE,E304+1)","v":297},null,null,null,null,null,null,null,null,null,null,null,null,0,0,0,0,0,0,0,0,0,0,0]
[{"$f":"_xlfn.IFS(EDATE($A$9,12)=A305+1,\"-\",TRUE,A305+1)","v":"2025-10-25"},{"$f":"_xlfn.IFS(A306=\"-\",\"\",NOT(ISNUMBER(A307)),2,WEEKDAY(A306)=$H$3,1,TRUE,\"\")","v":1},{"$f":"_xlfn.IFS(A306=\"-\",\"\",$A$9=$A306,\"\",DAY($A$9)=DAY(A306+1),DATEDIF($A$9,A306+1,\"M\"),TRUE,\"\")","v":""},{"$f":"_xlfn.IFS(A306=\"-\",\"\",ISTEXT(D305),1,ISTEXT(B305),D305+1,TRUE,1)","v":7},{"$f":"_xlfn.IFS(A306=\"-\",\"\",ISTEXT(E305),1,TRUE,E305+1)","v":298},null,null,null,null,null,null,null,null,null,null,null,null,0,0,0,0,0,0,0,0,0,0,0]
[{"$f":"_xlfn.IFS(EDATE($A$9,12)=A306+1,\"-\",TRUE,A306+1)","v":"2025-10-26"},{"$f":"_xlfn.IFS(A307=\"-\",\"\",NOT(ISNUMBER(A308)),2,WEEKDAY(A307)=$H$3,1,TRUE,\"\")","v":""},{"$f":"_xlfn.IFS(A307=\"-\",\"\",$A$9=$A307,\"\",DAY($A$9)=DAY(A307+1),DATEDIF($A$9,A307+1,\"M\"),TRUE,\"\")","v":""},{"$f":"_xlfn.IFS(A307=\"-\",\"\",ISTEXT(D306),1,ISTEXT(B306),D306+1,TRUE,1)","v":1},{"$f":"_xlfn.IFS(A307=\"-\",\"\",ISTEXT(E306),1,TRUE,E306+1)","v":299},null,null,null,null,null,null,null,null,null,null,null,null,0,0,0,0,0,0,0,0,0,0,0]
[{"$f":"_xlfn.IFS(EDATE($A$9,12)=A307+1,\"-\",TRUE,A307+1)","v":"2025-10-27"},{"$f":"_xlfn.IFS(A308=\"-\",\"\",NOT(ISNUMBER(A309)),2,WEEKDAY(A308)=$H$3,1,TRUE,\"\")","v":""},{"$f":"_xlfn.IFS(A308=\"-\",\"\",$A$9=$A308,\"\",DAY($A$9)=DAY(A308+1),DATEDIF($A$9,A308+1,\"M\"),TRUE,\"\")","v":""},{"$f":"_xlfn.IFS(A308=\"-\",\"\",ISTEXT(D307),1,ISTEXT(B307),D307+1,TRUE,1)","v":2},{"$f":"_xlfn.IFS(A308=\"-\",\"\",ISTEXT(E307),1,TRUE,E307+1)","v":300},null,null,null,null,null,null,null,null,null,null,null,null,0,0,0,0,0,0,0,0,0,0,0]
[{"$f":"_xlfn.IFS(EDATE($A$9,12)=A308+1,\"-\",TRUE,A308+1)","v":"2025-10-28"},{"$f":"_xlfn.IFS(A309=\"-\",\"\",NOT(ISNUMBER(A310)),2,WEEKDAY(A309)=$H$3,1,TRUE,\"\")","v":""},{"$f":"_xlfn.IFS(A309=\"-\",\"\",$A$9=$A309,\"\",DAY($A$9)=DAY(A309+1),DATEDIF($A$9,A309+1,\"M\"),TRUE,\"\")","v":""},{"$f":"_xlfn.IFS(A309=\"-\",\"\",ISTEXT(D308),1,ISTEXT(B308),D308+1,TRUE,1)","v":3},{"$f":"_xlfn.IFS(A309=\"-\",\"\",ISTEXT(E308),1,TRUE,E308+1)","v":301},null,null,null,null,null,null,null,null,null,null,null,null,0,0,0,0,0,0,0,0,0,0,0]
[{"$f":"_xlfn.IFS(EDATE($A$9,12)=A309+1,\"-\",TRUE,A309+1)","v":"2025-10-29"},{"$f":"_xlfn.IFS(A310=\"-\",\"\",NOT(ISNUMBER(A311)),2,WEEKDAY(A310)=$H$3,1,TRUE,\"\")","v":""},{"$f":"_xlfn.IFS(A310=\"-\",\"\",$A$9=$A310,\"\",DAY($A$9)=DAY(A310+1),DATEDIF($A$9,A310+1,\"M\"),TRUE,\"\")","v":""},{"$f":"_xlfn.IFS(A310=\"-\",\"\",ISTEXT(D309),1,ISTEXT(B309),D309+1,TRUE,1)","v":4},{"$f":"_xlfn.IFS(A310=\"-\",\"\",ISTEXT(E309),1,TRUE,E309+1)","v":302},null,null,null,null,null,null,null,null,null,null,null,null,0,0,0,0,0,0,0,0,0,0,0]
[{"$f":"_xlfn.IFS(EDATE($A$9,12)=A310+1,\"-\",TRUE,A310+1)","v":"2025-10-30"},{"$f":"_xlfn.IFS(A311=\"-\",\"\",NOT(ISNUMBER(A312)),2,WEEKDAY(A311)=$H$3,1,TRUE,\"\")","v":""},{"$f":"_xlfn.IFS(A311=\"-\",\"\",$A$9=$A311,\"\",DAY($A$9)=DAY(A311+1),DATEDIF($A$9,A311+1,\"M\"),TRUE,\"\")","v":""},{"$f":"_xlfn.IFS(A311=\"-\",\"\",ISTEXT(D310),1,ISTEXT(B310),D310+1,TRUE,1)","v":5},{"$f":"_xlfn.IFS(A311=\"-\",\"\",ISTEXT(E310),1,TRUE,E310+1)","v":303},null,null,null,null,null,null,null,null,null,null,null,null,0,0,0,0,0,0,0,0,0,0,0]
[{"$f":"_xlfn.IFS(EDATE($A$9,12)=A311+1,\"-\",TRUE,A311+1)","v":"2025-10-31"},{"$f":"_xlfn.IFS(A312=\"-\",\"\",NOT(ISNUMBER(A313)),2,WEEKDAY(A312)=$H$3,1,TRUE,\"\")","v":""},{"$f":"_xlfn.IFS(A312=\"-\",\"\",$A$9=$A312,\"\",DAY($A$9)=DAY(A312+1),DATEDIF($A$9,A312+1,\"M\"),TRUE,\"\")","v":10},{"$f":"_xlfn.IFS(A312=\"-\",\"\",ISTEXT(D311),1,ISTEXT(B311),D311+1,TRUE,1)","v":6},{"$f":"_xlfn.IFS(A312=\"-\",\"\",ISTEXT(E311),1,TRUE,E311+1)","v":304},null,null,null,null,null,null,null,null,null,null,null,null,0,0,0,0,0,0,0,0,0,0,0]
[{"$f":"_xlfn.IFS(EDATE($A$9,12)=A312+1,\"-\",TRUE,A312+1)","v":"2025-11-01"},{"$f":"_xlfn.IFS(A313=\"-\",\"\",NOT(ISNUMBER(A314)),2,WEEKDAY(A313)=$H$3,1,TRUE,\"\")","v":1},{"$f":"_xlfn.IFS(A313=\"-\",\"\",$A$9=$A313,\"\",DAY($A$9)=DAY(A313+1),DATEDIF($A$9,A313+1,\"M\"),TRUE,\"\")","v":""},{"$f":"_xlfn.IFS(A313=\"-\",\"\",ISTEXT(D312),1,ISTEXT(B312),D312+1,TRUE,1)","v":7},{"$f":"_xlfn.IFS(A313=\"-\",\"\",ISTEXT(E312),1,TRUE,E312+1)","v":305},null,null,null,null,null,null,null,null,null,null,null,null,0,0,0,0,0,0,0,0,0,0,0]
[{"$f":"_xlfn.IFS(EDATE($A$9,12)=A313+1,\"-\",TRUE,A313+1)","v":"2025-11-02"},{"$f":"_xlfn.IFS(A314=\"-\",\"\",NOT(ISNUMBER(A315)),2,WEEKDAY(A314)=$H$3,1,TRUE,\"\")","v":""},{"$f":"_xlfn.IFS(A314=\"-\",\"\",$A$9=$A314,\"\",DAY($A$9)=DAY(A314+1),DATEDIF($A$9,A314+1,\"M\"),TRUE,\"\")","v":""},{"$f":"_xlfn.IFS(A314=\"-\",\"\",ISTEXT(D313),1,ISTEXT(B313),D313+1,TRUE,1)","v":1},{"$f":"_xlfn.IFS(A314=\"-\",\"\",ISTEXT(E313),1,TRUE,E313+1)","v":306},null,null,null,null,null,null,null,null,null,null,null,null,0,0,0,0,0,0,0,0,0,0,0]
[{"$f":"_xlfn.IFS(EDATE($A$9,12)=A314+1,\"-\",TRUE,A314+1)","v":"2025-11-03"},{"$f":"_xlfn.IFS(A315=\"-\",\"\",NOT(ISNUMBER(A316)),2,WEEKDAY(A315)=$H$3,1,TRUE,\"\")","v":""},{"$f":"_xlfn.IFS(A315=\"-\",\"\",$A$9=$A315,\"\",DAY($A$9)=DAY(A315+1),DATEDIF($A$9,A315+1,\"M\"),TRUE,\"\")","v":""},{"$f":"_xlfn.IFS(A315=\"-\",\"\",ISTEXT(D314),1,ISTEXT(B314),D314+1,TRUE,1)","v":2},{"$f":"_xlfn.IFS(A315=\"-\",\"\",ISTEXT(E314),1,TRUE,E314+1)","v":307},null,null,null,null,null,null,null,null,null,null,null,null,0,0,0,0,0,0,0,0,0,0,0]
[{"$f":"_xlfn.IFS(EDATE($A$9,12)=A315+1,\"-\",TRUE,A315+1)","v":"2025-11-04"},{"$f":"_xlfn.IFS(A316=\"-\",\"\",NOT(ISNUMBER(A317)),2,WEEKDAY(A316)=$H$3,1,TRUE,\"\")","v":""},{"$f":"_xlfn.IFS(A316=\"-\",\"\",$A$9=$A316,\"\",DAY($A$9)=DAY(A316+1),DATEDIF($A$9,A316+1,\"M\"),TRUE,\"\")","v":""},{"$f":"_xlfn.IFS(A316=\"-\",\"\",ISTEXT(D315),1,ISTEXT(B315),D315+1,TRUE,1)","v":3},{"$f":"_xlfn.IFS(A316=\"-\",\"\",ISTEXT(E315),1,TRUE,E315+1)","v":308},null,null,null,null,null,null,null,null,null,null,null,null,0,0,0,0,0,0,0,0,0,0,0]
[{"$f":"_xlfn.IFS(EDATE($A$9,12)=A316+1,\"-\",TRUE,A316+1)","v":"2025-11-05"},{"$f":"_xlfn.IFS(A317=\"-\",\"\",NOT(ISNUMBER(A318)),2,WEEKDAY(A317)=$H$3,1,TRUE,\"\")","v":""},{"$f":"_xlfn.IFS(A317=\"-\",\"\",$A$9=$A317,\"\",DAY($A$9)=DAY(A317+1),DATEDIF($A$9,A317+1,\"M\"),TRUE,\"\")","v":""},{"$f":"_xlfn.IFS(A317=\"-\",\"\",ISTEXT(D316),1,ISTEXT(B316),D316+1,TRUE,1)","v":4},{"$f":"_xlfn.IFS(A317=\"-\",\"\",ISTEXT(E316),1,TRUE,E316+1)","v":309},null,null,null,null,null,null,null,null,null,null,null,null,0,0,0,0,0,0,0,0,0,0,0]
[{"$f":"_xlfn.IFS(EDATE($A$9,12)=A317+1,\"-\",TRUE,A317+1)","v":"2025-11-06"},{"$f":"_xlfn.IFS(A318=\"-\",\"\",NOT(ISNUMBER(A319)),2,WEEKDAY(A318)=$H$3,1,TRUE,\"\")","v":""},{"$f":"_xlfn.IFS(A318=\"-\",\"\",$A$9=$A318,\"\",DAY($A$9)=DAY(A318+1),DATEDIF($A$9,A318+1,\"M\"),TRUE,\"\")","v":""},{"$f":"_xlfn.IFS(A318=\"-\",\"\",ISTEXT(D317),1,ISTEXT(B317),D317+1,TRUE,1)","v":5},{"$f":"_xlfn.IFS(A318=\"-\",\"\",ISTEXT(E317),1,TRUE,E317+1)","v":310},null,null,null,null,null,null,null,null,null,null,null,null,0,0,0,0,0,0,0,0,0,0,0]
[{"$f":"_xlfn.IFS(EDATE($A$9,12)=A318+1,\"-\",TRUE,A318+1)","v":"2025-11-07"},{"$f":"_xlfn.IFS(A319=\"-\",\"\",NOT(ISNUMBER(A320)),2,WEEKDAY(A319)=$H$3,1,TRUE,\"\")","v":""},{"$f":"_xlfn.IFS(A319=\"-\",\"\",$A$9=$A319,\"\",DAY($A$9)=DAY(A319+1),DATEDIF($A$9,A319+1,\"M\"),TRUE,\"\")","v":""},{"$f":"_xlfn.IFS(A319=\"-\",\"\",ISTEXT(D318),1,ISTEXT(B318),D318+1,TRUE,1)","v":6},{"$f":"_xlfn.IFS(A319=\"-\",\"\",ISTEXT(E318),1,TRUE,E318+1)","v":311},null,null,null,null,null,null,null,null,null,null,null,null,0,0,0,0,0,0,0,0,0,0,0]
[{"$f":"_xlfn.IFS(EDATE($A$9,12)=A319+1,\"-\",TRUE,A319+1)","v":"2025-11-08"},{"$f":"_xlfn.IFS(A320=\"-\",\"\",NOT(ISNUMBER(A321)),2,WEEKDAY(A320)=$H$3,1,TRUE,\"\")","v":1},{"$f":"_xlfn.IFS(A320=\"-\",\"\",$A$9=$A320,\"\",DAY($A$9)=DAY(A320+1),DATEDIF($A$9,A320+1,\"M\"),TRUE,\"\")","v":""},{"$f":"_xlfn.IFS(A320=\"-\",\"\",ISTEXT(D319),1,ISTEXT(B319),D319+1,TRUE,1)","v":7},{"$f":"_xlfn.IFS(A320=\"-\",\"\",ISTEXT(E319),1,TRUE,E319+1)","v":312},null,null,null,null,null,null,null,null,null,null,null,null,0,0,0,0,0,0,0,0,0,0,0]
[{"$f":"_xlfn.IFS(EDATE($A$9,12)=A320+1,\"-\",TRUE,A320+1)","v":"2025-11-09"},{"$f":"_xlfn.IFS(A321=\"-\",\"\",NOT(ISNUMBER(A322)),2,WEEKDAY(A321)=$H$3,1,TRUE,\"\")","v":""},{"$f":"_xlfn.IFS(A321=\"-\",\"\",$A$9=$A321,\"\",DAY($A$9)=DAY(A321+1),DATEDIF($A$9,A321+1,\"M\"),TRUE,\"\")","v":""},{"$f":"_xlfn.IFS(A321=\"-\",\"\",ISTEXT(D320),1,ISTEXT(B320),D320+1,TRUE,1)","v":1},{"$f":"_xlfn.IFS(A321=\"-\",\"\",ISTEXT(E320),1,TRUE,E320+1)","v":313},null,null,null,null,null,null,null,null,null,null,null,null,0,0,0,0,0,0,0,0,0,0,0]
[{"$f":"_xlfn.IFS(EDATE($A$9,12)=A321+1,\"-\",TRUE,A321+1)","v":"2025-11-10"},{"$f":"_xlfn.IFS(A322=\"-\",\"\",NOT(ISNUMBER(A323)),2,WEEKDAY(A322)=$H$3,1,TRUE,\"\")","v":""},{"$f":"_xlfn.IFS(A322=\"-\",\"\",$A$9=$A322,\"\",DAY($A$9)=DAY(A322+1),DATEDIF($A$9,A322+1,\"M\"),TRUE,\"\")","v":""},{"$f":"_xlfn.IFS(A322=\"-\",\"\",ISTEXT(D321),1,ISTEXT(B321),D321+1,TRUE,1)","v":2},{"$f":"_xlfn.IFS(A322=\"-\",\"\",ISTEXT(E321),1,TRUE,E321+1)","v":314},null,null,null,null,null,null,null,null,null,null,null,null,0,0,0,0,0,0,0,0,0,0,0]
[{"$f":"_xlfn.IFS(EDATE($A$9,12)=A322+1,\"-\",TRUE,A322+1)","v":"2025-11-11"},{"$f":"_xlfn.IFS(A323=\"-\",\"\",NOT(ISNUMBER(A324)),2,WEEKDAY(A323)=$H$3,1,TRUE,\"\")","v":""},{"$f":"_xlfn.IFS(A323=\"-\",\"\",$A$9=$A323,\"\",DAY($A$9)=DAY(A323+1),DATEDIF($A$9,A323+1,\"M\"),TRUE,\"\")","v":""},{"$f":"_xlfn.IFS(A323=\"-\",\"\",ISTEXT(D322),1,ISTEXT(B322),D322+1,TRUE,1)","v":3},{"$f":"_xlfn.IFS(A323=\"-\",\"\",ISTEXT(E322),1,TRUE,E322+1)","v":315},null,null,null,null,null,null,null,null,null,null,null,null,0,0,0,0,0,0,0,0,0,0,0]
[{"$f":"_xlfn.IFS(EDATE($A$9,12)=A323+1,\"-\",TRUE,A323+1)","v":"2025-11-12"},{"$f":"_xlfn.IFS(A324=\"-\",\"\",NOT(ISNUMBER(A325)),2,WEEKDAY(A324)=$H$3,1,TRUE,\"\")","v":""},{"$f":"_xlfn.IFS(A324=\"-\",\"\",$A$9=$A324,\"\",DAY($A$9)=DAY(A324+1),DATEDIF($A$9,A324+1,\"M\"),TRUE,\"\")","v":""},{"$f":"_xlfn.IFS(A324=\"-\",\"\",ISTEXT(D323),1,ISTEXT(B323),D323+1,TRUE,1)","v":4},{"$f":"_xlfn.IFS(A324=\"-\",\"\",ISTEXT(E323),1,TRUE,E323+1)","v":316},null,null,null,null,null,null,null,null,null,null,null,null,0,0,0,0,0,0,0,0,0,0,0]
[{"$f":"_xlfn.IFS(EDATE($A$9,12)=A324+1,\"-\",TRUE,A324+1)","v":"2025-11-13"},{"$f":"_xlfn.IFS(A325=\"-\",\"\",NOT(ISNUMBER(A326)),2,WEEKDAY(A325)=$H$3,1,TRUE,\"\")","v":""},{"$f":"_xlfn.IFS(A325=\"-\",\"\",$A$9=$A325,\"\",DAY($A$9)=DAY(A325+1),DATEDIF($A$9,A325+1,\"M\"),TRUE,\"\")","v":""},{"$f":"_xlfn.IFS(A325=\"-\",\"\",ISTEXT(D324),1,ISTEXT(B324),D324+1,TRUE,1)","v":5},{"$f":"_xlfn.IFS(A325=\"-\",\"\",ISTEXT(E324),1,TRUE,E324+1)","v":317},null,null,null,null,null,null,null,null,null,null,null,null,0,0,0,0,0,0,0,0,0,0,0]
[{"$f":"_xlfn.IFS(EDATE($A$9,12)=A325+1,\"-\",TRUE,A325+1)","v":"2025-11-14"},{"$f":"_xlfn.IFS(A326=\"-\",\"\",NOT(ISNUMBER(A327)),2,WEEKDAY(A326)=$H$3,1,TRUE,\"\")","v":""},{"$f":"_xlfn.IFS(A326=\"-\",\"\",$A$9=$A326,\"\",DAY($A$9)=DAY(A326+1),DATEDIF($A$9,A326+1,\"M\"),TRUE,\"\")","v":""},{"$f":"_xlfn.IFS(A326=\"-\",\"\",ISTEXT(D325),1,ISTEXT(B325),D325+1,TRUE,1)","v":6},{"$f":"_xlfn.IFS(A326=\"-\",\"\",ISTEXT(E325),1,TRUE,E325+1)","v":318},null,null,null,null,null,null,null,null,null,null,null,null,0,0,0,0,0,0,0,0,0,0,0]
[{"$f":"_xlfn.IFS(EDATE($A$9,12)=A326+1,\"-\",TRUE,A326+1)","v":"2025-11-15"},{"$f":"_xlfn.IFS(A327=\"-\",\"\",NOT(ISNUMBER(A328)),2,WEEKDAY(A327)=$H$3,1,TRUE,\"\")","v":1},{"$f":"_xlfn.IFS(A327=\"-\",\"\",$A$9=$A327,\"\",DAY($A$9)=DAY(A327+1),DATEDIF($A$9,A327+1,\"M\"),TRUE,\"\")","v":""},{"$f":"_xlfn.IFS(A327=\"-\",\"\",ISTEXT(D326),1,ISTEXT(B326),D326+1,TRUE,1)","v":7},{"$f":"_xlfn.IFS(A327=\"-\",\"\",ISTEXT(E326),1,TRUE,E326+1)","v":319},null,null,null,null,null,null,null,null,null,null,null,null,0,0,0,0,0,0,0,0,0,0,0]
[{"$f":"_xlfn.IFS(EDATE($A$9,12)=A327+1,\"-\",TRUE,A327+1)","v":"2025-11-16"},{"$f":"_xlfn.IFS(A328=\"-\",\"\",NOT(ISNUMBER(A329)),2,WEEKDAY(A328)=$H$3,1,TRUE,\"\")","v":""},{"$f":"_xlfn.IFS(A328=\"-\",\"\",$A$9=$A328,\"\",DAY($A$9)=DAY(A328+1),DATEDIF($A$9,A328+1,\"M\"),TRUE,\"\")","v":""},{"$f":"_xlfn.IFS(A328=\"-\",\"\",ISTEXT(D327),1,ISTEXT(B327),D327+1,TRUE,1)","v":1},{"$f":"_xlfn.IFS(A328=\"-\",\"\",ISTEXT(E327),1,TRUE,E327+1)","v":320},null,null,null,null,null,null,null,null,null,null,null,null,0,0,0,0,0,0,0,0,0,0,0]
[{"$f":"_xlfn.IFS(EDATE($A$9,12)=A328+1,\"-\",TRUE,A328+1)","v":"2025-11-17"},{"$f":"_xlfn.IFS(A329=\"-\",\"\",NOT(ISNUMBER(A330)),2,WEEKDAY(A329)=$H$3,1,TRUE,\"\")","v":""},{"$f":"_xlfn.IFS(A329=\"-\",\"\",$A$9=$A329,\"\",DAY($A$9)=DAY(A329+1),DATEDIF($A$9,A329+1,\"M\"),TRUE,\"\")","v":""},{"$f":"_xlfn.IFS(A329=\"-\",\"\",ISTEXT(D328),1,ISTEXT(B328),D328+1,TRUE,1)","v":2},{"$f":"_xlfn.IFS(A329=\"-\",\"\",ISTEXT(E328),1,TRUE,E328+1)","v":321},null,null,null,null,null,null,null,null,null,null,null,null,0,0,0,0,0,0,0,0,0,0,0]
[{"$f":"_xlfn.IFS(EDATE($A$9,12)=A329+1,\"-\",TRUE,A329+1)","v":"2025-11-18"},{"$f":"_xlfn.IFS(A330=\"-\",\"\",NOT(ISNUMBER(A331)),2,WEEKDAY(A330)=$H$3,1,TRUE,\"\")","v":""},{"$f":"_xlfn.IFS(A330=\"-\",\"\",$A$9=$A330,\"\",DAY($A$9)=DAY(A330+1),DATEDIF($A$9,A330+1,\"M\"),TRUE,\"\")","v":""},{"$f":"_xlfn.IFS(A330=\"-\",\"\",ISTEXT(D329),1,ISTEXT(B329),D329+1,TRUE,1)","v":3},{"$f":"_xlfn.IFS(A330=\"-\",\"\",ISTEXT(E329),1,TRUE,E329+1)","v":322},null,null,null,null,null,null,null,null,null,null,null,null,0,0,0,0,0,0,0,0,0,0,0]
[{"$f":"_xlfn.IFS(EDATE($A$9,12)=A330+1,\"-\",TRUE,A330+1)","v":"2025-11-19"},{"$f":"_xlfn.IFS(A331=\"-\",\"\",NOT(ISNUMBER(A332)),2,WEEKDAY(A331)=$H$3,1,TRUE,\"\")","v":""},{"$f":"_xlfn.IFS(A331=\"-\",\"\",$A$9=$A331,\"\",DAY($A$9)=DAY(A331+1),DATEDIF($A$9,A331+1,\"M\"),TRUE,\"\")","v":""},{"$f":"_xlfn.IFS(A331=\"-\",\"\",ISTEXT(D330),1,ISTEXT(B330),D330+1,TRUE,1)","v":4},{"$f":"_xlfn.IFS(A331=\"-\",\"\",ISTEXT(E330),1,TRUE,E330+1)","v":323},null,null,null,null,null,null,null,null,null,null,null,null,0,0,0,0,0,0,0,0,0,0,0]
[{"$f":"_xlfn.IFS(EDATE($A$9,12)=A331+1,\"-\",TRUE,A331+1)","v":"2025-11-20"},{"$f":"_xlfn.IFS(A332=\"-\",\"\",NOT(ISNUMBER(A333)),2,WEEKDAY(A332)=$H$3,1,TRUE,\"\")","v":""},{"$f":"_xlfn.IFS(A332=\"-\",\"\",$A$9=$A332,\"\",DAY($A$9)=DAY(A332+1),DATEDIF($A$9,A332+1,\"M\"),TRUE,\"\")","v":""},{"$f":"_xlfn.IFS(A332=\"-\",\"\",ISTEXT(D331),1,ISTEXT(B331),D331+1,TRUE,1)","v":5},{"$f":"_xlfn.IFS(A332=\"-\",\"\",ISTEXT(E331),1,TRUE,E331+1)","v":324},null,null,null,null,null,null,null,null,null,null,null,null,0,0,0,0,0,0,0,0,0,0,0]
[{"$f":"_xlfn.IFS(EDATE($A$9,12)=A332+1,\"-\",TRUE,A332+1)","v":"2025-11-21"},{"$f":"_xlfn.IFS(A333=\"-\",\"\",NOT(ISNUMBER(A334)),2,WEEKDAY(A333)=$H$3,1,TRUE,\"\")","v":""},{"$f":"_xlfn.IFS(A333=\"-\",\"\",$A$9=$A333,\"\",DAY($A$9)=DAY(A333+1),DATEDIF($A$9,A333+1,\"M\"),TRUE,\"\")","v":""},{"$f":"_xlfn.IFS(A333=\"-\",\"\",ISTEXT(D332),1,ISTEXT(B332),D332+1,TRUE,1)","v":6},{"$f":"_xlfn.IFS(A333=\"-\",\"\",ISTEXT(E332),1,TRUE,E332+1)","v":325},null,null,null,null,null,null,null,null,null,null,null,null,0,0,0,0,0,0,0,0,0,0,0]
[{"$f":"_xlfn.IFS(EDATE($A$9,12)=A333+1,\"-\",TRUE,A333+1)","v":"2025-11-22"},{"$f":"_xlfn.IFS(A334=\"-\",\"\",NOT(ISNUMBER(A335)),2,WEEKDAY(A334)=$H$3,1,TRUE,\"\")","v":1},{"$f":"_xlfn.IFS(A334=\"-\",\"\",$A$9=$A334,\"\",DAY($A$9)=DAY(A334+1),DATEDIF($A$9,A334+1,\"M\"),TRUE,\"\")","v":""},{"$f":"_xlfn.IFS(A334=\"-\",\"\",ISTEXT(D333),1,ISTEXT(B333),D333+1,TRUE,1)","v":7},{"$f":"_xlfn.IFS(A334=\"-\",\"\",ISTEXT(E333),1,TRUE,E333+1)","v":326},null,null,null,null,null,null,null,null,null,null,null,null,{"$f":"K334-J334-SUM(L334:P334)","v":0},0,0,0,0,0,0,0,0,0,0]
[{"$f":"_xlfn.IFS(EDATE($A$9,12)=A334+1,\"-\",TRUE,A334+1)","v":"2025-11-23"},{"$f":"_xlfn.IFS(A335=\"-\",\"\",NOT(ISNUMBER(A336)),2,WEEKDAY(A335)=$H$3,1,TRUE,\"\")","v":""},{"$f":"_xlfn.IFS(A335=\"-\",\"\",$A$9=$A335,\"\",DAY($A$9)=DAY(A335+1),DATEDIF($A$9,A335+1,\"M\"),TRUE,\"\")","v":""},{"$f":"_xlfn.IFS(A335=\"-\",\"\",ISTEXT(D334),1,ISTEXT(B334),D334+1,TRUE,1)","v":1},{"$f":"_xlfn.IFS(A335=\"-\",\"\",ISTEXT(E334),1,TRUE,E334+1)","v":327},null,null,null,null,null,null,null,null,null,null,null,null,0,0,0,0,0,0,0,0,0,0,0]
[{"$f":"_xlfn.IFS(EDATE($A$9,12)=A335+1,\"-\",TRUE,A335+1)","v":"2025-11-24"},{"$f":"_xlfn.IFS(A336=\"-\",\"\",NOT(ISNUMBER(A337)),2,WEEKDAY(A336)=$H$3,1,TRUE,\"\")","v":""},{"$f":"_xlfn.IFS(A336=\"-\",\"\",$A$9=$A336,\"\",DAY($A$9)=DAY(A336+1),DATEDIF($A$9,A336+1,\"M\"),TRUE,\"\")","v":""},{"$f":"_xlfn.IFS(A336=\"-\",\"\",ISTEXT(D335),1,ISTEXT(B335),D335+1,TRUE,1)","v":2},{"$f":"_xlfn.IFS(A336=\"-\",\"\",ISTEXT(E335),1,TRUE,E335+1)","v":328},null,null,null,null,null,null,null,null,null,null,null,null,0,0,0,0,0,0,0,0,0,0,0]
[{"$f":"_xlfn.IFS(EDATE($A$9,12)=A336+1,\"-\",TRUE,A336+1)","v":"2025-11-25"},{"$f":"_xlfn.IFS(A337=\"-\",\"\",NOT(ISNUMBER(A338)),2,WEEKDAY(A337)=$H$3,1,TRUE,\"\")","v":""},{"$f":"_xlfn.IFS(A337=\"-\",\"\",$A$9=$A337,\"\",DAY($A$9)=DAY(A337+1),DATEDIF($A$9,A337+1,\"M\"),TRUE,\"\")","v":""},{"$f":"_xlfn.IFS(A337=\"-\",\"\",ISTEXT(D336),1,ISTEXT(B336),D336+1,TRUE,1)","v":3},{"$f":"_xlfn.IFS(A337=\"-\",\"\",ISTEXT(E336),1,TRUE,E336+1)","v":329},null,null,null,null,null,null,null,null,null,null,null,null,0,0,0,0,0,0,0,0,0,0,0]
[{"$f":"_xlfn.IFS(EDATE($A$9,12)=A337+1,\"-\",TRUE,A337+1)","v":"2025-11-26"},{"$f":"_xlfn.IFS(A338=\"-\",\"\",NOT(ISNUMBER(A339)),2,WEEKDAY(A338)=$H$3,1,TRUE,\"\")","v":""},{"$f":"_xlfn.IFS(A338=\"-\",\"\",$A$9=$A338,\"\",DAY($A$9)=DAY(A338+1),DATEDIF($A$9,A338+1,\"M\"),TRUE,\"\")","v":""},{"$f":"_xlfn.IFS(A338=\"-\",\"\",ISTEXT(D337),1,ISTEXT(B337),D337+1,TRUE,1)","v":4},{"$f":"_xlfn.IFS(A338=\"-\",\"\",ISTEXT(E337),1,TRUE,E337+1)","v":330},null,null,null,null,null,null,null,null,null,null,null,null,0,0,0,0,0,0,0,0,0,0,0]
[{"$f":"_xlfn.IFS(EDATE($A$9,12)=A338+1,\"-\",TRUE,A338+1)","v":"2025-11-27"},{"$f":"_xlfn.IFS(A339=\"-\",\"\",NOT(ISNUMBER(A340)),2,WEEKDAY(A339)=$H$3,1,TRUE,\"\")","v":""},{"$f":"_xlfn.IFS(A339=\"-\",\"\",$A$9=$A339,\"\",DAY($A$9)=DAY(A339+1),DATEDIF($A$9,A339+1,\"M\"),TRUE,\"\")","v":""},{"$f":"_xlfn.IFS(A339=\"-\",\"\",ISTEXT(D338),1,ISTEXT(B338),D338+1,TRUE,1)","v":5},{"$f":"_xlfn.IFS(A339=\"-\",\"\",ISTEXT(E338),1,TRUE,E338+1)","v":331},null,null,null,null,null,null,null,null,null,null,null,null,0,0,0,0,0,0,0,0,0,0,0]
[{"$f":"_xlfn.IFS(EDATE($A$9,12)=A339+1,\"-\",TRUE,A339+1)","v":"2025-11-28"},{"$f":"_xlfn.IFS(A340=\"-\",\"\",NOT(ISNUMBER(A341)),2,WEEKDAY(A340)=$H$3,1,TRUE,\"\")","v":""},{"$f":"_xlfn.IFS(A340=\"-\",\"\",$A$9=$A340,\"\",DAY($A$9)=DAY(A340+1),DATEDIF($A$9,A340+1,\"M\"),TRUE,\"\")","v":""},{"$f":"_xlfn.IFS(A340=\"-\",\"\",ISTEXT(D339),1,ISTEXT(B339),D339+1,TRUE,1)","v":6},{"$f":"_xlfn.IFS(A340=\"-\",\"\",ISTEXT(E339),1,TRUE,E339+1)","v":332},null,null,null,null,null,null,null,null,null,null,null,null,0,0,0,0,0,0,0,0,0,0,0]
[{"$f":"_xlfn.IFS(EDATE($A$9,12)=A340+1,\"-\",TRUE,A340+1)","v":"2025-11-29"},{"$f":"_xlfn.IFS(A341=\"-\",\"\",NOT(ISNUMBER(A342)),2,WEEKDAY(A341)=$H$3,1,TRUE,\"\")","v":1},{"$f":"_xlfn.IFS(A341=\"-\",\"\",$A$9=$A341,\"\",DAY($A$9)=DAY(A341+1),DATEDIF($A$9,A341+1,\"M\"),TRUE,\"\")","v":""},{"$f":"_xlfn.IFS(A341=\"-\",\"\",ISTEXT(D340),1,ISTEXT(B340),D340+1,TRUE,1)","v":7},{"$f":"_xlfn.IFS(A341=\"-\",\"\",ISTEXT(E340),1,TRUE,E340+1)","v":333},null,null,null,null,null,null,null,null,null,null,null,null,0,0,0,0,0,0,0,0,0,0,0]
[{"$f":"_xlfn.IFS(EDATE($A$9,12)=A341+1,\"-\",TRUE,A341+1)","v":"2025-11-30"},{"$f":"_xlfn.IFS(A342=\"-\",\"\",NOT(ISNUMBER(A343)),2,WEEKDAY(A342)=$H$3,1,TRUE,\"\")","v":""},{"$f":"_xlfn.IFS(A342=\"-\",\"\",$A$9=$A342,\"\",DAY($A$9)=DAY(A342+1),DATEDIF($A$9,A342+1,\"M\"),TRUE,\"\")","v":11},{"$f":"_xlfn.IFS(A342=\"-\",\"\",ISTEXT(D341),1,ISTEXT(B341),D341+1,TRUE,1)","v":1},{"$f":"_xlfn.IFS(A342=\"-\",\"\",ISTEXT(E341),1,TRUE,E341+1)","v":334},null,null,null,null,null,null,null,null,null,null,null,null,0,0,0,0,0,0,0,0,0,0,0]
[{"$f":"_xlfn.IFS(EDATE($A$9,12)=A342+1,\"-\",TRUE,A342+1)","v":"2025-12-01"},{"$f":"_xlfn.IFS(A343=\"-\",\"\",NOT(ISNUMBER(A344)),2,WEEKDAY(A343)=$H$3,1,TRUE,\"\")","v":""},{"$f":"_xlfn.IFS(A343=\"-\",\"\",$A$9=$A343,\"\",DAY($A$9)=DAY(A343+1),DATEDIF($A$9,A343+1,\"M\"),TRUE,\"\")","v":""},{"$f":"_xlfn.IFS(A343=\"-\",\"\",ISTEXT(D342),1,ISTEXT(B342),D342+1,TRUE,1)","v":2},{"$f":"_xlfn.IFS(A343=\"-\",\"\",ISTEXT(E342),1,TRUE,E342+1)","v":335},null,null,null,null,null,null,null,null,null,null,null,null,0,0,0,0,0,0,0,0,0,0,0]
[{"$f":"_xlfn.IFS(EDATE($A$9,12)=A343+1,\"-\",TRUE,A343+1)","v":"2025-12-02"},{"$f":"_xlfn.IFS(A344=\"-\",\"\",NOT(ISNUMBER(A345)),2,WEEKDAY(A344)=$H$3,1,TRUE,\"\")","v":""},{"$f":"_xlfn.IFS(A344=\"-\",\"\",$A$9=$A344,\"\",DAY($A$9)=DAY(A344+1),DATEDIF($A$9,A344+1,\"M\"),TRUE,\"\")","v":""},{"$f":"_xlfn.IFS(A344=\"-\",\"\",ISTEXT(D343),1,ISTEXT(B343),D343+1,TRUE,1)","v":3},{"$f":"_xlfn.IFS(A344=\"-\",\"\",ISTEXT(E343),1,TRUE,E343+1)","v":336},null,null,null,null,null,null,null,null,null,null,null,null,0,0,0,0,0,0,0,0,0,0,0]
[{"$f":"_xlfn.IFS(EDATE($A$9,12)=A344+1,\"-\",TRUE,A344+1)","v":"2025-12-03"},{"$f":"_xlfn.IFS(A345=\"-\",\"\",NOT(ISNUMBER(A346)),2,WEEKDAY(A345)=$H$3,1,TRUE,\"\")","v":""},{"$f":"_xlfn.IFS(A345=\"-\",\"\",$A$9=$A345,\"\",DAY($A$9)=DAY(A345+1),DATEDIF($A$9,A345+1,\"M\"),TRUE,\"\")","v":""},{"$f":"_xlfn.IFS(A345=\"-\",\"\",ISTEXT(D344),1,ISTEXT(B344),D344+1,TRUE,1)","v":4},{"$f":"_xlfn.IFS(A345=\"-\",\"\",ISTEXT(E344),1,TRUE,E344+1)","v":337},null,null,null,null,null,null,null,null,null,null,null,null,0,0,0,0,0,0,0,0,0,0,0]
[{"$f":"_xlfn.IFS(EDATE($A$9,12)=A345+1,\"-\",TRUE,A345+1)","v":"2025-12-04"},{"$f":"_xlfn.IFS(A346=\"-\",\"\",NOT(ISNUMBER(A347)),2,WEEKDAY(A346)=$H$3,1,TRUE,\"\")","v":""},{"$f":"_xlfn.IFS(A346=\"-\",\"\",$A$9=$A346,\"\",DAY($A$9)=DAY(A346+1),DATEDIF($A$9,A346+1,\"M\"),TRUE,\"\")","v":""},{"$f":"_xlfn.IFS(A346=\"-\",\"\",ISTEXT(D345),1,ISTEXT(B345),D345+1,TRUE,1)","v":5},{"$f":"_xlfn.IFS(A346=\"-\",\"\",ISTEXT(E345),1,TRUE,E345+1)","v":338},null,null,null,null,null,null,null,null,null,null,null,null,0,0,0,0,0,0,0,0,0,0,0]
[{"$f":"_xlfn.IFS(EDATE($A$9,12)=A346+1,\"-\",TRUE,A346+1)","v":"2025-12-05"},{"$f":"_xlfn.IFS(A347=\"-\",\"\",NOT(ISNUMBER(A348)),2,WEEKDAY(A347)=$H$3,1,TRUE,\"\")","v":""},{"$f":"_xlfn.IFS(A347=\"-\",\"\",$A$9=$A347,\"\",DAY($A$9)=DAY(A347+1),DATEDIF($A$9,A347+1,\"M\"),TRUE,\"\")","v":""},{"$f":"_xlfn.IFS(A347=\"-\",\"\",ISTEXT(D346),1,ISTEXT(B346),D346+1,TRUE,1)","v":6},{"$f":"_xlfn.IFS(A347=\"-\",\"\",ISTEXT(E346),1,TRUE,E346+1)","v":339},null,null,null,null,null,null,null,null,null,null,null,null,0,0,0,0,0,0,0,0,0,0,0]
[{"$f":"_xlfn.IFS(EDATE($A$9,12)=A347+1,\"-\",TRUE,A347+1)","v":"2025-12-06"},{"$f":"_xlfn.IFS(A348=\"-\",\"\",NOT(ISNUMBER(A349)),2,WEEKDAY(A348)=$H$3,1,TRUE,\"\")","v":1},{"$f":"_xlfn.IFS(A348=\"-\",\"\",$A$9=$A348,\"\",DAY($A$9)=DAY(A348+1),DATEDIF($A$9,A348+1,\"M\"),TRUE,\"\")","v":""},{"$f":"_xlfn.IFS(A348=\"-\",\"\",ISTEXT(D347),1,ISTEXT(B347),D347+1,TRUE,1)","v":7},{"$f":"_xlfn.IFS(A348=\"-\",\"\",ISTEXT(E347),1,TRUE,E347+1)","v":340},null,null,null,null,null,null,null,null,null,null,null,null,0,0,0,0,0,0,0,0,0,0,0]
[{"$f":"_xlfn.IFS(EDATE($A$9,12)=A348+1,\"-\",TRUE,A348+1)","v":"2025-12-07"},{"$f":"_xlfn.IFS(A349=\"-\",\"\",NOT(ISNUMBER(A350)),2,WEEKDAY(A349)=$H$3,1,TRUE,\"\")","v":""},{"$f":"_xlfn.IFS(A349=\"-\",\"\",$A$9=$A349,\"\",DAY($A$9)=DAY(A349+1),DATEDIF($A$9,A349+1,\"M\"),TRUE,\"\")","v":""},{"$f":"_xlfn.IFS(A349=\"-\",\"\",ISTEXT(D348),1,ISTEXT(B348),D348+1,TRUE,1)","v":1},{"$f":"_xlfn.IFS(A349=\"-\",\"\",ISTEXT(E348),1,TRUE,E348+1)","v":341},null,null,null,null,null,null,null,null,null,null,null,null,0,0,0,0,0,0,0,0,0,0,0]
[{"$f":"_xlfn.IFS(EDATE($A$9,12)=A349+1,\"-\",TRUE,A349+1)","v":"2025-12-08"},{"$f":"_xlfn.IFS(A350=\"-\",\"\",NOT(ISNUMBER(A351)),2,WEEKDAY(A350)=$H$3,1,TRUE,\"\")","v":""},{"$f":"_xlfn.IFS(A350=\"-\",\"\",$A$9=$A350,\"\",DAY($A$9)=DAY(A350+1),DATEDIF($A$9,A350+1,\"M\"),TRUE,\"\")","v":""},{"$f":"_xlfn.IFS(A350=\"-\",\"\",ISTEXT(D349),1,ISTEXT(B349),D349+1,TRUE,1)","v":2},{"$f":"_xlfn.IFS(A350=\"-\",\"\",ISTEXT(E349),1,TRUE,E349+1)","v":342},null,null,null,null,null,null,null,null,null,null,null,null,0,0,0,0,0,0,0,0,0,0,0]
[{"$f":"_xlfn.IFS(EDATE($A$9,12)=A350+1,\"-\",TRUE,A350+1)","v":"2025-12-09"},{"$f":"_xlfn.IFS(A351=\"-\",\"\",NOT(ISNUMBER(A352)),2,WEEKDAY(A351)=$H$3,1,TRUE,\"\")","v":""},{"$f":"_xlfn.IFS(A351=\"-\",\"\",$A$9=$A351,\"\",DAY($A$9)=DAY(A351+1),DATEDIF($A$9,A351+1,\"M\"),TRUE,\"\")","v":""},{"$f":"_xlfn.IFS(A351=\"-\",\"\",ISTEXT(D350),1,ISTEXT(B350),D350+1,TRUE,1)","v":3},{"$f":"_xlfn.IFS(A351=\"-\",\"\",ISTEXT(E350),1,TRUE,E350+1)","v":343},null,null,null,null,null,null,null,null,null,null,null,null,0,0,0,0,0,0,0,0,0,0,0]
[{"$f":"_xlfn.IFS(EDATE($A$9,12)=A351+1,\"-\",TRUE,A351+1)","v":"2025-12-10"},{"$f":"_xlfn.IFS(A352=\"-\",\"\",NOT(ISNUMBER(A353)),2,WEEKDAY(A352)=$H$3,1,TRUE,\"\")","v":""},{"$f":"_xlfn.IFS(A352=\"-\",\"\",$A$9=$A352,\"\",DAY($A$9)=DAY(A352+1),DATEDIF($A$9,A352+1,\"M\"),TRUE,\"\")","v":""},{"$f":"_xlfn.IFS(A352=\"-\",\"\",ISTEXT(D351),1,ISTEXT(B351),D351+1,TRUE,1)","v":4},{"$f":"_xlfn.IFS(A352=\"-\",\"\",ISTEXT(E351),1,TRUE,E351+1)","v":344},null,null,null,null,null,null,null,null,null,null,null,null,0,0,0,0,0,0,0,0,0,0,0]
[{"$f":"_xlfn.IFS(EDATE($A$9,12)=A352+1,\"-\",TRUE,A352+1)","v":"2025-12-11"},{"$f":"_xlfn.IFS(A353=\"-\",\"\",NOT(ISNUMBER(A354)),2,WEEKDAY(A353)=$H$3,1,TRUE,\"\")","v":""},{"$f":"_xlfn.IFS(A353=\"-\",\"\",$A$9=$A353,\"\",DAY($A$9)=DAY(A353+1),DATEDIF($A$9,A353+1,\"M\"),TRUE,\"\")","v":""},{"$f":"_xlfn.IFS(A353=\"-\",\"\",ISTEXT(D352),1,ISTEXT(B352),D352+1,TRUE,1)","v":5},{"$f":"_xlfn.IFS(A353=\"-\",\"\",ISTEXT(E352),1,TRUE,E352+1)","v":345},null,null,null,null,null,null,null,null,null,null,null,null,0,0,0,0,0,0,0,0,0,0,0]
[{"$f":"_xlfn.IFS(EDATE($A$9,12)=A353+1,\"-\",TRUE,A353+1)","v":"2025-12-12"},{"$f":"_xlfn.IFS(A354=\"-\",\"\",NOT(ISNUMBER(A355)),2,WEEKDAY(A354)=$H$3,1,TRUE,\"\")","v":""},{"$f":"_xlfn.IFS(A354=\"-\",\"\",$A$9=$A354,\"\",DAY($A$9)=DAY(A354+1),DATEDIF($A$9,A354+1,\"M\"),TRUE,\"\")","v":""},{"$f":"_xlfn.IFS(A354=\"-\",\"\",ISTEXT(D353),1,ISTEXT(B353),D353+1,TRUE,1)","v":6},{"$f":"_xlfn.IFS(A354=\"-\",\"\",ISTEXT(E353),1,TRUE,E353+1)","v":346},null,null,null,null,null,null,null,null,null,null,null,null,0,0,0,0,0,0,0,0,0,0,0]
[{"$f":"_xlfn.IFS(EDATE($A$9,12)=A354+1,\"-\",TRUE,A354+1)","v":"2025-12-13"},{"$f":"_xlfn.IFS(A355=\"-\",\"\",NOT(ISNUMBER(A356)),2,WEEKDAY(A355)=$H$3,1,TRUE,\"\")","v":1},{"$f":"_xlfn.IFS(A355=\"-\",\"\",$A$9=$A355,\"\",DAY($A$9)=DAY(A355+1),DATEDIF($A$9,A355+1,\"M\"),TRUE,\"\")","v":""},{"$f":"_xlfn.IFS(A355=\"-\",\"\",ISTEXT(D354),1,ISTEXT(B354),D354+1,TRUE,1)","v":7},{"$f":"_xlfn.IFS(A355=\"-\",\"\",ISTEXT(E354),1,TRUE,E354+1)","v":347},null,null,null,null,null,null,null,null,null,null,null,null,0,0,0,0,0,0,0,0,0,0,0]
[{"$f":"_xlfn.IFS(EDATE($A$9,12)=A355+1,\"-\",TRUE,A355+1)","v":"2025-12-14"},{"$f":"_xlfn.IFS(A356=\"-\",\"\",NOT(ISNUMBER(A357)),2,WEEKDAY(A356)=$H$3,1,TRUE,\"\")","v":""},{"$f":"_xlfn.IFS(A356=\"-\",\"\",$A$9=$A356,\"\",DAY($A$9)=DAY(A356+1),DATEDIF($A$9,A356+1,\"M\"),TRUE,\"\")","v":""},{"$f":"_xlfn.IFS(A356=\"-\",\"\",ISTEXT(D355),1,ISTEXT(B355),D355+1,TRUE,1)","v":1},{"$f":"_xlfn.IFS(A356=\"-\",\"\",ISTEXT(E355),1,TRUE,E355+1)","v":348},null,null,null,null,null,null,null,null,null,null,null,null,0,0,0,0,0,0,0,0,0,0,0]
[{"$f":"_xlfn.IFS(EDATE($A$9,12)=A356+1,\"-\",TRUE,A356+1)","v":"2025-12-15"},{"$f":"_xlfn.IFS(A357=\"-\",\"\",NOT(ISNUMBER(A358)),2,WEEKDAY(A357)=$H$3,1,TRUE,\"\")","v":""},{"$f":"_xlfn.IFS(A357=\"-\",\"\",$A$9=$A357,\"\",DAY($A$9)=DAY(A357+1),DATEDIF($A$9,A357+1,\"M\"),TRUE,\"\")","v":""},{"$f":"_xlfn.IFS(A357=\"-\",\"\",ISTEXT(D356),1,ISTEXT(B356),D356+1,TRUE,1)","v":2},{"$f":"_xlfn.IFS(A357=\"-\",\"\",ISTEXT(E356),1,TRUE,E356+1)","v":349},null,null,null,null,null,null,null,null,null,null,null,null,0,0,0,0,0,0,0,0,0,0,0]
[{"$f":"_xlfn.IFS(EDATE($A$9,12)=A357+1,\"-\",TRUE,A357+1)","v":"2025-12-16"},{"$f":"_xlfn.IFS(A358=\"-\",\"\",NOT(ISNUMBER(A359)),2,WEEKDAY(A358)=$H$3,1,TRUE,\"\")","v":""},{"$f":"_xlfn.IFS(A358=\"-\",\"\",$A$9=$A358,\"\",DAY($A$9)=DAY(A358+1),DATEDIF($A$9,A358+1,\"M\"),TRUE,\"\")","v":""},{"$f":"_xlfn.IFS(A358=\"-\",\"\",ISTEXT(D357),1,ISTEXT(B357),D357+1,TRUE,1)","v":3},{"$f":"_xlfn.IFS(A358=\"-\",\"\",ISTEXT(E357),1,TRUE,E357+1)","v":350},null,null,null,null,null,null,null,null,null,null,null,null,0,0,0,0,0,0,0,0,0,0,0]
[{"$f":"_xlfn.IFS(EDATE($A$9,12)=A358+1,\"-\",TRUE,A358+1)","v":"2025-12-17"},{"$f":"_xlfn.IFS(A359=\"-\",\"\",NOT(ISNUMBER(A360)),2,WEEKDAY(A359)=$H$3,1,TRUE,\"\")","v":""},{"$f":"_xlfn.IFS(A359=\"-\",\"\",$A$9=$A359,\"\",DAY($A$9)=DAY(A359+1),DATEDIF($A$9,A359+1,\"M\"),TRUE,\"\")","v":""},{"$f":"_xlfn.IFS(A359=\"-\",\"\",ISTEXT(D358),1,ISTEXT(B358),D358+1,TRUE,1)","v":4},{"$f":"_xlfn.IFS(A359=\"-\",\"\",ISTEXT(E358),1,TRUE,E358+1)","v":351},null,null,null,null,null,null,null,null,null,null,null,null,0,0,0,0,0,0,0,0,0,0,0]
[{"$f":"_xlfn.IFS(EDATE($A$9,12)=A359+1,\"-\",TRUE,A359+1)","v":"2025-12-18"},{"$f":"_xlfn.IFS(A360=\"-\",\"\",NOT(ISNUMBER(A361)),2,WEEKDAY(A360)=$H$3,1,TRUE,\"\")","v":""},{"$f":"_xlfn.IFS(A360=\"-\",\"\",$A$9=$A360,\"\",DAY($A$9)=DAY(A360+1),DATEDIF($A$9,A360+1,\"M\"),TRUE,\"\")","v":""},{"$f":"_xlfn.IFS(A360=\"-\",\"\",ISTEXT(D359),1,ISTEXT(B359),D359+1,TRUE,1)","v":5},{"$f":"_xlfn.IFS(A360=\"-\",\"\",ISTEXT(E359),1,TRUE,E359+1)","v":352},null,null,null,null,null,null,null,null,null,null,null,null,0,0,0,0,0,0,0,0,0,0,0]
[{"$f":"_xlfn.IFS(EDATE($A$9,12)=A360+1,\"-\",TRUE,A360+1)","v":"2025-12-19"},{"$f":"_xlfn.IFS(A361=\"-\",\"\",NOT(ISNUMBER(A362)),2,WEEKDAY(A361)=$H$3,1,TRUE,\"\")","v":""},{"$f":"_xlfn.IFS(A361=\"-\",\"\",$A$9=$A361,\"\",DAY($A$9)=DAY(A361+1),DATEDIF($A$9,A361+1,\"M\"),TRUE,\"\")","v":""},{"$f":"_xlfn.IFS(A361=\"-\",\"\",ISTEXT(D360),1,ISTEXT(B360),D360+1,TRUE,1)","v":6},{"$f":"_xlfn.IFS(A361=\"-\",\"\",ISTEXT(E360),1,TRUE,E360+1)","v":353},null,null,null,null,null,null,null,null,null,null,null,null,0,0,0,0,0,0,0,0,0,0,0]
[{"$f":"_xlfn.IFS(EDATE($A$9,12)=A361+1,\"-\",TRUE,A361+1)","v":"2025-12-20"},{"$f":"_xlfn.IFS(A362=\"-\",\"\",NOT(ISNUMBER(A363)),2,WEEKDAY(A362)=$H$3,1,TRUE,\"\")","v":1},{"$f":"_xlfn.IFS(A362=\"-\",\"\",$A$9=$A362,\"\",DAY($A$9)=DAY(A362+1),DATEDIF($A$9,A362+1,\"M\"),TRUE,\"\")","v":""},{"$f":"_xlfn.IFS(A362=\"-\",\"\",ISTEXT(D361),1,ISTEXT(B361),D361+1,TRUE,1)","v":7},{"$f":"_xlfn.IFS(A362=\"-\",\"\",ISTEXT(E361),1,TRUE,E361+1)","v":354},null,null,null,null,null,null,null,null,null,null,null,null,0,0,0,0,0,0,0,0,0,0,0]
[{"$f":"_xlfn.IFS(EDATE($A$9,12)=A362+1,\"-\",TRUE,A362+1)","v":"2025-12-21"},{"$f":"_xlfn.IFS(A363=\"-\",\"\",NOT(ISNUMBER(A364)),2,WEEKDAY(A363)=$H$3,1,TRUE,\"\")","v":""},{"$f":"_xlfn.IFS(A363=\"-\",\"\",$A$9=$A363,\"\",DAY($A$9)=DAY(A363+1),DATEDIF($A$9,A363+1,\"M\"),TRUE,\"\")","v":""},{"$f":"_xlfn.IFS(A363=\"-\",\"\",ISTEXT(D362),1,ISTEXT(B362),D362+1,TRUE,1)","v":1},{"$f":"_xlfn.IFS(A363=\"-\",\"\",ISTEXT(E362),1,TRUE,E362+1)","v":355},null,null,null,null,null,null,null,null,null,null,null,null,0,0,0,0,0,0,0,0,0,0,0]
[{"$f":"_xlfn.IFS(EDATE($A$9,12)=A363+1,\"-\",TRUE,A363+1)","v":"2025-12-22"},{"$f":"_xlfn.IFS(A364=\"-\",\"\",NOT(ISNUMBER(A365)),2,WEEKDAY(A364)=$H$3,1,TRUE,\"\")","v":""},{"$f":"_xlfn.IFS(A364=\"-\",\"\",$A$9=$A364,\"\",DAY($A$9)=DAY(A364+1),DATEDIF($A$9,A364+1,\"M\"),TRUE,\"\")","v":""},{"$f":"_xlfn.IFS(A364=\"-\",\"\",ISTEXT(D363),1,ISTEXT(B363),D363+1,TRUE,1)","v":2},{"$f":"_xlfn.IFS(A364=\"-\",\"\",ISTEXT(E363),1,TRUE,E363+1)","v":356},null,null,null,null,null,null,null,null,null,null,null,null,0,0,0,0,0,0,0,0,0,0,0]
[{"$f":"_xlfn.IFS(EDATE($A$9,12)=A364+1,\"-\",TRUE,A364+1)","v":"2025-12-23"},{"$f":"_xlfn.IFS(A365=\"-\",\"\",NOT(ISNUMBER(A366)),2,WEEKDAY(A365)=$H$3,1,TRUE,\"\")","v":""},{"$f":"_xlfn.IFS(A365=\"-\",\"\",$A$9=$A365,\"\",DAY($A$9)=DAY(A365+1),DATEDIF($A$9,A365+1,\"M\"),TRUE,\"\")","v":""},{"$f":"_xlfn.IFS(A365=\"-\",\"\",ISTEXT(D364),1,ISTEXT(B364),D364+1,TRUE,1)","v":3},{"$f":"_xlfn.IFS(A365=\"-\",\"\",ISTEXT(E364),1,TRUE,E364+1)","v":357},null,null,null,null,null,null,null,null,null,null,null,null,0,0,0,0,0,0,0,0,0,0,0]
[{"$f":"_xlfn.IFS(EDATE($A$9,12)=A365+1,\"-\",TRUE,A365+1)","v":"2025-12-24"},{"$f":"_xlfn.IFS(A366=\"-\",\"\",NOT(ISNUMBER(A367)),2,WEEKDAY(A366)=$H$3,1,TRUE,\"\")","v":""},{"$f":"_xlfn.IFS(A366=\"-\",\"\",$A$9=$A366,\"\",DAY($A$9)=DAY(A366+1),DATEDIF($A$9,A366+1,\"M\"),TRUE,\"\")","v":""},{"$f":"_xlfn.IFS(A366=\"-\",\"\",ISTEXT(D365),1,ISTEXT(B365),D365+1,TRUE,1)","v":4},{"$f":"_xlfn.IFS(A366=\"-\",\"\",ISTEXT(E365),1,TRUE,E365+1)","v":358},null,null,null,null,null,null,null,null,null,null,null,null,0,0,0,0,0,0,0,0,0,0,0]
[{"$f":"_xlfn.IFS(EDATE($A$9,12)=A366+1,\"-\",TRUE,A366+1)","v":"2025-12-25"},{"$f":"_xlfn.IFS(A367=\"-\",\"\",NOT(ISNUMBER(A368)),2,WEEKDAY(A367)=$H$3,1,TRUE,\"\")","v":""},{"$f":"_xlfn.IFS(A367=\"-\",\"\",$A$9=$A367,\"\",DAY($A$9)=DAY(A367+1),DATEDIF($A$9,A367+1,\"M\"),TRUE,\"\")","v":""},{"$f":"_xlfn.IFS(A367=\"-\",\"\",ISTEXT(D366),1,ISTEXT(B366),D366+1,TRUE,1)","v":5},{"$f":"_xlfn.IFS(A367=\"-\",\"\",ISTEXT(E366),1,TRUE,E366+1)","v":359},null,null,null,null,null,null,null,null,null,null,null,null,0,0,0,0,0,0,0,0,0,0,0]
[{"$f":"_xlfn.IFS(EDATE($A$9,12)=A367+1,\"-\",TRUE,A367+1)","v":"2025-12-26"},{"$f":"_xlfn.IFS(A368=\"-\",\"\",NOT(ISNUMBER(A369)),2,WEEKDAY(A368)=$H$3,1,TRUE,\"\")","v":""},{"$f":"_xlfn.IFS(A368=\"-\",\"\",$A$9=$A368,\"\",DAY($A$9)=DAY(A368+1),DATEDIF($A$9,A368+1,\"M\"),TRUE,\"\")","v":""},{"$f":"_xlfn.IFS(A368=\"-\",\"\",ISTEXT(D367),1,ISTEXT(B367),D367+1,TRUE,1)","v":6},{"$f":"_xlfn.IFS(A368=\"-\",\"\",ISTEXT(E367),1,TRUE,E367+1)","v":360},null,null,null,null,null,null,null,null,null,null,null,null,0,0,0,0,0,0,0,0,0,0,0]
[{"$f":"_xlfn.IFS(EDATE($A$9,12)=A368+1,\"-\",TRUE,A368+1)","v":"2025-12-27"},{"$f":"_xlfn.IFS(A369=\"-\",\"\",NOT(ISNUMBER(A370)),2,WEEKDAY(A369)=$H$3,1,TRUE,\"\")","v":1},{"$f":"_xlfn.IFS(A369=\"-\",\"\",$A$9=$A369,\"\",DAY($A$9)=DAY(A369+1),DATEDIF($A$9,A369+1,\"M\"),TRUE,\"\")","v":""},{"$f":"_xlfn.IFS(A369=\"-\",\"\",ISTEXT(D368),1,ISTEXT(B368),D368+1,TRUE,1)","v":7},{"$f":"_xlfn.IFS(A369=\"-\",\"\",ISTEXT(E368),1,TRUE,E368+1)","v":361},null,null,null,null,null,null,null,null,null,null,null,null,0,0,0,0,0,0,0,0,0,0,0]
[{"$f":"_xlfn.IFS(EDATE($A$9,12)=A369+1,\"-\",TRUE,A369+1)","v":"2025-12-28"},{"$f":"_xlfn.IFS(A370=\"-\",\"\",NOT(ISNUMBER(A371)),2,WEEKDAY(A370)=$H$3,1,TRUE,\"\")","v":""},{"$f":"_xlfn.IFS(A370=\"-\",\"\",$A$9=$A370,\"\",DAY($A$9)=DAY(A370+1),DATEDIF($A$9,A370+1,\"M\"),TRUE,\"\")","v":""},{"$f":"_xlfn.IFS(A370=\"-\",\"\",ISTEXT(D369),1,ISTEXT(B369),D369+1,TRUE,1)","v":1},{"$f":"_xlfn.IFS(A370=\"-\",\"\",ISTEXT(E369),1,TRUE,E369+1)","v":362},null,null,null,null,null,null,null,null,null,null,null,null,0,0,0,0,0,0,0,0,0,0,0]
[{"$f":"_xlfn.IFS(EDATE($A$9,12)=A370+1,\"-\",TRUE,A370+1)","v":"2025-12-29"},{"$f":"_xlfn.IFS(A371=\"-\",\"\",NOT(ISNUMBER(A372)),2,WEEKDAY(A371)=$H$3,1,TRUE,\"\")","v":""},{"$f":"_xlfn.IFS(A371=\"-\",\"\",$A$9=$A371,\"\",DAY($A$9)=DAY(A371+1),DATEDIF($A$9,A371+1,\"M\"),TRUE,\"\")","v":""},{"$f":"_xlfn.IFS(A371=\"-\",\"\",ISTEXT(D370),1,ISTEXT(B370),D370+1,TRUE,1)","v":2},{"$f":"_xlfn.IFS(A371=\"-\",\"\",ISTEXT(E370),1,TRUE,E370+1)","v":363},null,null,null,null,null,null,null,null,null,null,null,null,0,0,0,0,0,0,0,0,0,0,0]
[{"$f":"_xlfn.IFS(EDATE($A$9,12)=A371+1,\"-\",TRUE,A371+1)","v":"2025-12-30"},{"$f":"_xlfn.IFS(A372=\"-\",\"\",NOT(ISNUMBER(A373)),2,WEEKDAY(A372)=$H$3,1,TRUE,\"\")","v":""},{"$f":"_xlfn.IFS(A372=\"-\",\"\",$A$9=$A372,\"\",DAY($A$9)=DAY(A372+1),DATEDIF($A$9,A372+1,\"M\"),TRUE,\"\")","v":""},{"$f":"_xlfn.IFS(A372=\"-\",\"\",ISTEXT(D371),1,ISTEXT(B371),D371+1,TRUE,1)","v":3},{"$f":"_xlfn.IFS(A372=\"-\",\"\",ISTEXT(E371),1,TRUE,E371+1)","v":364},null,null,null,null,null,null,null,null,null,null,null,null,0,0,0,0,0,0,0,0,0,0,0]
[{"$f":"_xlfn.IFS(EDATE($A$9,12)=A372+1,\"-\",TRUE,A372+1)","v":"2025-12-31"},{"$f":"_xlfn.IFS(A373=\"-\",\"\",NOT(ISNUMBER(A374)),2,WEEKDAY(A373)=$H$3,1,TRUE,\"\")","v":2},{"$f":"_xlfn.IFS(A373=\"-\",\"\",$A$9=$A373,\"\",DAY($A$9)=DAY(A373+1),DATEDIF($A$9,A373+1,\"M\"),TRUE,\"\")","v":12},{"$f":"_xlfn.IFS(A373=\"-\",\"\",ISTEXT(D372),1,ISTEXT(B372),D372+1,TRUE,1)","v":4},{"$f":"_xlfn.IFS(A373=\"-\",\"\",ISTEXT(E372),1,TRUE,E372+1)","v":365},null,null,null,null,null,null,null,null,null,null,null,null,0,0,0,0,0,0,0,0,0,0,0]
[{"$f":"_xlfn.IFS(EDATE($A$9,12)=A373+1,\"-\",TRUE,A373+1)","v":"-"},{"$f":"_xlfn.IFS(A374=\"-\",\"\",NOT(ISNUMBER(A375)),2,WEEKDAY(A374)=$H$3,1,TRUE,\"\")","v":""},{"$f":"_xlfn.IFS(A374=\"-\",\"\",$A$9=$A374,\"\",DAY($A$9)=DAY(A374+1),DATEDIF($A$9,A374+1,\"M\"),TRUE,\"\")","v":""},{"$f":"_xlfn.IFS(A374=\"-\",\"\",ISTEXT(D373),1,ISTEXT(B373),D373+1,TRUE,1)","v":""},{"$f":"_xlfn.IFS(A374=\"-\",\"\",ISTEXT(E373),1,TRUE,E373+1)","v":""},null,null,null,null,null,null,null,null,null,null,null,null,0,0,0,0,0,0,0,0,0,0,0]
["合計",null,null,null,null,null,{"$f":"SUM(G9:G374)","v":0},null,null,null,null,null,null,null,null,null,{"$f":"SUM(Q9:Q374)","v":0},{"$f":"SUM(R9:R374)","v":0},{"$f":"SUM(S9:S374)","v":0},0,0,0,0,0,0,0,0,0]
[null,null,null,null,null,null,"①",null,null,null,null,null,null,null,null,null,"②","③","④","⑤","⑥","⑦","⑧","⑨","⑩","⑪","⑫","⑬"]
[null,null,null,null,null,null,null,null,null,null,null,"月集計"]
[null,null,null,null,null,null,null,null,null,null,null,"回","月","暦日数","所定日数","所定労働時間","有給休暇時間","実働時間","法定休日","時間外（日）","時間外\n（週）","時間外\n（年）","時間外\n（合計）","勤務日\n(60H以下)","所定休日\n(60H以下)","勤務日\n(60H超)","所定休日\n（60H超)","深夜"]
[null,null,null,null,null,null,null,null,null,null,null,1,{"$f":"MONTH(A9)","v":1},{"$f":"MATCH($L379,$C$9:$C$374)-IF(ISTEXT(N378),0,SUM(N378:N$379))","v":31},{"$f":"COUNT(OFFSET(G$9,0,0,MATCH($L379,$C$9:$C$374),1))-IF(ISTEXT(O378),0,SUM(O$378:O378))","v":0},{"$f":"SUM(OFFSET(G$9,0,0,MATCH($L379,$C$9:$C$374),1))-IF(ISTEXT(P378),0,SUM(P$378:P378))","v":0},{"$f":"SUM(OFFSET(Q$9,0,0,MATCH($L379,$C$9:$C$374),1))-IF(ISTEXT(Q378),0,SUM(Q$378:Q378))","v":0},{"$f":"SUM(OFFSET(R$9,0,0,MATCH($L379,$C$9:$C$374),1))-IF(ISTEXT(R378),0,SUM(R$378:R378))","v":0},{"$f":"SUM(OFFSET(S$9,0,0,MATCH($L379,$C$9:$C$374),1))-IF(ISTEXT(S378),0,SUM(S$378:S378))","v":0},{"$f":"SUM(OFFSET(T$9,0,0,MATCH($L379,$C$9:$C$374),1))-IF(ISTEXT(T378),0,SUM(T$378:T378))","v":0},{"$f":"SUM(OFFSET(U$9,0,0,MATCH($L379,$C$9:$C$374),1))-IF(ISTEXT(U378),0,SUM(U$378:U378))","v":0},{"$f":"SUM(OFFSET(V$9,0,0,MATCH($L379,$C$9:$C$374),1))-IF(ISTEXT(V378),0,SUM(V$378:V378))","v":0},{"$f":"SUM(OFFSET(W$9,0,0,MATCH($L379,$C$9:$C$374),1))-IF(ISTEXT(W378),0,SUM(W$378:W378))","v":0},{"$f":"SUM(OFFSET(X$9,0,0,MATCH($L379,$C$9:$C$374),1))-IF(ISTEXT(X378),0,SUM(X$378:X378))","v":0},{"$f":"SUM(OFFSET(Y$9,0,0,MATCH($L379,$C$9:$C$374),1))-IF(ISTEXT(Y378),0,SUM(Y$378:Y378))","v":0},{"$f":"SUM(OFFSET(Z$9,0,0,MATCH($L379,$C$9:$C$374),1))-IF(ISTEXT(Z378),0,SUM(Z$378:Z378))","v":0},{"$f":"SUM(OFFSET(AA$9,0,0,MATCH($L379,$C$9:$C$374),1))-IF(ISTEXT(AA378),0,SUM(AA$378:AA378))","v":0},{"$f":"SUM(OFFSET(AB$9,0,0,MATCH($L379,$C$9:$C$374),1))-IF(ISTEXT(AB378),0,SUM(AB$378:AB378))","v":0}]
[null,null,null,null,null,null,null,null,null,null,null,2,{"$f":"MONTH(EDATE(DATE(1900,M379,1),1))","v":2},{"$f":"MATCH($L380,$C$9:$C$374)-IF(ISTEXT(N379),0,SUM(N379:N$379))","v":28},{"$f":"COUNT(OFFSET(G$9,0,0,MATCH($L380,$C$9:$C$374),1))-IF(ISTEXT(O379),0,SUM(O$378:O379))","v":0},{"$f":"SUM(OFFSET(G$9,0,0,MATCH($L380,$C$9:$C$374),1))-IF(ISTEXT(P379),0,SUM(P$378:P379))","v":0},{"$f":"SUM(OFFSET(Q$9,0,0,MATCH($L380,$C$9:$C$374),1))-IF(ISTEXT(Q379),0,SUM(Q$378:Q379))","v":0},{"$f":"SUM(OFFSET(R$9,0,0,MATCH($L380,$C$9:$C$374),1))-IF(ISTEXT(R379),0,SUM(R$378:R379))","v":0},{"$f":"SUM(OFFSET(S$9,0,0,MATCH($L380,$C$9:$C$374),1))-IF(ISTEXT(S379),0,SUM(S$378:S379))","v":0},{"$f":"SUM(OFFSET(T$9,0,0,MATCH($L380,$C$9:$C$374),1))-IF(ISTEXT(T379),0,SUM(T$378:T379))","v":0},{"$f":"SUM(OFFSET(U$9,0,0,MATCH($L380,$C$9:$C$374),1))-IF(ISTEXT(U379),0,SUM(U$378:U379))","v":0},{"$f":"SUM(OFFSET(V$9,0,0,MATCH($L380,$C$9:$C$374),1))-IF(ISTEXT(V379),0,SUM(V$378:V379))","v":0},{"$f":"SUM(OFFSET(W$9,0,0,MATCH($L380,$C$9:$C$374),1))-IF(ISTEXT(W379),0,SUM(W$378:W379))","v":0},{"$f":"SUM(OFFSET(X$9,0,0,MATCH($L380,$C$9:$C$374),1))-IF(ISTEXT(X379),0,SUM(X$378:X379))","v":0},{"$f":"SUM(OFFSET(Y$9,0,0,MATCH($L380,$C$9:$C$374),1))-IF(ISTEXT(Y379),0,SUM(Y$378:Y379))","v":0},{"$f":"SUM(OFFSET(Z$9,0,0,MATCH($L380,$C$9:$C$374),1))-IF(ISTEXT(Z379),0,SUM(Z$378:Z379))","v":0},{"$f":"SUM(OFFSET(AA$9,0,0,MATCH($L380,$C$9:$C$374),1))-IF(ISTEXT(AA379),0,SUM(AA$378:AA379))","v":0},{"$f":"SUM(OFFSET(AB$9,0,0,MATCH($L380,$C$9:$C$374),1))-IF(ISTEXT(AB379),0,SUM(AB$378:AB379))","v":0}]
[null,null,null,null,null,null,null,null,null,null,null,3,{"$f":"MONTH(EDATE(DATE(1900,M380,1),1))","v":3},{"$f":"MATCH($L381,$C$9:$C$374)-IF(ISTEXT(N380),0,SUM(N$379:N380))","v":31},{"$f":"COUNT(OFFSET(G$9,0,0,MATCH($L381,$C$9:$C$374),1))-IF(ISTEXT(O380),0,SUM(O$378:O380))","v":0},{"$f":"SUM(OFFSET(G$9,0,0,MATCH($L381,$C$9:$C$374),1))-IF(ISTEXT(P380),0,SUM(P$378:P380))","v":0},{"$f":"SUM(OFFSET(Q$9,0,0,MATCH($L381,$C$9:$C$374),1))-IF(ISTEXT(Q380),0,SUM(Q$378:Q380))","v":0},{"$f":"SUM(OFFSET(R$9,0,0,MATCH($L381,$C$9:$C$374),1))-IF(ISTEXT(R380),0,SUM(R$378:R380))","v":0},{"$f":"SUM(OFFSET(S$9,0,0,MATCH($L381,$C$9:$C$374),1))-IF(ISTEXT(S380),0,SUM(S$378:S380))","v":0},{"$f":"SUM(OFFSET(T$9,0,0,MATCH($L381,$C$9:$C$374),1))-IF(ISTEXT(T380),0,SUM(T$378:T380))","v":0},{"$f":"SUM(OFFSET(U$9,0,0,MATCH($L381,$C$9:$C$374),1))-IF(ISTEXT(U380),0,SUM(U$378:U380))","v":0},{"$f":"SUM(OFFSET(V$9,0,0,MATCH($L381,$C$9:$C$374),1))-IF(ISTEXT(V380),0,SUM(V$378:V380))","v":0},{"$f":"SUM(OFFSET(W$9,0,0,MATCH($L381,$C$9:$C$374),1))-IF(ISTEXT(W380),0,SUM(W$378:W380))","v":0},{"$f":"SUM(OFFSET(X$9,0,0,MATCH($L381,$C$9:$C$374),1))-IF(ISTEXT(X380),0,SUM(X$378:X380))","v":0},{"$f":"SUM(OFFSET(Y$9,0,0,MATCH($L381,$C$9:$C$374),1))-IF(ISTEXT(Y380),0,SUM(Y$378:Y380))","v":0},{"$f":"SUM(OFFSET(Z$9,0,0,MATCH($L381,$C$9:$C$374),1))-IF(ISTEXT(Z380),0,SUM(Z$378:Z380))","v":0},{"$f":"SUM(OFFSET(AA$9,0,0,MATCH($L381,$C$9:$C$374),1))-IF(ISTEXT(AA380),0,SUM(AA$378:AA380))","v":0},{"$f":"SUM(OFFSET(AB$9,0,0,MATCH($L381,$C$9:$C$374),1))-IF(ISTEXT(AB380),0,SUM(AB$378:AB380))","v":0}]
[null,null,null,null,null,null,null,null,null,null,null,4,4,{"$f":"MATCH($L382,$C$9:$C$374)-IF(ISTEXT(N381),0,SUM(N$379:N381))","v":30},{"$f":"COUNT(OFFSET(G$9,0,0,MATCH($L382,$C$9:$C$374),1))-IF(ISTEXT(O381),0,SUM(O$378:O381))","v":0},{"$f":"SUM(OFFSET(G$9,0,0,MATCH($L382,$C$9:$C$374),1))-IF(ISTEXT(P381),0,SUM(P$378:P381))","v":0},{"$f":"SUM(OFFSET(Q$9,0,0,MATCH($L382,$C$9:$C$374),1))-IF(ISTEXT(Q381),0,SUM(Q$378:Q381))","v":0},{"$f":"SUM(OFFSET(R$9,0,0,MATCH($L382,$C$9:$C$374),1))-IF(ISTEXT(R381),0,SUM(R$378:R381))","v":0},{"$f":"SUM(OFFSET(S$9,0,0,MATCH($L382,$C$9:$C$374),1))-IF(ISTEXT(S381),0,SUM(S$378:S381))","v":0},{"$f":"SUM(OFFSET(T$9,0,0,MATCH($L382,$C$9:$C$374),1))-IF(ISTEXT(T381),0,SUM(T$378:T381))","v":0},{"$f":"SUM(OFFSET(U$9,0,0,MATCH($L382,$C$9:$C$374),1))-IF(ISTEXT(U381),0,SUM(U$378:U381))","v":0},{"$f":"SUM(OFFSET(V$9,0,0,MATCH($L382,$C$9:$C$374),1))-IF(ISTEXT(V381),0,SUM(V$378:V381))","v":0},{"$f":"SUM(OFFSET(W$9,0,0,MATCH($L382,$C$9:$C$374),1))-IF(ISTEXT(W381),0,SUM(W$378:W381))","v":0},{"$f":"SUM(OFFSET(X$9,0,0,MATCH($L382,$C$9:$C$374),1))-IF(ISTEXT(X381),0,SUM(X$378:X381))","v":0},{"$f":"SUM(OFFSET(Y$9,0,0,MATCH($L382,$C$9:$C$374),1))-IF(ISTEXT(Y381),0,SUM(Y$378:Y381))","v":0},{"$f":"SUM(OFFSET(Z$9,0,0,MATCH($L382,$C$9:$C$374),1))-IF(ISTEXT(Z381),0,SUM(Z$378:Z381))","v":0},{"$f":"SUM(OFFSET(AA$9,0,0,MATCH($L382,$C$9:$C$374),1))-IF(ISTEXT(AA381),0,SUM(AA$378:AA381))","v":0},{"$f":"SUM(OFFSET(AB$9,0,0,MATCH($L382,$C$9:$C$374),1))-IF(ISTEXT(AB381),0,SUM(AB$378:AB381))","v":0}]
[null,null,null,null,null,null,null,null,null,null,null,5,5,{"$f":"MATCH($L383,$C$9:$C$374)-IF(ISTEXT(N382),0,SUM(N$379:N382))","v":31},{"$f":"COUNT(OFFSET(G$9,0,0,MATCH($L383,$C$9:$C$374),1))-IF(ISTEXT(O382),0,SUM(O$378:O382))","v":0},{"$f":"SUM(OFFSET(G$9,0,0,MATCH($L383,$C$9:$C$374),1))-IF(ISTEXT(P382),0,SUM(P$378:P382))","v":0},{"$f":"SUM(OFFSET(Q$9,0,0,MATCH($L383,$C$9:$C$374),1))-IF(ISTEXT(Q382),0,SUM(Q$378:Q382))","v":0},{"$f":"SUM(OFFSET(R$9,0,0,MATCH($L383,$C$9:$C$374),1))-IF(ISTEXT(R382),0,SUM(R$378:R382))","v":0},{"$f":"SUM(OFFSET(S$9,0,0,MATCH($L383,$C$9:$C$374),1))-IF(ISTEXT(S382),0,SUM(S$378:S382))","v":0},{"$f":"SUM(OFFSET(T$9,0,0,MATCH($L383,$C$9:$C$374),1))-IF(ISTEXT(T382),0,SUM(T$378:T382))","v":0},{"$f":"SUM(OFFSET(U$9,0,0,MATCH($L383,$C$9:$C$374),1))-IF(ISTEXT(U382),0,SUM(U$378:U382))","v":0},{"$f":"SUM(OFFSET(V$9,0,0,MATCH($L383,$C$9:$C$374),1))-IF(ISTEXT(V382),0,SUM(V$378:V382))","v":0},{"$f":"SUM(OFFSET(W$9,0,0,MATCH($L383,$C$9:$C$374),1))-IF(ISTEXT(W382),0,SUM(W$378:W382))","v":0},{"$f":"SUM(OFFSET(X$9,0,0,MATCH($L383,$C$9:$C$374),1))-IF(ISTEXT(X382),0,SUM(X$378:X382))","v":0},{"$f":"SUM(OFFSET(Y$9,0,0,MATCH($L383,$C$9:$C$374),1))-IF(ISTEXT(Y382),0,SUM(Y$378:Y382))","v":0},{"$f":"SUM(OFFSET(Z$9,0,0,MATCH($L383,$C$9:$C$374),1))-IF(ISTEXT(Z382),0,SUM(Z$378:Z382))","v":0},{"$f":"SUM(OFFSET(AA$9,0,0,MATCH($L383,$C$9:$C$374),1))-IF(ISTEXT(AA382),0,SUM(AA$378:AA382))","v":0},{"$f":"SUM(OFFSET(AB$9,0,0,MATCH($L383,$C$9:$C$374),1))-IF(ISTEXT(AB382),0,SUM(AB$378:AB382))","v":0}]
[null,null,null,null,null,null,null,null,null,null,null,6,6,{"$f":"MATCH($L384,$C$9:$C$374)-IF(ISTEXT(N383),0,SUM(N$379:N383))","v":30},{"$f":"COUNT(OFFSET(G$9,0,0,MATCH($L384,$C$9:$C$374),1))-IF(ISTEXT(O383),0,SUM(O$378:O383))","v":0},{"$f":"SUM(OFFSET(G$9,0,0,MATCH($L384,$C$9:$C$374),1))-IF(ISTEXT(P383),0,SUM(P$378:P383))","v":0},{"$f":"SUM(OFFSET(Q$9,0,0,MATCH($L384,$C$9:$C$374),1))-IF(ISTEXT(Q383),0,SUM(Q$378:Q383))","v":0},{"$f":"SUM(OFFSET(R$9,0,0,MATCH($L384,$C$9:$C$374),1))-IF(ISTEXT(R383),0,SUM(R$378:R383))","v":0},{"$f":"SUM(OFFSET(S$9,0,0,MATCH($L384,$C$9:$C$374),1))-IF(ISTEXT(S383),0,SUM(S$378:S383))","v":0},{"$f":"SUM(OFFSET(T$9,0,0,MATCH($L384,$C$9:$C$374),1))-IF(ISTEXT(T383),0,SUM(T$378:T383))","v":0},{"$f":"SUM(OFFSET(U$9,0,0,MATCH($L384,$C$9:$C$374),1))-IF(ISTEXT(U383),0,SUM(U$378:U383))","v":0},{"$f":"SUM(OFFSET(V$9,0,0,MATCH($L384,$C$9:$C$374),1))-IF(ISTEXT(V383),0,SUM(V$378:V383))","v":0},{"$f":"SUM(OFFSET(W$9,0,0,MATCH($L384,$C$9:$C$374),1))-IF(ISTEXT(W383),0,SUM(W$378:W383))","v":0},{"$f":"SUM(OFFSET(X$9,0,0,MATCH($L384,$C$9:$C$374),1))-IF(ISTEXT(X383),0,SUM(X$378:X383))","v":0},{"$f":"SUM(OFFSET(Y$9,0,0,MATCH($L384,$C$9:$C$374),1))-IF(ISTEXT(Y383),0,SUM(Y$378:Y383))","v":0},{"$f":"SUM(OFFSET(Z$9,0,0,MATCH($L384,$C$9:$C$374),1))-IF(ISTEXT(Z383),0,SUM(Z$378:Z383))","v":0},{"$f":"SUM(OFFSET(AA$9,0,0,MATCH($L384,$C$9:$C$374),1))-IF(ISTEXT(AA383),0,SUM(AA$378:AA383))","v":0},{"$f":"SUM(OFFSET(AB$9,0,0,MATCH($L384,$C$9:$C$374),1))-IF(ISTEXT(AB383),0,SUM(AB$378:AB383))","v":0}]
[null,null,null,null,null,null,null,null,null,null,null,7,7,{"$f":"MATCH($L385,$C$9:$C$374)-IF(ISTEXT(N384),0,SUM(N$379:N384))","v":31},{"$f":"COUNT(OFFSET(G$9,0,0,MATCH($L385,$C$9:$C$374),1))-IF(ISTEXT(O384),0,SUM(O$378:O384))","v":0},{"$f":"SUM(OFFSET(G$9,0,0,MATCH($L385,$C$9:$C$374),1))-IF(ISTEXT(P384),0,SUM(P$378:P384))","v":0},{"$f":"SUM(OFFSET(Q$9,0,0,MATCH($L385,$C$9:$C$374),1))-IF(ISTEXT(Q384),0,SUM(Q$378:Q384))","v":0},{"$f":"SUM(OFFSET(R$9,0,0,MATCH($L385,$C$9:$C$374),1))-IF(ISTEXT(R384),0,SUM(R$378:R384))","v":0},{"$f":"SUM(OFFSET(S$9,0,0,MATCH($L385,$C$9:$C$374),1))-IF(ISTEXT(S384),0,SUM(S$378:S384))","v":0},{"$f":"SUM(OFFSET(T$9,0,0,MATCH($L385,$C$9:$C$374),1))-IF(ISTEXT(T384),0,SUM(T$378:T384))","v":0},{"$f":"SUM(OFFSET(U$9,0,0,MATCH($L385,$C$9:$C$374),1))-IF(ISTEXT(U384),0,SUM(U$378:U384))","v":0},{"$f":"SUM(OFFSET(V$9,0,0,MATCH($L385,$C$9:$C$374),1))-IF(ISTEXT(V384),0,SUM(V$378:V384))","v":0},{"$f":"SUM(OFFSET(W$9,0,0,MATCH($L385,$C$9:$C$374),1))-IF(ISTEXT(W384),0,SUM(W$378:W384))","v":0},{"$f":"SUM(OFFSET(X$9,0,0,MATCH($L385,$C$9:$C$374),1))-IF(ISTEXT(X384),0,SUM(X$378:X384))","v":0},{"$f":"SUM(OFFSET(Y$9,0,0,MATCH($L385,$C$9:$C$374),1))-IF(ISTEXT(Y384),0,SUM(Y$378:Y384))","v":0},{"$f":"SUM(OFFSET(Z$9,0,0,MATCH($L385,$C$9:$C$374),1))-IF(ISTEXT(Z384),0,SUM(Z$378:Z384))","v":0},{"$f":"SUM(OFFSET(AA$9,0,0,MATCH($L385,$C$9:$C$374),1))-IF(ISTEXT(AA384),0,SUM(AA$378:AA384))","v":0},{"$f":"SUM(OFFSET(AB$9,0,0,MATCH($L385,$C$9:$C$374),1))-IF(ISTEXT(AB384),0,SUM(AB$378:AB384))","v":0}]
[null,null,null,null,null,null,null,null,null,null,null,8,8,{"$f":"MATCH($L386,$C$9:$C$374)-IF(ISTEXT(N385),0,SUM(N$379:N385))","v":31},{"$f":"COUNT(OFFSET(G$9,0,0,MATCH($L386,$C$9:$C$374),1))-IF(ISTEXT(O385),0,SUM(O$378:O385))","v":0},{"$f":"SUM(OFFSET(G$9,0,0,MATCH($L386,$C$9:$C$374),1))-IF(ISTEXT(P385),0,SUM(P$378:P385))","v":0},{"$f":"SUM(OFFSET(Q$9,0,0,MATCH($L386,$C$9:$C$374),1))-IF(ISTEXT(Q385),0,SUM(Q$378:Q385))","v":0},{"$f":"SUM(OFFSET(R$9,0,0,MATCH($L386,$C$9:$C$374),1))-IF(ISTEXT(R385),0,SUM(R$378:R385))","v":0},{"$f":"SUM(OFFSET(S$9,0,0,MATCH($L386,$C$9:$C$374),1))-IF(ISTEXT(S385),0,SUM(S$378:S385))","v":0},{"$f":"SUM(OFFSET(T$9,0,0,MATCH($L386,$C$9:$C$374),1))-IF(ISTEXT(T385),0,SUM(T$378:T385))","v":0},{"$f":"SUM(OFFSET(U$9,0,0,MATCH($L386,$C$9:$C$374),1))-IF(ISTEXT(U385),0,SUM(U$378:U385))","v":0},{"$f":"SUM(OFFSET(V$9,0,0,MATCH($L386,$C$9:$C$374),1))-IF(ISTEXT(V385),0,SUM(V$378:V385))","v":0},{"$f":"SUM(OFFSET(W$9,0,0,MATCH($L386,$C$9:$C$374),1))-IF(ISTEXT(W385),0,SUM(W$378:W385))","v":0},{"$f":"SUM(OFFSET(X$9,0,0,MATCH($L386,$C$9:$C$374),1))-IF(ISTEXT(X385),0,SUM(X$378:X385))","v":0},{"$f":"SUM(OFFSET(Y$9,0,0,MATCH($L386,$C$9:$C$374),1))-IF(ISTEXT(Y385),0,SUM(Y$378:Y385))","v":0},{"$f":"SUM(OFFSET(Z$9,0,0,MATCH($L386,$C$9:$C$374),1))-IF(ISTEXT(Z385),0,SUM(Z$378:Z385))","v":0},{"$f":"SUM(OFFSET(AA$9,0,0,MATCH($L386,$C$9:$C$374),1))-IF(ISTEXT(AA385),0,SUM(AA$378:AA385))","v":0},{"$f":"SUM(OFFSET(AB$9,0,0,MATCH($L386,$C$9:$C$374),1))-IF(ISTEXT(AB385),0,SUM(AB$378:AB385))","v":0}]
[null,null,null,null,null,null,null,null,null,null,null,9,9,{"$f":"MATCH($L387,$C$9:$C$374)-IF(ISTEXT(N386),0,SUM(N$379:N386))","v":30},{"$f":"COUNT(OFFSET(G$9,0,0,MATCH($L387,$C$9:$C$374),1))-IF(ISTEXT(O386),0,SUM(O$378:O386))","v":0},{"$f":"SUM(OFFSET(G$9,0,0,MATCH($L387,$C$9:$C$374),1))-IF(ISTEXT(P386),0,SUM(P$378:P386))","v":0},{"$f":"SUM(OFFSET(Q$9,0,0,MATCH($L387,$C$9:$C$374),1))-IF(ISTEXT(Q386),0,SUM(Q$378:Q386))","v":0},{"$f":"SUM(OFFSET(R$9,0,0,MATCH($L387,$C$9:$C$374),1))-IF(ISTEXT(R386),0,SUM(R$378:R386))","v":0},{"$f":"SUM(OFFSET(S$9,0,0,MATCH($L387,$C$9:$C$374),1))-IF(ISTEXT(S386),0,SUM(S$378:S386))","v":0},{"$f":"SUM(OFFSET(T$9,0,0,MATCH($L387,$C$9:$C$374),1))-IF(ISTEXT(T386),0,SUM(T$378:T386))","v":0},{"$f":"SUM(OFFSET(U$9,0,0,MATCH($L387,$C$9:$C$374),1))-IF(ISTEXT(U386),0,SUM(U$378:U386))","v":0},{"$f":"SUM(OFFSET(V$9,0,0,MATCH($L387,$C$9:$C$374),1))-IF(ISTEXT(V386),0,SUM(V$378:V386))","v":0},{"$f":"SUM(OFFSET(W$9,0,0,MATCH($L387,$C$9:$C$374),1))-IF(ISTEXT(W386),0,SUM(W$378:W386))","v":0},{"$f":"SUM(OFFSET(X$9,0,0,MATCH($L387,$C$9:$C$374),1))-IF(ISTEXT(X386),0,SUM(X$378:X386))","v":0},{"$f":"SUM(OFFSET(Y$9,0,0,MATCH($L387,$C$9:$C$374),1))-IF(ISTEXT(Y386),0,SUM(Y$378:Y386))","v":0},{"$f":"SUM(OFFSET(Z$9,0,0,MATCH($L387,$C$9:$C$374),1))-IF(ISTEXT(Z386),0,SUM(Z$378:Z386))","v":0},{"$f":"SUM(OFFSET(AA$9,0,0,MATCH($L387,$C$9:$C$374),1))-IF(ISTEXT(AA386),0,SUM(AA$378:AA386))","v":0},{"$f":"SUM(OFFSET(AB$9,0,0,MATCH($L387,$C$9:$C$374),1))-IF(ISTEXT(AB386),0,SUM(AB$378:AB386))","v":0}]
[null,null,null,null,null,null,null,null,null,null,null,10,10,{"$f":"MATCH($L388,$C$9:$C$374)-IF(ISTEXT(N387),0,SUM(N$379:N387))","v":31},{"$f":"COUNT(OFFSET(G$9,0,0,MATCH($L388,$C$9:$C$374),1))-IF(ISTEXT(O387),0,SUM(O$378:O387))","v":0},{"$f":"SUM(OFFSET(G$9,0,0,MATCH($L388,$C$9:$C$374),1))-IF(ISTEXT(P387),0,SUM(P$378:P387))","v":0},{"$f":"SUM(OFFSET(Q$9,0,0,MATCH($L388,$C$9:$C$374),1))-IF(ISTEXT(Q387),0,SUM(Q$378:Q387))","v":0},{"$f":"SUM(OFFSET(R$9,0,0,MATCH($L388,$C$9:$C$374),1))-IF(ISTEXT(R387),0,SUM(R$378:R387))","v":0},{"$f":"SUM(OFFSET(S$9,0,0,MATCH($L388,$C$9:$C$374),1))-IF(ISTEXT(S387),0,SUM(S$378:S387))","v":0},{"$f":"SUM(OFFSET(T$9,0,0,MATCH($L388,$C$9:$C$374),1))-IF(ISTEXT(T387),0,SUM(T$378:T387))","v":0},{"$f":"SUM(OFFSET(U$9,0,0,MATCH($L388,$C$9:$C$374),1))-IF(ISTEXT(U387),0,SUM(U$378:U387))","v":0},{"$f":"SUM(OFFSET(V$9,0,0,MATCH($L388,$C$9:$C$374),1))-IF(ISTEXT(V387),0,SUM(V$378:V387))","v":0},{"$f":"SUM(OFFSET(W$9,0,0,MATCH($L388,$C$9:$C$374),1))-IF(ISTEXT(W387),0,SUM(W$378:W387))","v":0},{"$f":"SUM(OFFSET(X$9,0,0,MATCH($L388,$C$9:$C$374),1))-IF(ISTEXT(X387),0,SUM(X$378:X387))","v":0},{"$f":"SUM(OFFSET(Y$9,0,0,MATCH($L388,$C$9:$C$374),1))-IF(ISTEXT(Y387),0,SUM(Y$378:Y387))","v":0},{"$f":"SUM(OFFSET(Z$9,0,0,MATCH($L388,$C$9:$C$374),1))-IF(ISTEXT(Z387),0,SUM(Z$378:Z387))","v":0},{"$f":"SUM(OFFSET(AA$9,0,0,MATCH($L388,$C$9:$C$374),1))-IF(ISTEXT(AA387),0,SUM(AA$378:AA387))","v":0},{"$f":"SUM(OFFSET(AB$9,0,0,MATCH($L388,$C$9:$C$374),1))-IF(ISTEXT(AB387),0,SUM(AB$378:AB387))","v":0}]
[null,null,null,null,null,null,null,null,null,null,null,11,11,{"$f":"MATCH($L389,$C$9:$C$374)-IF(ISTEXT(N388),0,SUM(N$379:N388))","v":30},{"$f":"COUNT(OFFSET(G$9,0,0,MATCH($L389,$C$9:$C$374),1))-IF(ISTEXT(O388),0,SUM(O$378:O388))","v":0},{"$f":"SUM(OFFSET(G$9,0,0,MATCH($L389,$C$9:$C$374),1))-IF(ISTEXT(P388),0,SUM(P$378:P388))","v":0},{"$f":"SUM(OFFSET(Q$9,0,0,MATCH($L389,$C$9:$C$374),1))-IF(ISTEXT(Q388),0,SUM(Q$378:Q388))","v":0},{"$f":"SUM(OFFSET(R$9,0,0,MATCH($L389,$C$9:$C$374),1))-IF(ISTEXT(R388),0,SUM(R$378:R388))","v":0},{"$f":"SUM(OFFSET(S$9,0,0,MATCH($L389,$C$9:$C$374),1))-IF(ISTEXT(S388),0,SUM(S$378:S388))","v":0},{"$f":"SUM(OFFSET(T$9,0,0,MATCH($L389,$C$9:$C$374),1))-IF(ISTEXT(T388),0,SUM(T$378:T388))","v":0},{"$f":"SUM(OFFSET(U$9,0,0,MATCH($L389,$C$9:$C$374),1))-IF(ISTEXT(U388),0,SUM(U$378:U388))","v":0},{"$f":"SUM(OFFSET(V$9,0,0,MATCH($L389,$C$9:$C$374),1))-IF(ISTEXT(V388),0,SUM(V$378:V388))","v":0},{"$f":"SUM(OFFSET(W$9,0,0,MATCH($L389,$C$9:$C$374),1))-IF(ISTEXT(W388),0,SUM(W$378:W388))","v":0},{"$f":"SUM(OFFSET(X$9,0,0,MATCH($L389,$C$9:$C$374),1))-IF(ISTEXT(X388),0,SUM(X$378:X388))","v":0},{"$f":"SUM(OFFSET(Y$9,0,0,MATCH($L389,$C$9:$C$374),1))-IF(ISTEXT(Y388),0,SUM(Y$378:Y388))","v":0},{"$f":"SUM(OFFSET(Z$9,0,0,MATCH($L389,$C$9:$C$374),1))-IF(ISTEXT(Z388),0,SUM(Z$378:Z388))","v":0},{"$f":"SUM(OFFSET(AA$9,0,0,MATCH($L389,$C$9:$C$374),1))-IF(ISTEXT(AA388),0,SUM(AA$378:AA388))","v":0},{"$f":"SUM(OFFSET(AB$9,0,0,MATCH($L389,$C$9:$C$374),1))-IF(ISTEXT(AB388),0,SUM(AB$378:AB388))","v":0}]
[null,null,null,null,null,null,null,null,null,null,null,12,12,{"$f":"MATCH($L390,$C$9:$C$374)-IF(ISTEXT(N389),0,SUM(N$379:N389))","v":31},{"$f":"COUNT(OFFSET(G$9,0,0,MATCH($L390,$C$9:$C$374),1))-IF(ISTEXT(O389),0,SUM(O$378:O389))","v":0},{"$f":"SUM(OFFSET(G$9,0,0,MATCH($L390,$C$9:$C$374),1))-IF(ISTEXT(P389),0,SUM(P$378:P389))","v":0},{"$f":"SUM(OFFSET(Q$9,0,0,MATCH($L390,$C$9:$C$374),1))-IF(ISTEXT(Q389),0,SUM(Q$378:Q389))","v":0},{"$f":"SUM(OFFSET(R$9,0,0,MATCH($L390,$C$9:$C$374),1))-IF(ISTEXT(R389),0,SUM(R$378:R389))","v":0},{"$f":"SUM(OFFSET(S$9,0,0,MATCH($L390,$C$9:$C$374),1))-IF(ISTEXT(S389),0,SUM(S$378:S389))","v":0},{"$f":"SUM(OFFSET(T$9,0,0,MATCH($L390,$C$9:$C$374),1))-IF(ISTEXT(T389),0,SUM(T$378:T389))","v":0},{"$f":"SUM(OFFSET(U$9,0,0,MATCH($L390,$C$9:$C$374),1))-IF(ISTEXT(U389),0,SUM(U$378:U389))","v":0},{"$f":"SUM(OFFSET(V$9,0,0,MATCH($L390,$C$9:$C$374),1))-IF(ISTEXT(V389),0,SUM(V$378:V389))","v":0},{"$f":"SUM(OFFSET(W$9,0,0,MATCH($L390,$C$9:$C$374),1))-IF(ISTEXT(W389),0,SUM(W$378:W389))","v":0},{"$f":"SUM(OFFSET(X$9,0,0,MATCH($L390,$C$9:$C$374),1))-IF(ISTEXT(X389),0,SUM(X$378:X389))","v":0},{"$f":"SUM(OFFSET(Y$9,0,0,MATCH($L390,$C$9:$C$374),1))-IF(ISTEXT(Y389),0,SUM(Y$378:Y389))","v":0},{"$f":"SUM(OFFSET(Z$9,0,0,MATCH($L390,$C$9:$C$374),1))-IF(ISTEXT(Z389),0,SUM(Z$378:Z389))","v":0},{"$f":"SUM(OFFSET(AA$9,0,0,MATCH($L390,$C$9:$C$374),1))-IF(ISTEXT(AA389),0,SUM(AA$378:AA389))","v":0},{"$f":"SUM(OFFSET(AB$9,0,0,MATCH($L390,$C$9:$C$374),1))-IF(ISTEXT(AB389),0,SUM(AB$378:AB389))","v":0}]
[null,null,null,null,null,null,null,null,null,null,null,"合計",null,{"$f":"SUM(N379:N390)","v":365},{"$f":"SUM(O379:O390)","v":0},{"$f":"SUM(P379:P390)","v":0},{"$f":"SUM(Q379:Q390)","v":0},0,0,0,0,0,0,{"$f":"SUM(X379:X390)","v":0},{"$f":"SUM(Y379:Y390)","v":0},{"$f":"SUM(Z379:Z390)","v":0},0,0]

{"sheet":"（非表示・計算用）1年変形","index":2,"n_rows":398,"n_cols":53,"rows_kept":398,"cut":false,"hidden":true,"merged":[[396,29,396,32],[397,29,397,32],[6,9,6,17],[6,44,6,48],[6,49,6,51],[390,11,390,12],[393,29,393,32],[394,29,394,32],[395,29,395,32],[6,19,6,22],[6,23,6,26],[6,28,6,32],[6,33,6,36],[6,37,6,41],[6,42,6,43],[3,20,3,21],[5,13,5,14],[5,15,5,17],[6,1,6,4],[6,5,6,6],[6,7,6,8],[3,23,4,28],[4,20,4,21],[1,5,1,6],[1,8,1,10],[1,11,1,12],[1,14,1,17],[1,20,2,21],[1,23,2,28],[2,5,2,6],[2,8,2,10],[2,11,2,12],[2,14,2,17],[3,5,3,6],[3,8,3,10],[3,11,3,12],[3,14,3,17]]}
[null,null,null,null,null,"計算条件",null,null,null,null,null,null,null,null,null,null,null,null,null,"入力欄",null,null,"計算結果欄"]
[null,null,null,null,null,"週起算日",null,{"$f":"'1年変形'!H2","v":1},"1:日 2:月 3:火 4:水 5:木 6:金 7:土",null,null,"労働時間制",null,{"$f":"'1年変形'!N2","v":"1年変形"},"1年変形（固定）",null,null,null,null,null,"入力可",null,null,"労基法第37条の割増賃金の対象となる時間"]
[null,null,null,null,null,"週締め日",null,{"$f":"'1年変形'!H3","v":7},"週起算日から自動判定",null,null,"端数処理（切捨）",null,{"$f":"'1年変形'!N3","v":"なし"},"年法定労働時間の端数処理"]
[null,null,null,null,null,"週法定労働時間",null,{"$f":"'1年変形'!H4","v":40},"40時間（固定）",null,null,"年法定労働時間",null,{"$f":"'1年変形'!N4","v":86.904166666666669},"40時間×暦日数÷7",null,null,null,null,null,"入力必須",null,null,"上記以外（給与や割増賃金の計算に使用する時間）"]
[null,null,null,null,null,null,{"$f":"IF(G374>N3,\"年の所定労働時間が週平均40時間を超えています。\",\"\")","v":""},null,null,null,null,null,null,null,null,null,null,null,null,null,"入力不可"]
["勤怠状況",null,null,null,null,null,{"$f":"IF(G375>N4,\"年の所定労働時間が週平均40時間を超えています。\",\"\")","v":""}]
[null,"集計用",null,null,null,"勤務予定",null,"振替",null,"勤務実績",null,null,null,null,null,null,null,null,null,"時間外労働",null,null,null,"時間外労働内訳",null,null,null,null,"法定内労働",null,null,null,null,"控除",null,null,null,"実働時間（時間帯別）",null,null,null,null,"1日時間外",null,"週時間外",null,null,null,null,"年時間外",null,null,"60時間超"]
["年月日","週\n締日","月\n締日","週\n日数","期間日数","休日","所定\n労働時間","振替","振替後の所定\n労働時間","始業時刻","終業時刻","中抜時間\n(0～5時)","中抜時間\n(5～22時)","中抜時間\n(22～24時)","中抜時間\n(24～翌5時)","中抜時間\n(翌5時～)","有給休暇\n時間","実働時間","法定休日","時間外(日)","時間外\n(週)","時間外\n(年)","時間外\n(合計)","勤務日\n(60H以下)","所定休日\n(60H以下)","勤務日\n(60H超)","所定休日\n(60H超)","深夜","所定内","振替出勤","所定外","所定休日","法定内\n（合計）","欠勤等","振替休日","100％\n相殺","控除\n(合計)","実働時間\n(0～5時)","実働時間\n(5～22時)","実働時間\n(22～24時)","実働時間\n(24～翌5時)","実働時間\n(翌5時～)","法定休日\n以外","1日法定\n労働時間","週所定\n労働時間","週法定\n労働時間","法定休日\n以外\n(週計)","1日時間外(週計)","前日まで\n週時間外\n(週計)","法定休日以外\n(年計)","1日・週\n時間外\n(年計)","前日まで年時間外\n(年計)","時間外\n(月計)"]
["2024-01-01",null,null,1,1,null,null,null,null,null,null,null,null,null,null,null,null,{"$f":"K9-J9-SUM(L9:P9)","v":0},{"$f":"IF(AND(F9=\"法定\",H9<>\"振出\"),SUM(AL9:AN9),0)+IF(F10=\"法定\",AO9+AP9,0)","v":0},{"$f":"_xlfn.LET(_xlpm.値,MAX(0,AQ9-IF(AR9=0,8/24,AR9)),IF(_xlpm.値<TIME(0,0,1),0,_xlpm.値))","v":0},{"$f":"_xlfn.LET(_xlpm.値,IF($A9=\"-\",0,MAX(0,AU9-AV9-AW9-AT9)),IF(_xlpm.値<TIME(0,0,1),0,_xlpm.値))","v":0},{"$f":"MAX(0,AX9-AY9-AZ9-$N$4)","v":0},{"$f":"SUM(T9,U9,V9)","v":0},{"$f":"_xlfn.IFS(AND(F9=\"所定\",H9<>\"振出\"),0,BA9>60/24,W9-MIN(W9,BA9-60/24),TRUE,W9)","v":0},{"$f":"_xlfn.IFS(OR(F9<>\"所定\",H9=\"振出\"),0,BA9>60/24,W9-MIN(W9,BA9-60/24),TRUE,W9)","v":0},{"$f":"IF(AND(F9=\"所定\",H9<>\"振出\"),0,W9-X9)","v":0},{"$f":"IF(OR(F9<>\"所定\",H9=\"振出\"),0,W9-Y9)","v":0},{"$f":"SUM(AL9,AN9:AO9)","v":0},{"$f":"IF(G9=\"\",0,MIN(AG9,G9-Q9))","v":0},{"$f":"IF(H9=\"振出\",MIN(AG9,I9-Q9),0)","v":0},{"$f":"_xlfn.LET(_xlpm.値,AG9-AF9-AC9-AD9,IF(_xlpm.値<TIME(0,0,1),0,_xlpm.値))","v":0},{"$f":"_xlfn.LET(_xlpm.値,IF(AND(F9=\"所定\",H9<>\"振出\"),MAX(0,AG9-AC9),0),IF(_xlpm.値<TIME(0,0,1),0,_xlpm.値))","v":0},{"$f":"_xlfn.LET(_xlpm.値,MAX(0,AQ9-W9),IF(_xlpm.値<TIME(0,0,1),0,_xlpm.値))","v":0},{"$f":"_xlfn.IFS(H9=\"振休\",0,R9<G9,MAX(0,G9-R9-Q9),TRUE,0)","v":0},{"$f":"IF(H9=\"振休\",MAX(0,G9-AG9-Q9),0)","v":0},{"$f":"_xlfn.LET(_xlpm.値,IF(G9=\"\",0,G9-Q9-AC9-AH9-AI9),IF(_xlpm.値<TIME(0,0,1),0,_xlpm.値))","v":0},{"$f":"_xlfn.LET(_xlpm.値,MAX(0,G9-Q9-R9)+AJ9,IF(_xlpm.値<TIME(0,0,1),0,_xlpm.値))","v":0},{"$f":"IF(J9=\"\",0,MAX(0,MIN(5/24,K9)-MAX(0,J9)-L9))","v":0},{"$f":"IF(J9=\"\",0,MAX(0,MIN(22/24,K9)-MAX(5/24,J9)-M9))","v":0},{"$f":"IF(J9=\"\",0,MAX(0,MIN(24/24,K9)-MAX(22/24,J9)-N9))","v":0},{"$f":"IF(J9=\"\",0,MAX(0,MIN(29/24,K9)-MAX(24/24,J9)-O9))","v":0},{"$f":"IF(J9=\"\",0,MAX(0,MIN(48/24,K9)-MAX(29/24,J9)-P9))","v":0},{"$f":"R9-S9","v":0},{"$f":"_xlfn.IFS(A9=\"-\",0,H9=\"振出\",IF($N$2=\"原則\",8/24,MAX(I9,8/24)),F9=\"法定\",0,TRUE,IF($N$2=\"原則\",8/24,MAX(G9,8/24)))","v":0.33333333333333331},{"$f":"_xlfn.IFS(A9=\"-\",0,B9=\"\",AS10,TRUE,SUM(OFFSET(G9,D9*-1+1,0,D9,1)))","v":0},{"$f":"_xlfn.IFS(A9=\"-\",0,B9=\"\",AT10,$N$2=\"原則\",$H$4/24,TRUE,MAX(AS9,$H$4/24*D9/7))","v":1.4285714285714286},{"$f":"IF(A9=\"-\",0,SUM(OFFSET(AQ9,D9*-1+1,0,D9,1)))","v":0},{"$f":"IF(A9=\"-\",0,SUM(OFFSET(T9,$D9*-1+1,0,D9,1)))","v":0},{"$f":"IF(OR($D9=1,A9=\"-\"),0,SUM(OFFSET(U9,D9*-1+1,0,D9-1,1)))","v":0},{"$f":"IF(A9=\"-\",0,SUM(AQ$9:AQ9))","v":0},{"$f":"IF(A9=\"-\",0,SUM(T$9:T9)+SUM(U$9:U9))","v":0},{"$f":"IF(ISTEXT(V8),0,SUM(V8:V$9))","v":0},{"$f":"IF(C8<>\"\",W9,BA8+W9)","v":0}]
["2024-01-02",null,null,2,2,null,null,null,null,null,null,null,null,null,null,null,null,{"$f":"K10-J10-SUM(L10:P10)","v":0},0,{"$f":"_xlfn.LET(_xlpm.値,MAX(0,AQ10-IF(AR10=0,8/24,AR10)),IF(_xlpm.値<TIME(0,0,1),0,_xlpm.値))","v":0},{"$f":"_xlfn.LET(_xlpm.値,IF($A10=\"-\",0,MAX(0,AU10-AV10-AW10-AT10)),IF(_xlpm.値<TIME(0,0,1),0,_xlpm.値))","v":0},{"$f":"MAX(0,AX10-AY10-AZ10-$N$4)","v":0},{"$f":"SUM(T10,U10,V10)","v":0},0,0,0,0,{"$f":"SUM(AL10,AN10:AO10)","v":0},0,0,{"$f":"_xlfn.LET(_xlpm.値,AG10-AF10-AC10-AD10,IF(_xlpm.値<TIME(0,0,1),0,_xlpm.値))","v":0},0,{"$f":"_xlfn.LET(_xlpm.値,MAX(0,AQ10-W10),IF(_xlpm.値<TIME(0,0,1),0,_xlpm.値))","v":0},0,0,0,0,0,0,0,0,0,0,0.33333333333333331,0,1.4285714285714286,0,0,0,{"$f":"IF(A10=\"-\",0,SUM(AQ$9:AQ10))","v":0},{"$f":"IF(A10=\"-\",0,SUM(T$9:T10)+SUM(U$9:U10))","v":0},{"$f":"IF(ISTEXT(V9),0,SUM(V9:V$9))","v":0},0]
["2024-01-03",null,null,3,3,null,null,null,null,null,null,null,null,null,null,null,null,0,0,0,0,0,0,0,0,0,0,0,0,0,0,0,0,0,0,0,0,0,0,0,0,0,0,0.33333333333333331,0,1.4285714285714286,0,0,0,{"$f":"IF(A11=\"-\",0,SUM(AQ$9:AQ11))","v":0},{"$f":"IF(A11=\"-\",0,SUM(T$9:T11)+SUM(U$9:U11))","v":0},{"$f":"IF(ISTEXT(V10),0,SUM(V$9:V10))","v":0},0]
["2024-01-04",null,null,4,4,null,null,null,null,null,null,null,null,null,null,null,null,0,0,0,0,0,0,0,0,0,0,0,0,0,0,0,0,0,0,0,0,0,0,0,0,0,0,0.33333333333333331,0,1.4285714285714286,0,0,0,{"$f":"IF(A12=\"-\",0,SUM(AQ$9:AQ12))","v":0},{"$f":"IF(A12=\"-\",0,SUM(T$9:T12)+SUM(U$9:U12))","v":0},{"$f":"IF(ISTEXT(V11),0,SUM(V$9:V11))","v":0},0]
["2024-01-05",null,null,5,5,null,null,null,null,null,null,null,null,null,null,null,null,0,0,0,0,0,0,0,0,0,0,0,0,0,0,0,0,0,0,0,0,0,0,0,0,0,0,0.33333333333333331,0,1.4285714285714286,0,0,0,{"$f":"IF(A13=\"-\",0,SUM(AQ$9:AQ13))","v":0},{"$f":"IF(A13=\"-\",0,SUM(T$9:T13)+SUM(U$9:U13))","v":0},{"$f":"IF(ISTEXT(V12),0,SUM(V$9:V12))","v":0},0]
["2024-01-06",1,null,6,6,null,null,null,null,null,null,null,null,null,null,null,null,0,0,0,0,0,0,0,0,0,0,0,0,0,0,0,0,0,0,0,0,0,0,0,0,0,0,0.33333333333333331,0,1.4285714285714286,0,0,0,{"$f":"IF(A14=\"-\",0,SUM(AQ$9:AQ14))","v":0},{"$f":"IF(A14=\"-\",0,SUM(T$9:T14)+SUM(U$9:U14))","v":0},{"$f":"IF(ISTEXT(V13),0,SUM(V$9:V13))","v":0},0]
["2024-01-07",null,null,1,7,null,null,null,null,null,null,null,null,null,null,null,null,0,0,0,0,0,0,0,0,0,0,0,0,0,0,0,0,0,0,0,0,0,0,0,0,0,0,0.33333333333333331,0,1.6666666666666667,0,0,0,{"$f":"IF(A15=\"-\",0,SUM(AQ$9:AQ15))","v":0},{"$f":"IF(A15=\"-\",0,SUM(T$9:T15)+SUM(U$9:U15))","v":0},{"$f":"IF(ISTEXT(V14),0,SUM(V$9:V14))","v":0},0]
["2024-01-08",null,null,2,8,null,null,null,null,null,null,null,null,null,null,null,null,0,0,0,0,0,0,0,0,0,0,0,0,0,0,0,0,0,0,0,0,0,0,0,0,0,0,0.33333333333333331,0,1.6666666666666667,0,0,0,{"$f":"IF(A16=\"-\",0,SUM(AQ$9:AQ16))","v":0},{"$f":"IF(A16=\"-\",0,SUM(T$9:T16)+SUM(U$9:U16))","v":0},{"$f":"IF(ISTEXT(V15),0,SUM(V$9:V15))","v":0},0]
["2024-01-09",null,null,3,9,null,null,null,null,null,null,null,null,null,null,null,null,0,0,0,0,0,0,0,0,0,0,0,0,0,0,0,0,0,0,0,0,0,0,0,0,0,0,0.33333333333333331,0,1.6666666666666667,0,0,0,{"$f":"IF(A17=\"-\",0,SUM(AQ$9:AQ17))","v":0},{"$f":"IF(A17=\"-\",0,SUM(T$9:T17)+SUM(U$9:U17))","v":0},{"$f":"IF(ISTEXT(V16),0,SUM(V$9:V16))","v":0},0]
["2024-01-10",null,null,4,10,null,null,null,null,null,null,null,null,null,null,null,null,0,0,0,0,0,0,0,0,0,0,0,0,0,0,0,0,0,0,0,0,0,0,0,0,0,0,0.33333333333333331,0,1.6666666666666667,0,0,0,{"$f":"IF(A18=\"-\",0,SUM(AQ$9:AQ18))","v":0},{"$f":"IF(A18=\"-\",0,SUM(T$9:T18)+SUM(U$9:U18))","v":0},{"$f":"IF(ISTEXT(V17),0,SUM(V$9:V17))","v":0},0]
["2024-01-11",null,null,5,11,null,null,null,null,null,null,null,null,null,null,null,null,0,0,0,0,0,0,0,0,0,0,0,0,0,0,0,0,0,0,0,0,0,0,0,0,0,0,0.33333333333333331,0,1.6666666666666667,0,0,0,{"$f":"IF(A19=\"-\",0,SUM(AQ$9:AQ19))","v":0},{"$f":"IF(A19=\"-\",0,SUM(T$9:T19)+SUM(U$9:U19))","v":0},{"$f":"IF(ISTEXT(V18),0,SUM(V$9:V18))","v":0},0]
["2024-01-12",null,null,6,12,null,null,null,null,null,null,null,null,null,null,null,null,0,0,0,0,0,0,0,0,0,0,0,0,0,0,0,0,0,0,0,0,0,0,0,0,0,0,0.33333333333333331,0,1.6666666666666667,0,0,0,{"$f":"IF(A20=\"-\",0,SUM(AQ$9:AQ20))","v":0},{"$f":"IF(A20=\"-\",0,SUM(T$9:T20)+SUM(U$9:U20))","v":0},{"$f":"IF(ISTEXT(V19),0,SUM(V$9:V19))","v":0},0]
["2024-01-13",1,null,7,13,null,null,null,null,null,null,null,null,null,null,null,null,0,0,0,0,0,0,0,0,0,0,0,0,0,0,0,0,0,0,0,0,0,0,0,0,0,0,0.33333333333333331,0,1.6666666666666667,0,0,0,{"$f":"IF(A21=\"-\",0,SUM(AQ$9:AQ21))","v":0},{"$f":"IF(A21=\"-\",0,SUM(T$9:T21)+SUM(U$9:U21))","v":0},{"$f":"IF(ISTEXT(V20),0,SUM(V$9:V20))","v":0},0]
["2024-01-14",null,null,1,14,null,null,null,null,null,null,null,null,null,null,null,null,0,0,0,0,0,0,0,0,0,0,0,0,0,0,0,0,0,0,0,0,0,0,0,0,0,0,0.33333333333333331,0,1.6666666666666667,0,0,0,{"$f":"IF(A22=\"-\",0,SUM(AQ$9:AQ22))","v":0},{"$f":"IF(A22=\"-\",0,SUM(T$9:T22)+SUM(U$9:U22))","v":0},{"$f":"IF(ISTEXT(V21),0,SUM(V$9:V21))","v":0},0]
["2024-01-15",null,null,2,15,null,null,null,null,null,null,null,null,null,null,null,null,0,0,0,0,0,0,0,0,0,0,0,0,0,0,0,0,0,0,0,0,0,0,0,0,0,0,0.33333333333333331,0,1.6666666666666667,0,0,0,{"$f":"IF(A23=\"-\",0,SUM(AQ$9:AQ23))","v":0},{"$f":"IF(A23=\"-\",0,SUM(T$9:T23)+SUM(U$9:U23))","v":0},{"$f":"IF(ISTEXT(V22),0,SUM(V$9:V22))","v":0},0]
["2024-01-16",null,null,3,16,null,null,null,null,null,null,null,null,null,null,null,null,{"$f":"K24-J24-SUM(L24:P24)","v":0},0,0,0,0,0,0,0,0,0,0,0,0,0,0,0,0,0,0,0,0,0,0,0,0,0,0.33333333333333331,0,1.6666666666666667,0,0,0,{"$f":"IF(A24=\"-\",0,SUM(AQ$9:AQ24))","v":0},{"$f":"IF(A24=\"-\",0,SUM(T$9:T24)+SUM(U$9:U24))","v":0},{"$f":"IF(ISTEXT(V23),0,SUM(V$9:V23))","v":0},0]
["2024-01-17",null,null,4,17,null,null,null,null,null,null,null,null,null,null,null,null,0,0,0,0,0,0,0,0,0,0,0,0,0,0,0,0,0,0,0,0,0,0,0,0,0,0,0.33333333333333331,0,1.6666666666666667,0,0,0,{"$f":"IF(A25=\"-\",0,SUM(AQ$9:AQ25))","v":0},{"$f":"IF(A25=\"-\",0,SUM(T$9:T25)+SUM(U$9:U25))","v":0},{"$f":"IF(ISTEXT(V24),0,SUM(V$9:V24))","v":0},0]
["2024-01-18",null,null,5,18,null,null,null,null,null,null,null,null,null,null,null,null,0,0,0,0,0,0,0,0,0,0,0,0,0,0,0,0,0,0,0,0,0,0,0,0,0,0,0.33333333333333331,0,1.6666666666666667,0,0,0,{"$f":"IF(A26=\"-\",0,SUM(AQ$9:AQ26))","v":0},{"$f":"IF(A26=\"-\",0,SUM(T$9:T26)+SUM(U$9:U26))","v":0},{"$f":"IF(ISTEXT(V25),0,SUM(V$9:V25))","v":0},0]
["2024-01-19",null,null,6,19,null,null,null,null,null,null,null,null,null,null,null,null,0,0,0,0,0,0,0,0,0,0,0,0,0,0,0,0,0,0,0,0,0,0,0,0,0,0,0.33333333333333331,0,1.6666666666666667,0,0,0,{"$f":"IF(A27=\"-\",0,SUM(AQ$9:AQ27))","v":0},{"$f":"IF(A27=\"-\",0,SUM(T$9:T27)+SUM(U$9:U27))","v":0},{"$f":"IF(ISTEXT(V26),0,SUM(V$9:V26))","v":0},0]
["2024-01-20",1,null,7,20,null,null,null,null,null,null,null,null,null,null,null,null,0,0,0,0,0,0,0,0,0,0,0,0,0,0,0,0,0,0,0,0,0,0,0,0,0,0,0.33333333333333331,0,1.6666666666666667,0,0,0,{"$f":"IF(A28=\"-\",0,SUM(AQ$9:AQ28))","v":0},{"$f":"IF(A28=\"-\",0,SUM(T$9:T28)+SUM(U$9:U28))","v":0},{"$f":"IF(ISTEXT(V27),0,SUM(V$9:V27))","v":0},0]
["2024-01-21",null,null,1,21,null,null,null,null,null,null,null,null,null,null,null,null,0,0,0,0,0,0,0,0,0,0,0,0,0,0,0,0,0,0,0,0,0,0,0,0,0,0,0.33333333333333331,0,1.6666666666666667,0,0,0,{"$f":"IF(A29=\"-\",0,SUM(AQ$9:AQ29))","v":0},{"$f":"IF(A29=\"-\",0,SUM(T$9:T29)+SUM(U$9:U29))","v":0},{"$f":"IF(ISTEXT(V28),0,SUM(V$9:V28))","v":0},0]
["2024-01-22",null,null,2,22,null,null,null,null,null,null,null,null,null,null,null,null,0,0,0,0,0,0,0,0,0,0,0,0,0,0,0,0,0,0,0,0,0,0,0,0,0,0,0.33333333333333331,0,1.6666666666666667,0,0,0,{"$f":"IF(A30=\"-\",0,SUM(AQ$9:AQ30))","v":0},{"$f":"IF(A30=\"-\",0,SUM(T$9:T30)+SUM(U$9:U30))","v":0},{"$f":"IF(ISTEXT(V29),0,SUM(V$9:V29))","v":0},0]
["2024-01-23",null,null,3,23,null,null,null,null,null,null,null,null,null,null,null,null,0,0,0,0,0,0,0,0,0,0,0,0,0,0,0,0,0,0,0,0,0,0,0,0,0,0,0.33333333333333331,0,1.6666666666666667,0,0,0,{"$f":"IF(A31=\"-\",0,SUM(AQ$9:AQ31))","v":0},{"$f":"IF(A31=\"-\",0,SUM(T$9:T31)+SUM(U$9:U31))","v":0},{"$f":"IF(ISTEXT(V30),0,SUM(V$9:V30))","v":0},0]
["2024-01-24",null,null,4,24,null,null,null,null,null,null,null,null,null,null,null,null,0,0,0,0,0,0,0,0,0,0,0,0,0,0,0,0,0,0,0,0,0,0,0,0,0,0,0.33333333333333331,0,1.6666666666666667,0,0,0,{"$f":"IF(A32=\"-\",0,SUM(AQ$9:AQ32))","v":0},{"$f":"IF(A32=\"-\",0,SUM(T$9:T32)+SUM(U$9:U32))","v":0},{"$f":"IF(ISTEXT(V31),0,SUM(V$9:V31))","v":0},0]
["2024-01-25",null,null,5,25,null,null,null,null,null,null,null,null,null,null,null,null,0,0,0,0,0,0,0,0,0,0,0,0,0,0,0,0,0,0,0,0,0,0,0,0,0,0,0.33333333333333331,0,1.6666666666666667,0,0,0,{"$f":"IF(A33=\"-\",0,SUM(AQ$9:AQ33))","v":0},{"$f":"IF(A33=\"-\",0,SUM(T$9:T33)+SUM(U$9:U33))","v":0},{"$f":"IF(ISTEXT(V32),0,SUM(V$9:V32))","v":0},0]
["2024-01-26",null,null,6,26,null,null,null,null,null,null,null,null,null,null,null,null,0,0,0,0,0,0,0,0,0,0,0,0,0,0,0,0,0,0,0,0,0,0,0,0,0,0,0.33333333333333331,0,1.6666666666666667,0,0,0,{"$f":"IF(A34=\"-\",0,SUM(AQ$9:AQ34))","v":0},{"$f":"IF(A34=\"-\",0,SUM(T$9:T34)+SUM(U$9:U34))","v":0},{"$f":"IF(ISTEXT(V33),0,SUM(V$9:V33))","v":0},0]
["2024-01-27",1,null,7,27,null,null,null,null,null,null,null,null,null,null,null,null,0,0,0,0,0,0,0,0,0,0,0,0,0,0,0,0,0,0,0,0,0,0,0,0,0,0,0.33333333333333331,0,1.6666666666666667,0,0,0,{"$f":"IF(A35=\"-\",0,SUM(AQ$9:AQ35))","v":0},{"$f":"IF(A35=\"-\",0,SUM(T$9:T35)+SUM(U$9:U35))","v":0},{"$f":"IF(ISTEXT(V34),0,SUM(V$9:V34))","v":0},0]
["2024-01-28",null,null,1,28,null,null,null,null,null,null,null,null,null,null,null,null,0,0,0,0,0,0,0,0,0,0,0,0,0,0,0,0,0,0,0,0,0,0,0,0,0,0,0.33333333333333331,0,1.6666666666666667,0,0,0,{"$f":"IF(A36=\"-\",0,SUM(AQ$9:AQ36))","v":0},{"$f":"IF(A36=\"-\",0,SUM(T$9:T36)+SUM(U$9:U36))","v":0},{"$f":"IF(ISTEXT(V35),0,SUM(V$9:V35))","v":0},0]
["2024-01-29",null,null,2,29,null,null,null,null,null,null,null,null,null,null,null,null,0,0,0,0,0,0,0,0,0,0,0,0,0,0,0,0,0,0,0,0,0,0,0,0,0,0,0.33333333333333331,0,1.6666666666666667,0,0,0,{"$f":"IF(A37=\"-\",0,SUM(AQ$9:AQ37))","v":0},{"$f":"IF(A37=\"-\",0,SUM(T$9:T37)+SUM(U$9:U37))","v":0},{"$f":"IF(ISTEXT(V36),0,SUM(V$9:V36))","v":0},0]
["2024-01-30",null,null,3,30,null,null,null,null,null,null,null,null,null,null,null,null,{"$f":"K38-J38-SUM(L38:P38)","v":0},0,0,0,0,0,0,0,0,0,0,0,0,0,0,0,0,0,0,0,0,0,0,0,0,0,0.33333333333333331,0,1.6666666666666667,0,0,0,{"$f":"IF(A38=\"-\",0,SUM(AQ$9:AQ38))","v":0},{"$f":"IF(A38=\"-\",0,SUM(T$9:T38)+SUM(U$9:U38))","v":0},{"$f":"IF(ISTEXT(V37),0,SUM(V$9:V37))","v":0},0]
["2024-01-31",null,1,4,31,null,null,null,null,null,null,null,null,null,null,null,null,0,0,0,0,0,0,0,0,0,0,0,0,0,0,0,0,0,0,0,0,0,0,0,0,0,0,0.33333333333333331,0,1.6666666666666667,0,0,0,{"$f":"IF(A39=\"-\",0,SUM(AQ$9:AQ39))","v":0},{"$f":"IF(A39=\"-\",0,SUM(T$9:T39)+SUM(U$9:U39))","v":0},{"$f":"IF(ISTEXT(V38),0,SUM(V$9:V38))","v":0},0]
["2024-02-01",null,null,5,32,null,null,null,null,null,null,null,null,null,null,null,null,0,0,0,0,0,0,0,0,0,0,0,0,0,0,0,0,0,0,0,0,0,0,0,0,0,0,0.33333333333333331,0,1.6666666666666667,0,0,0,{"$f":"IF(A40=\"-\",0,SUM(AQ$9:AQ40))","v":0},{"$f":"IF(A40=\"-\",0,SUM(T$9:T40)+SUM(U$9:U40))","v":0},{"$f":"IF(ISTEXT(V39),0,SUM(V$9:V39))","v":0},0]
["2024-02-02",null,null,6,33,null,null,null,null,null,null,null,null,null,null,null,null,0,0,0,0,0,0,0,0,0,0,0,0,0,0,0,0,0,0,0,0,0,0,0,0,0,0,0.33333333333333331,0,1.6666666666666667,0,0,0,{"$f":"IF(A41=\"-\",0,SUM(AQ$9:AQ41))","v":0},{"$f":"IF(A41=\"-\",0,SUM(T$9:T41)+SUM(U$9:U41))","v":0},{"$f":"IF(ISTEXT(V40),0,SUM(V$9:V40))","v":0},0]
["2024-02-03",1,null,7,34,null,null,null,null,null,null,null,null,null,null,null,null,0,0,0,0,0,0,0,0,0,0,0,0,0,0,0,0,0,0,0,0,0,0,0,0,0,0,0.33333333333333331,0,1.6666666666666667,0,0,0,{"$f":"IF(A42=\"-\",0,SUM(AQ$9:AQ42))","v":0},{"$f":"IF(A42=\"-\",0,SUM(T$9:T42)+SUM(U$9:U42))","v":0},{"$f":"IF(ISTEXT(V41),0,SUM(V$9:V41))","v":0},0]
["2024-02-04",null,null,1,35,null,null,null,null,null,null,null,null,null,null,null,null,0,0,0,0,0,0,0,0,0,0,0,0,0,0,0,0,0,0,0,0,0,0,0,0,0,0,0.33333333333333331,0,1.6666666666666667,0,0,0,{"$f":"IF(A43=\"-\",0,SUM(AQ$9:AQ43))","v":0},{"$f":"IF(A43=\"-\",0,SUM(T$9:T43)+SUM(U$9:U43))","v":0},{"$f":"IF(ISTEXT(V42),0,SUM(V$9:V42))","v":0},0]
["2024-02-05",null,null,2,36,null,null,null,null,null,null,null,null,null,null,null,null,0,0,0,0,0,0,0,0,0,0,0,0,0,0,0,0,0,0,0,0,0,0,0,0,0,0,0.33333333333333331,0,1.6666666666666667,0,0,0,{"$f":"IF(A44=\"-\",0,SUM(AQ$9:AQ44))","v":0},{"$f":"IF(A44=\"-\",0,SUM(T$9:T44)+SUM(U$9:U44))","v":0},{"$f":"IF(ISTEXT(V43),0,SUM(V$9:V43))","v":0},0]
["2024-02-06",null,null,3,37,null,null,null,null,null,null,null,null,null,null,null,null,0,0,0,0,0,0,0,0,0,0,0,0,0,0,0,0,0,0,0,0,0,0,0,0,0,0,0.33333333333333331,0,1.6666666666666667,0,0,0,{"$f":"IF(A45=\"-\",0,SUM(AQ$9:AQ45))","v":0},{"$f":"IF(A45=\"-\",0,SUM(T$9:T45)+SUM(U$9:U45))","v":0},{"$f":"IF(ISTEXT(V44),0,SUM(V$9:V44))","v":0},0]
["2024-02-07",null,null,4,38,null,null,null,null,null,null,null,null,null,null,null,null,0,0,0,0,0,0,0,0,0,0,0,0,0,0,0,0,0,0,0,0,0,0,0,0,0,0,0.33333333333333331,0,1.6666666666666667,0,0,0,{"$f":"IF(A46=\"-\",0,SUM(AQ$9:AQ46))","v":0},{"$f":"IF(A46=\"-\",0,SUM(T$9:T46)+SUM(U$9:U46))","v":0},{"$f":"IF(ISTEXT(V45),0,SUM(V$9:V45))","v":0},0]
["2024-02-08",null,null,5,39,null,null,null,null,null,null,null,null,null,null,null,null,0,0,0,0,0,0,0,0,0,0,0,0,0,0,0,0,0,0,0,0,0,0,0,0,0,0,0.33333333333333331,0,1.6666666666666667,0,0,0,{"$f":"IF(A47=\"-\",0,SUM(AQ$9:AQ47))","v":0},{"$f":"IF(A47=\"-\",0,SUM(T$9:T47)+SUM(U$9:U47))","v":0},{"$f":"IF(ISTEXT(V46),0,SUM(V$9:V46))","v":0},0]
["2024-02-09",null,null,6,40,null,null,null,null,null,null,null,null,null,null,null,null,0,0,0,0,0,0,0,0,0,0,0,0,0,0,0,0,0,0,0,0,0,0,0,0,0,0,0.33333333333333331,0,1.6666666666666667,0,0,0,{"$f":"IF(A48=\"-\",0,SUM(AQ$9:AQ48))","v":0},{"$f":"IF(A48=\"-\",0,SUM(T$9:T48)+SUM(U$9:U48))","v":0},{"$f":"IF(ISTEXT(V47),0,SUM(V$9:V47))","v":0},0]
["2024-02-10",1,null,7,41,null,null,null,null,null,null,null,null,null,null,null,null,0,0,0,0,0,0,0,0,0,0,0,0,0,0,0,0,0,0,0,0,0,0,0,0,0,0,0.33333333333333331,0,1.6666666666666667,0,0,0,{"$f":"IF(A49=\"-\",0,SUM(AQ$9:AQ49))","v":0},{"$f":"IF(A49=\"-\",0,SUM(T$9:T49)+SUM(U$9:U49))","v":0},{"$f":"IF(ISTEXT(V48),0,SUM(V$9:V48))","v":0},0]
["2024-02-11",null,null,1,42,null,null,null,null,null,null,null,null,null,null,null,null,0,0,0,0,0,0,0,0,0,0,0,0,0,0,0,0,0,0,0,0,0,0,0,0,0,0,0.33333333333333331,0,1.6666666666666667,0,0,0,{"$f":"IF(A50=\"-\",0,SUM(AQ$9:AQ50))","v":0},{"$f":"IF(A50=\"-\",0,SUM(T$9:T50)+SUM(U$9:U50))","v":0},{"$f":"IF(ISTEXT(V49),0,SUM(V$9:V49))","v":0},0]
["2024-02-12",null,null,2,43,null,null,null,null,null,null,null,null,null,null,null,null,0,0,0,0,0,0,0,0,0,0,0,0,0,0,0,0,0,0,0,0,0,0,0,0,0,0,0.33333333333333331,0,1.6666666666666667,0,0,0,{"$f":"IF(A51=\"-\",0,SUM(AQ$9:AQ51))","v":0},{"$f":"IF(A51=\"-\",0,SUM(T$9:T51)+SUM(U$9:U51))","v":0},{"$f":"IF(ISTEXT(V50),0,SUM(V$9:V50))","v":0},0]
["2024-02-13",null,null,3,44,null,null,null,null,null,null,null,null,null,null,null,null,{"$f":"K52-J52-SUM(L52:P52)","v":0},0,0,0,0,0,0,0,0,0,0,0,0,0,0,0,0,0,0,0,0,0,0,0,0,0,0.33333333333333331,0,1.6666666666666667,0,0,0,{"$f":"IF(A52=\"-\",0,SUM(AQ$9:AQ52))","v":0},{"$f":"IF(A52=\"-\",0,SUM(T$9:T52)+SUM(U$9:U52))","v":0},{"$f":"IF(ISTEXT(V51),0,SUM(V$9:V51))","v":0},0]
["2024-02-14",null,null,4,45,null,null,null,null,null,null,null,null,null,null,null,null,0,0,0,0,0,0,0,0,0,0,0,0,0,0,0,0,0,0,0,0,0,0,0,0,0,0,0.33333333333333331,0,1.6666666666666667,0,0,0,{"$f":"IF(A53=\"-\",0,SUM(AQ$9:AQ53))","v":0},{"$f":"IF(A53=\"-\",0,SUM(T$9:T53)+SUM(U$9:U53))","v":0},{"$f":"IF(ISTEXT(V52),0,SUM(V$9:V52))","v":0},0]
["2024-02-15",null,null,5,46,null,null,null,null,null,null,null,null,null,null,null,null,0,0,0,0,0,0,0,0,0,0,0,0,0,0,0,0,0,0,0,0,0,0,0,0,0,0,0.33333333333333331,0,1.6666666666666667,0,0,0,{"$f":"IF(A54=\"-\",0,SUM(AQ$9:AQ54))","v":0},{"$f":"IF(A54=\"-\",0,SUM(T$9:T54)+SUM(U$9:U54))","v":0},{"$f":"IF(ISTEXT(V53),0,SUM(V$9:V53))","v":0},0]
["2024-02-16",null,null,6,47,null,null,null,null,null,null,null,null,null,null,null,null,0,0,0,0,0,0,0,0,0,0,0,0,0,0,0,0,0,0,0,0,0,0,0,0,0,0,0.33333333333333331,0,1.6666666666666667,0,0,0,{"$f":"IF(A55=\"-\",0,SUM(AQ$9:AQ55))","v":0},{"$f":"IF(A55=\"-\",0,SUM(T$9:T55)+SUM(U$9:U55))","v":0},{"$f":"IF(ISTEXT(V54),0,SUM(V$9:V54))","v":0},0]
["2024-02-17",1,null,7,48,null,null,null,null,null,null,null,null,null,null,null,null,0,0,0,0,0,0,0,0,0,0,0,0,0,0,0,0,0,0,0,0,0,0,0,0,0,0,0.33333333333333331,0,1.6666666666666667,0,0,0,{"$f":"IF(A56=\"-\",0,SUM(AQ$9:AQ56))","v":0},{"$f":"IF(A56=\"-\",0,SUM(T$9:T56)+SUM(U$9:U56))","v":0},{"$f":"IF(ISTEXT(V55),0,SUM(V$9:V55))","v":0},0]
["2024-02-18",null,null,1,49,null,null,null,null,null,null,null,null,null,null,null,null,0,0,0,0,0,0,0,0,0,0,0,0,0,0,0,0,0,0,0,0,0,0,0,0,0,0,0.33333333333333331,0,1.6666666666666667,0,0,0,{"$f":"IF(A57=\"-\",0,SUM(AQ$9:AQ57))","v":0},{"$f":"IF(A57=\"-\",0,SUM(T$9:T57)+SUM(U$9:U57))","v":0},{"$f":"IF(ISTEXT(V56),0,SUM(V$9:V56))","v":0},0]
["2024-02-19",null,null,2,50,null,null,null,null,null,null,null,null,null,null,null,null,0,0,0,0,0,0,0,0,0,0,0,0,0,0,0,0,0,0,0,0,0,0,0,0,0,0,0.33333333333333331,0,1.6666666666666667,0,0,0,{"$f":"IF(A58=\"-\",0,SUM(AQ$9:AQ58))","v":0},{"$f":"IF(A58=\"-\",0,SUM(T$9:T58)+SUM(U$9:U58))","v":0},{"$f":"IF(ISTEXT(V57),0,SUM(V$9:V57))","v":0},0]
["2024-02-20",null,null,3,51,null,null,null,null,null,null,null,null,null,null,null,null,0,0,0,0,0,0,0,0,0,0,0,0,0,0,0,0,0,0,0,0,0,0,0,0,0,0,0.33333333333333331,0,1.6666666666666667,0,0,0,{"$f":"IF(A59=\"-\",0,SUM(AQ$9:AQ59))","v":0},{"$f":"IF(A59=\"-\",0,SUM(T$9:T59)+SUM(U$9:U59))","v":0},{"$f":"IF(ISTEXT(V58),0,SUM(V$9:V58))","v":0},0]
["2024-02-21",null,null,4,52,null,null,null,null,null,null,null,null,null,null,null,null,0,0,0,0,0,0,0,0,0,0,0,0,0,0,0,0,0,0,0,0,0,0,0,0,0,0,0.33333333333333331,0,1.6666666666666667,0,0,0,{"$f":"IF(A60=\"-\",0,SUM(AQ$9:AQ60))","v":0},{"$f":"IF(A60=\"-\",0,SUM(T$9:T60)+SUM(U$9:U60))","v":0},{"$f":"IF(ISTEXT(V59),0,SUM(V$9:V59))","v":0},0]
["2024-02-22",null,null,5,53,null,null,null,null,null,null,null,null,null,null,null,null,0,0,0,0,0,0,0,0,0,0,0,0,0,0,0,0,0,0,0,0,0,0,0,0,0,0,0.33333333333333331,0,1.6666666666666667,0,0,0,{"$f":"IF(A61=\"-\",0,SUM(AQ$9:AQ61))","v":0},{"$f":"IF(A61=\"-\",0,SUM(T$9:T61)+SUM(U$9:U61))","v":0},{"$f":"IF(ISTEXT(V60),0,SUM(V$9:V60))","v":0},0]
["2024-02-23",null,null,6,54,null,null,null,null,null,null,null,null,null,null,null,null,0,0,0,0,0,0,0,0,0,0,0,0,0,0,0,0,0,0,0,0,0,0,0,0,0,0,0.33333333333333331,0,1.6666666666666667,0,0,0,{"$f":"IF(A62=\"-\",0,SUM(AQ$9:AQ62))","v":0},{"$f":"IF(A62=\"-\",0,SUM(T$9:T62)+SUM(U$9:U62))","v":0},{"$f":"IF(ISTEXT(V61),0,SUM(V$9:V61))","v":0},0]
["2024-02-24",1,null,7,55,null,null,null,null,null,null,null,null,null,null,null,null,0,0,0,0,0,0,0,0,0,0,0,0,0,0,0,0,0,0,0,0,0,0,0,0,0,0,0.33333333333333331,0,1.6666666666666667,0,0,0,{"$f":"IF(A63=\"-\",0,SUM(AQ$9:AQ63))","v":0},{"$f":"IF(A63=\"-\",0,SUM(T$9:T63)+SUM(U$9:U63))","v":0},{"$f":"IF(ISTEXT(V62),0,SUM(V$9:V62))","v":0},0]
["2024-02-25",null,null,1,56,null,null,null,null,null,null,null,null,null,null,null,null,0,0,0,0,0,0,0,0,0,0,0,0,0,0,0,0,0,0,0,0,0,0,0,0,0,0,0.33333333333333331,0,1.6666666666666667,0,0,0,{"$f":"IF(A64=\"-\",0,SUM(AQ$9:AQ64))","v":0},{"$f":"IF(A64=\"-\",0,SUM(T$9:T64)+SUM(U$9:U64))","v":0},{"$f":"IF(ISTEXT(V63),0,SUM(V$9:V63))","v":0},0]
["2024-02-26",null,null,2,57,null,null,null,null,null,null,null,null,null,null,null,null,0,0,0,0,0,0,0,0,0,0,0,0,0,0,0,0,0,0,0,0,0,0,0,0,0,0,0.33333333333333331,0,1.6666666666666667,0,0,0,{"$f":"IF(A65=\"-\",0,SUM(AQ$9:AQ65))","v":0},{"$f":"IF(A65=\"-\",0,SUM(T$9:T65)+SUM(U$9:U65))","v":0},{"$f":"IF(ISTEXT(V64),0,SUM(V$9:V64))","v":0},0]
["2024-02-27",null,null,3,58,null,null,null,null,null,null,null,null,null,null,null,null,0,0,0,0,0,0,0,0,0,0,0,0,0,0,0,0,0,0,0,0,0,0,0,0,0,0,0.33333333333333331,0,1.6666666666666667,0,0,0,{"$f":"IF(A66=\"-\",0,SUM(AQ$9:AQ66))","v":0},{"$f":"IF(A66=\"-\",0,SUM(T$9:T66)+SUM(U$9:U66))","v":0},{"$f":"IF(ISTEXT(V65),0,SUM(V$9:V65))","v":0},0]
["2024-02-28",null,null,4,59,null,null,null,null,null,null,null,null,null,null,null,null,0,0,0,0,0,0,0,0,0,0,0,0,0,0,0,0,0,0,0,0,0,0,0,0,0,0,0.33333333333333331,0,1.6666666666666667,0,0,0,{"$f":"IF(A67=\"-\",0,SUM(AQ$9:AQ67))","v":0},{"$f":"IF(A67=\"-\",0,SUM(T$9:T67)+SUM(U$9:U67))","v":0},{"$f":"IF(ISTEXT(V66),0,SUM(V$9:V66))","v":0},0]
["2024-02-29",null,2,5,60,null,null,null,null,null,null,null,null,null,null,null,null,0,0,0,0,0,0,0,0,0,0,0,0,0,0,0,0,0,0,0,0,0,0,0,0,0,0,0.33333333333333331,0,1.6666666666666667,0,0,0,{"$f":"IF(A68=\"-\",0,SUM(AQ$9:AQ68))","v":0},{"$f":"IF(A68=\"-\",0,SUM(T$9:T68)+SUM(U$9:U68))","v":0},{"$f":"IF(ISTEXT(V67),0,SUM(V$9:V67))","v":0},0]
["2024-03-01",null,null,6,61,null,null,null,null,null,null,null,null,null,null,null,null,0,0,0,0,0,0,0,0,0,0,0,0,0,0,0,0,0,0,0,0,0,0,0,0,0,0,0.33333333333333331,0,1.6666666666666667,0,0,0,{"$f":"IF(A69=\"-\",0,SUM(AQ$9:AQ69))","v":0},{"$f":"IF(A69=\"-\",0,SUM(T$9:T69)+SUM(U$9:U69))","v":0},{"$f":"IF(ISTEXT(V68),0,SUM(V$9:V68))","v":0},0]
["2024-03-02",1,null,7,62,null,null,null,null,null,null,null,null,null,null,null,null,0,0,0,0,0,0,0,0,0,0,0,0,0,0,0,0,0,0,0,0,0,0,0,0,0,0,0.33333333333333331,0,1.6666666666666667,0,0,0,{"$f":"IF(A70=\"-\",0,SUM(AQ$9:AQ70))","v":0},{"$f":"IF(A70=\"-\",0,SUM(T$9:T70)+SUM(U$9:U70))","v":0},{"$f":"IF(ISTEXT(V69),0,SUM(V$9:V69))","v":0},0]
["2024-03-03",null,null,1,63,null,null,null,null,null,null,null,null,null,null,null,null,0,0,0,0,0,0,0,0,0,0,0,0,0,0,0,0,0,0,0,0,0,0,0,0,0,0,0.33333333333333331,0,1.6666666666666667,0,0,0,{"$f":"IF(A71=\"-\",0,SUM(AQ$9:AQ71))","v":0},{"$f":"IF(A71=\"-\",0,SUM(T$9:T71)+SUM(U$9:U71))","v":0},{"$f":"IF(ISTEXT(V70),0,SUM(V$9:V70))","v":0},0]
["2024-03-04",null,null,2,64,null,null,null,null,null,null,null,null,null,null,null,null,0,0,0,0,0,0,0,0,0,0,0,0,0,0,0,0,0,0,0,0,0,0,0,0,0,0,0.33333333333333331,0,1.6666666666666667,0,0,0,{"$f":"IF(A72=\"-\",0,SUM(AQ$9:AQ72))","v":0},{"$f":"IF(A72=\"-\",0,SUM(T$9:T72)+SUM(U$9:U72))","v":0},{"$f":"IF(ISTEXT(V71),0,SUM(V$9:V71))","v":0},0]
["2024-03-05",null,null,3,65,null,null,null,null,null,null,null,null,null,null,null,null,0,{"$f":"IF(AND(F73=\"法定\",H73<>\"振出\"),SUM(AL73:AN73),0)+IF(F74=\"法定\",AO73+AP73,0)","v":0},0,0,0,0,{"$f":"_xlfn.IFS(AND(F73=\"所定\",H73<>\"振出\"),0,BA73>60/24,W73-MIN(W73,BA73-60/24),TRUE,W73)","v":0},{"$f":"_xlfn.IFS(OR(F73<>\"所定\",H73=\"振出\"),0,BA73>60/24,W73-MIN(W73,BA73-60/24),TRUE,W73)","v":0},{"$f":"IF(AND(F73=\"所定\",H73<>\"振出\"),0,W73-X73)","v":0},{"$f":"IF(OR(F73<>\"所定\",H73=\"振出\"),0,W73-Y73)","v":0},0,{"$f":"IF(G73=\"\",0,MIN(AG73,G73-Q73))","v":0},{"$f":"IF(H73=\"振出\",MIN(AG73,I73-Q73),0)","v":0},0,{"$f":"_xlfn.LET(_xlpm.値,IF(AND(F73=\"所定\",H73<>\"振出\"),MAX(0,AG73-AC73),0),IF(_xlpm.値<TIME(0,0,1),0,_xlpm.値))","v":0},0,{"$f":"_xlfn.IFS(H73=\"振休\",0,R73<G73,MAX(0,G73-R73-Q73),TRUE,0)","v":0},{"$f":"IF(H73=\"振休\",MAX(0,G73-AG73-Q73),0)","v":0},{"$f":"_xlfn.LET(_xlpm.値,IF(G73=\"\",0,G73-Q73-AC73-AH73-AI73),IF(_xlpm.値<TIME(0,0,1),0,_xlpm.値))","v":0},{"$f":"_xlfn.LET(_xlpm.値,MAX(0,G73-Q73-R73)+AJ73,IF(_xlpm.値<TIME(0,0,1),0,_xlpm.値))","v":0},{"$f":"IF(J73=\"\",0,MAX(0,MIN(5/24,K73)-MAX(0,J73)-L73))","v":0},{"$f":"IF(J73=\"\",0,MAX(0,MIN(22/24,K73)-MAX(5/24,J73)-M73))","v":0},{"$f":"IF(J73=\"\",0,MAX(0,MIN(24/24,K73)-MAX(22/24,J73)-N73))","v":0},{"$f":"IF(J73=\"\",0,MAX(0,MIN(29/24,K73)-MAX(24/24,J73)-O73))","v":0},{"$f":"IF(J73=\"\",0,MAX(0,MIN(48/24,K73)-MAX(29/24,J73)-P73))","v":0},{"$f":"R73-S73","v":0},{"$f":"_xlfn.IFS(A73=\"-\",0,H73=\"振出\",IF($N$2=\"原則\",8/24,MAX(I73,8/24)),F73=\"法定\",0,TRUE,IF($N$2=\"原則\",8/24,MAX(G73,8/24)))","v":0.33333333333333331},{"$f":"_xlfn.IFS(A73=\"-\",0,B73=\"\",AS74,TRUE,SUM(OFFSET(G73,D73*-1+1,0,D73,1)))","v":0},{"$f":"_xlfn.IFS(A73=\"-\",0,B73=\"\",AT74,$N$2=\"原則\",$H$4/24,TRUE,MAX(AS73,$H$4/24*D73/7))","v":1.6666666666666667},{"$f":"IF(A73=\"-\",0,SUM(OFFSET(AQ73,D73*-1+1,0,D73,1)))","v":0},{"$f":"IF(A73=\"-\",0,SUM(OFFSET(T73,$D73*-1+1,0,D73,1)))","v":0},{"$f":"IF(OR($D73=1,A73=\"-\"),0,SUM(OFFSET(U73,D73*-1+1,0,D73-1,1)))","v":0},{"$f":"IF(A73=\"-\",0,SUM(AQ$9:AQ73))","v":0},{"$f":"IF(A73=\"-\",0,SUM(T$9:T73)+SUM(U$9:U73))","v":0},{"$f":"IF(ISTEXT(V72),0,SUM(V$9:V72))","v":0},{"$f":"IF(C72<>\"\",W73,BA72+W73)","v":0}]
["2024-03-06",null,null,4,66,null,null,null,null,null,null,null,null,null,null,null,null,0,0,{"$f":"_xlfn.LET(_xlpm.値,MAX(0,AQ74-IF(AR74=0,8/24,AR74)),IF(_xlpm.値<TIME(0,0,1),0,_xlpm.値))","v":0},{"$f":"_xlfn.LET(_xlpm.値,IF($A74=\"-\",0,MAX(0,AU74-AV74-AW74-AT74)),IF(_xlpm.値<TIME(0,0,1),0,_xlpm.値))","v":0},{"$f":"MAX(0,AX74-AY74-AZ74-$N$4)","v":0},{"$f":"SUM(T74,U74,V74)","v":0},0,0,0,0,{"$f":"SUM(AL74,AN74:AO74)","v":0},0,0,{"$f":"_xlfn.LET(_xlpm.値,AG74-AF74-AC74-AD74,IF(_xlpm.値<TIME(0,0,1),0,_xlpm.値))","v":0},0,{"$f":"_xlfn.LET(_xlpm.値,MAX(0,AQ74-W74),IF(_xlpm.値<TIME(0,0,1),0,_xlpm.値))","v":0},0,0,0,0,0,0,0,0,0,0,0.33333333333333331,0,1.6666666666666667,0,0,0,{"$f":"IF(A74=\"-\",0,SUM(AQ$9:AQ74))","v":0},{"$f":"IF(A74=\"-\",0,SUM(T$9:T74)+SUM(U$9:U74))","v":0},{"$f":"IF(ISTEXT(V73),0,SUM(V$9:V73))","v":0},0]
["2024-03-07",null,null,5,67,null,null,null,null,null,null,null,null,null,null,null,null,0,0,0,0,0,0,0,0,0,0,0,0,0,0,0,0,0,0,0,0,0,0,0,0,0,0,0.33333333333333331,0,1.6666666666666667,0,0,0,{"$f":"IF(A75=\"-\",0,SUM(AQ$9:AQ75))","v":0},{"$f":"IF(A75=\"-\",0,SUM(T$9:T75)+SUM(U$9:U75))","v":0},{"$f":"IF(ISTEXT(V74),0,SUM(V$9:V74))","v":0},0]
["2024-03-08",null,null,6,68,null,null,null,null,null,null,null,null,null,null,null,null,0,0,0,0,0,0,0,0,0,0,0,0,0,0,0,0,0,0,0,0,0,0,0,0,0,0,0.33333333333333331,0,1.6666666666666667,0,0,0,{"$f":"IF(A76=\"-\",0,SUM(AQ$9:AQ76))","v":0},{"$f":"IF(A76=\"-\",0,SUM(T$9:T76)+SUM(U$9:U76))","v":0},{"$f":"IF(ISTEXT(V75),0,SUM(V$9:V75))","v":0},0]
["2024-03-09",1,null,7,69,null,null,null,null,null,null,null,null,null,null,null,null,0,0,0,0,0,0,0,0,0,0,0,0,0,0,0,0,0,0,0,0,0,0,0,0,0,0,0.33333333333333331,0,1.6666666666666667,0,0,0,{"$f":"IF(A77=\"-\",0,SUM(AQ$9:AQ77))","v":0},{"$f":"IF(A77=\"-\",0,SUM(T$9:T77)+SUM(U$9:U77))","v":0},{"$f":"IF(ISTEXT(V76),0,SUM(V$9:V76))","v":0},0]
["2024-03-10",null,null,1,70,null,null,null,null,null,null,null,null,null,null,null,null,{"$f":"K78-J78-SUM(L78:P78)","v":0},0,0,0,0,0,0,0,0,0,0,0,0,0,0,0,0,0,0,0,0,0,0,0,0,0,0.33333333333333331,0,1.6666666666666667,0,0,0,{"$f":"IF(A78=\"-\",0,SUM(AQ$9:AQ78))","v":0},{"$f":"IF(A78=\"-\",0,SUM(T$9:T78)+SUM(U$9:U78))","v":0},{"$f":"IF(ISTEXT(V77),0,SUM(V$9:V77))","v":0},0]
["2024-03-11",null,null,2,71,null,null,null,null,null,null,null,null,null,null,null,null,0,0,0,0,0,0,0,0,0,0,0,0,0,0,0,0,0,0,0,0,0,0,0,0,0,0,0.33333333333333331,0,1.6666666666666667,0,0,0,{"$f":"IF(A79=\"-\",0,SUM(AQ$9:AQ79))","v":0},{"$f":"IF(A79=\"-\",0,SUM(T$9:T79)+SUM(U$9:U79))","v":0},{"$f":"IF(ISTEXT(V78),0,SUM(V$9:V78))","v":0},0]
["2024-03-12",null,null,3,72,null,null,null,null,null,null,null,null,null,null,null,null,0,0,0,0,0,0,0,0,0,0,0,0,0,0,0,0,0,0,0,0,0,0,0,0,0,0,0.33333333333333331,0,1.6666666666666667,0,0,0,{"$f":"IF(A80=\"-\",0,SUM(AQ$9:AQ80))","v":0},{"$f":"IF(A80=\"-\",0,SUM(T$9:T80)+SUM(U$9:U80))","v":0},{"$f":"IF(ISTEXT(V79),0,SUM(V$9:V79))","v":0},0]
["2024-03-13",null,null,4,73,null,null,null,null,null,null,null,null,null,null,null,null,0,0,0,0,0,0,0,0,0,0,0,0,0,0,0,0,0,0,0,0,0,0,0,0,0,0,0.33333333333333331,0,1.6666666666666667,0,0,0,{"$f":"IF(A81=\"-\",0,SUM(AQ$9:AQ81))","v":0},{"$f":"IF(A81=\"-\",0,SUM(T$9:T81)+SUM(U$9:U81))","v":0},{"$f":"IF(ISTEXT(V80),0,SUM(V$9:V80))","v":0},0]
["2024-03-14",null,null,5,74,null,null,null,null,null,null,null,null,null,null,null,null,0,0,0,0,0,0,0,0,0,0,0,0,0,0,0,0,0,0,0,0,0,0,0,0,0,0,0.33333333333333331,0,1.6666666666666667,0,0,0,{"$f":"IF(A82=\"-\",0,SUM(AQ$9:AQ82))","v":0},{"$f":"IF(A82=\"-\",0,SUM(T$9:T82)+SUM(U$9:U82))","v":0},{"$f":"IF(ISTEXT(V81),0,SUM(V$9:V81))","v":0},0]
["2024-03-15",null,null,6,75,null,null,null,null,null,null,null,null,null,null,null,null,0,0,0,0,0,0,0,0,0,0,0,0,0,0,0,0,0,0,0,0,0,0,0,0,0,0,0.33333333333333331,0,1.6666666666666667,0,0,0,{"$f":"IF(A83=\"-\",0,SUM(AQ$9:AQ83))","v":0},{"$f":"IF(A83=\"-\",0,SUM(T$9:T83)+SUM(U$9:U83))","v":0},{"$f":"IF(ISTEXT(V82),0,SUM(V$9:V82))","v":0},0]
["2024-03-16",1,null,7,76,null,null,null,null,null,null,null,null,null,null,null,null,0,0,0,0,0,0,0,0,0,0,0,0,0,0,0,0,0,0,0,0,0,0,0,0,0,0,0.33333333333333331,0,1.6666666666666667,0,0,0,{"$f":"IF(A84=\"-\",0,SUM(AQ$9:AQ84))","v":0},{"$f":"IF(A84=\"-\",0,SUM(T$9:T84)+SUM(U$9:U84))","v":0},{"$f":"IF(ISTEXT(V83),0,SUM(V$9:V83))","v":0},0]
["2024-03-17",null,null,1,77,null,null,null,null,null,null,null,null,null,null,null,null,0,0,0,0,0,0,0,0,0,0,0,0,0,0,0,0,0,0,0,0,0,0,0,0,0,0,0.33333333333333331,0,1.6666666666666667,0,0,0,{"$f":"IF(A85=\"-\",0,SUM(AQ$9:AQ85))","v":0},{"$f":"IF(A85=\"-\",0,SUM(T$9:T85)+SUM(U$9:U85))","v":0},{"$f":"IF(ISTEXT(V84),0,SUM(V$9:V84))","v":0},0]
["2024-03-18",null,null,2,78,null,null,null,null,null,null,null,null,null,null,null,null,0,0,0,0,0,0,0,0,0,0,0,0,0,0,0,0,0,0,0,0,0,0,0,0,0,0,0.33333333333333331,0,1.6666666666666667,0,0,0,{"$f":"IF(A86=\"-\",0,SUM(AQ$9:AQ86))","v":0},{"$f":"IF(A86=\"-\",0,SUM(T$9:T86)+SUM(U$9:U86))","v":0},{"$f":"IF(ISTEXT(V85),0,SUM(V$9:V85))","v":0},0]
["2024-03-19",null,null,3,79,null,null,null,null,null,null,null,null,null,null,null,null,0,0,0,0,0,0,0,0,0,0,0,0,0,0,0,0,0,0,0,0,0,0,0,0,0,0,0.33333333333333331,0,1.6666666666666667,0,0,0,{"$f":"IF(A87=\"-\",0,SUM(AQ$9:AQ87))","v":0},{"$f":"IF(A87=\"-\",0,SUM(T$9:T87)+SUM(U$9:U87))","v":0},{"$f":"IF(ISTEXT(V86),0,SUM(V$9:V86))","v":0},0]
["2024-03-20",null,null,4,80,null,null,null,null,null,null,null,null,null,null,null,null,0,0,0,0,0,0,0,0,0,0,0,0,0,0,0,0,0,0,0,0,0,0,0,0,0,0,0.33333333333333331,0,1.6666666666666667,0,0,0,{"$f":"IF(A88=\"-\",0,SUM(AQ$9:AQ88))","v":0},{"$f":"IF(A88=\"-\",0,SUM(T$9:T88)+SUM(U$9:U88))","v":0},{"$f":"IF(ISTEXT(V87),0,SUM(V$9:V87))","v":0},0]
["2024-03-21",null,null,5,81,null,null,null,null,null,null,null,null,null,null,null,null,0,0,0,0,0,0,0,0,0,0,0,0,0,0,0,0,0,0,0,0,0,0,0,0,0,0,0.33333333333333331,0,1.6666666666666667,0,0,0,{"$f":"IF(A89=\"-\",0,SUM(AQ$9:AQ89))","v":0},{"$f":"IF(A89=\"-\",0,SUM(T$9:T89)+SUM(U$9:U89))","v":0},{"$f":"IF(ISTEXT(V88),0,SUM(V$9:V88))","v":0},0]
["2024-03-22",null,null,6,82,null,null,null,null,null,null,null,null,null,null,null,null,0,0,0,0,0,0,0,0,0,0,0,0,0,0,0,0,0,0,0,0,0,0,0,0,0,0,0.33333333333333331,0,1.6666666666666667,0,0,0,{"$f":"IF(A90=\"-\",0,SUM(AQ$9:AQ90))","v":0},{"$f":"IF(A90=\"-\",0,SUM(T$9:T90)+SUM(U$9:U90))","v":0},{"$f":"IF(ISTEXT(V89),0,SUM(V$9:V89))","v":0},0]
["2024-03-23",1,null,7,83,null,null,null,null,null,null,null,null,null,null,null,null,0,0,0,0,0,0,0,0,0,0,0,0,0,0,0,0,0,0,0,0,0,0,0,0,0,0,0.33333333333333331,0,1.6666666666666667,0,0,0,{"$f":"IF(A91=\"-\",0,SUM(AQ$9:AQ91))","v":0},{"$f":"IF(A91=\"-\",0,SUM(T$9:T91)+SUM(U$9:U91))","v":0},{"$f":"IF(ISTEXT(V90),0,SUM(V$9:V90))","v":0},0]
["2024-03-24",null,null,1,84,null,null,null,null,null,null,null,null,null,null,null,null,0,0,0,0,0,0,0,0,0,0,0,0,0,0,0,0,0,0,0,0,0,0,0,0,0,0,0.33333333333333331,0,1.6666666666666667,0,0,0,{"$f":"IF(A92=\"-\",0,SUM(AQ$9:AQ92))","v":0},{"$f":"IF(A92=\"-\",0,SUM(T$9:T92)+SUM(U$9:U92))","v":0},{"$f":"IF(ISTEXT(V91),0,SUM(V$9:V91))","v":0},0]
["2024-03-25",null,null,2,85,null,null,null,null,null,null,null,null,null,null,null,null,0,0,0,0,0,0,0,0,0,0,0,0,0,0,0,0,0,0,0,0,0,0,0,0,0,0,0.33333333333333331,0,1.6666666666666667,0,0,0,{"$f":"IF(A93=\"-\",0,SUM(AQ$9:AQ93))","v":0},{"$f":"IF(A93=\"-\",0,SUM(T$9:T93)+SUM(U$9:U93))","v":0},{"$f":"IF(ISTEXT(V92),0,SUM(V$9:V92))","v":0},0]
["2024-03-26",null,null,3,86,null,null,null,null,null,null,null,null,null,null,null,null,0,0,0,0,0,0,0,0,0,0,0,0,0,0,0,0,0,0,0,0,0,0,0,0,0,0,0.33333333333333331,0,1.6666666666666667,0,0,0,{"$f":"IF(A94=\"-\",0,SUM(AQ$9:AQ94))","v":0},{"$f":"IF(A94=\"-\",0,SUM(T$9:T94)+SUM(U$9:U94))","v":0},{"$f":"IF(ISTEXT(V93),0,SUM(V$9:V93))","v":0},0]
["2024-03-27",null,null,4,87,null,null,null,null,null,null,null,null,null,null,null,null,0,0,0,0,0,0,0,0,0,0,0,0,0,0,0,0,0,0,0,0,0,0,0,0,0,0,0.33333333333333331,0,1.6666666666666667,0,0,0,{"$f":"IF(A95=\"-\",0,SUM(AQ$9:AQ95))","v":0},{"$f":"IF(A95=\"-\",0,SUM(T$9:T95)+SUM(U$9:U95))","v":0},{"$f":"IF(ISTEXT(V94),0,SUM(V$9:V94))","v":0},0]
["2024-03-28",null,null,5,88,null,null,null,null,null,null,null,null,null,null,null,null,0,0,0,0,0,0,0,0,0,0,0,0,0,0,0,0,0,0,0,0,0,0,0,0,0,0,0.33333333333333331,0,1.6666666666666667,0,0,0,{"$f":"IF(A96=\"-\",0,SUM(AQ$9:AQ96))","v":0},{"$f":"IF(A96=\"-\",0,SUM(T$9:T96)+SUM(U$9:U96))","v":0},{"$f":"IF(ISTEXT(V95),0,SUM(V$9:V95))","v":0},0]
["2024-03-29",null,null,6,89,null,null,null,null,null,null,null,null,null,null,null,null,0,0,0,0,0,0,0,0,0,0,0,0,0,0,0,0,0,0,0,0,0,0,0,0,0,0,0.33333333333333331,0,1.6666666666666667,0,0,0,{"$f":"IF(A97=\"-\",0,SUM(AQ$9:AQ97))","v":0},{"$f":"IF(A97=\"-\",0,SUM(T$9:T97)+SUM(U$9:U97))","v":0},{"$f":"IF(ISTEXT(V96),0,SUM(V$9:V96))","v":0},0]
["2024-03-30",1,null,7,90,null,null,null,null,null,null,null,null,null,null,null,null,0,0,0,0,0,0,0,0,0,0,0,0,0,0,0,0,0,0,0,0,0,0,0,0,0,0,0.33333333333333331,0,1.6666666666666667,0,0,0,{"$f":"IF(A98=\"-\",0,SUM(AQ$9:AQ98))","v":0},{"$f":"IF(A98=\"-\",0,SUM(T$9:T98)+SUM(U$9:U98))","v":0},{"$f":"IF(ISTEXT(V97),0,SUM(V$9:V97))","v":0},0]
["2024-03-31",null,3,1,91,null,null,null,null,null,null,null,null,null,null,null,null,0,0,0,0,0,0,0,0,0,0,0,0,0,0,0,0,0,0,0,0,0,0,0,0,0,0,0.33333333333333331,0,1.6666666666666667,0,0,0,{"$f":"IF(A99=\"-\",0,SUM(AQ$9:AQ99))","v":0},{"$f":"IF(A99=\"-\",0,SUM(T$9:T99)+SUM(U$9:U99))","v":0},{"$f":"IF(ISTEXT(V98),0,SUM(V$9:V98))","v":0},0]
["2024-04-01",null,null,2,92,null,null,null,null,null,null,null,null,null,null,null,null,0,0,0,0,0,0,0,0,0,0,0,0,0,0,0,0,0,0,0,0,0,0,0,0,0,0,0.33333333333333331,0,1.6666666666666667,0,0,0,{"$f":"IF(A100=\"-\",0,SUM(AQ$9:AQ100))","v":0},{"$f":"IF(A100=\"-\",0,SUM(T$9:T100)+SUM(U$9:U100))","v":0},{"$f":"IF(ISTEXT(V99),0,SUM(V$9:V99))","v":0},0]
["2024-04-02",null,null,3,93,null,null,null,null,null,null,null,null,null,null,null,null,0,0,0,0,0,0,0,0,0,0,0,0,0,0,0,0,0,0,0,0,0,0,0,0,0,0,0.33333333333333331,0,1.6666666666666667,0,0,0,{"$f":"IF(A101=\"-\",0,SUM(AQ$9:AQ101))","v":0},{"$f":"IF(A101=\"-\",0,SUM(T$9:T101)+SUM(U$9:U101))","v":0},{"$f":"IF(ISTEXT(V100),0,SUM(V$9:V100))","v":0},0]
["2024-04-03",null,null,4,94,null,null,null,null,null,null,null,null,null,null,null,null,0,0,0,0,0,0,0,0,0,0,0,0,0,0,0,0,0,0,0,0,0,0,0,0,0,0,0.33333333333333331,0,1.6666666666666667,0,0,0,{"$f":"IF(A102=\"-\",0,SUM(AQ$9:AQ102))","v":0},{"$f":"IF(A102=\"-\",0,SUM(T$9:T102)+SUM(U$9:U102))","v":0},{"$f":"IF(ISTEXT(V101),0,SUM(V$9:V101))","v":0},0]
["2024-04-04",null,null,5,95,null,null,null,null,null,null,null,null,null,null,null,null,0,0,0,0,0,0,0,0,0,0,0,0,0,0,0,0,0,0,0,0,0,0,0,0,0,0,0.33333333333333331,0,1.6666666666666667,0,0,0,{"$f":"IF(A103=\"-\",0,SUM(AQ$9:AQ103))","v":0},{"$f":"IF(A103=\"-\",0,SUM(T$9:T103)+SUM(U$9:U103))","v":0},{"$f":"IF(ISTEXT(V102),0,SUM(V$9:V102))","v":0},0]
["2024-04-05",null,null,6,96,null,null,null,null,null,null,null,null,null,null,null,null,0,0,0,0,0,0,0,0,0,0,0,0,0,0,0,0,0,0,0,0,0,0,0,0,0,0,0.33333333333333331,0,1.6666666666666667,0,0,0,{"$f":"IF(A104=\"-\",0,SUM(AQ$9:AQ104))","v":0},{"$f":"IF(A104=\"-\",0,SUM(T$9:T104)+SUM(U$9:U104))","v":0},{"$f":"IF(ISTEXT(V103),0,SUM(V$9:V103))","v":0},0]
["2024-04-06",1,null,7,97,null,null,null,null,null,null,null,null,null,null,null,null,0,0,0,0,0,0,0,0,0,0,0,0,0,0,0,0,0,0,0,0,0,0,0,0,0,0,0.33333333333333331,0,1.6666666666666667,0,0,0,{"$f":"IF(A105=\"-\",0,SUM(AQ$9:AQ105))","v":0},{"$f":"IF(A105=\"-\",0,SUM(T$9:T105)+SUM(U$9:U105))","v":0},{"$f":"IF(ISTEXT(V104),0,SUM(V$9:V104))","v":0},0]
["2024-04-07",null,null,1,98,null,null,null,null,null,null,null,null,null,null,null,null,0,0,0,0,0,0,0,0,0,0,0,0,0,0,0,0,0,0,0,0,0,0,0,0,0,0,0.33333333333333331,0,1.6666666666666667,0,0,0,{"$f":"IF(A106=\"-\",0,SUM(AQ$9:AQ106))","v":0},{"$f":"IF(A106=\"-\",0,SUM(T$9:T106)+SUM(U$9:U106))","v":0},{"$f":"IF(ISTEXT(V105),0,SUM(V$9:V105))","v":0},0]
["2024-04-08",null,null,2,99,null,null,null,null,null,null,null,null,null,null,null,null,0,0,0,0,0,0,0,0,0,0,0,0,0,0,0,0,0,0,0,0,0,0,0,0,0,0,0.33333333333333331,0,1.6666666666666667,0,0,0,{"$f":"IF(A107=\"-\",0,SUM(AQ$9:AQ107))","v":0},{"$f":"IF(A107=\"-\",0,SUM(T$9:T107)+SUM(U$9:U107))","v":0},{"$f":"IF(ISTEXT(V106),0,SUM(V$9:V106))","v":0},0]
["2024-04-09",null,null,3,100,null,null,null,null,null,null,null,null,null,null,null,null,0,0,0,0,0,0,0,0,0,0,0,0,0,0,0,0,0,0,0,0,0,0,0,0,0,0,0.33333333333333331,0,1.6666666666666667,0,0,0,{"$f":"IF(A108=\"-\",0,SUM(AQ$9:AQ108))","v":0},{"$f":"IF(A108=\"-\",0,SUM(T$9:T108)+SUM(U$9:U108))","v":0},{"$f":"IF(ISTEXT(V107),0,SUM(V$9:V107))","v":0},0]
["2024-04-10",null,null,4,101,null,null,null,null,null,null,null,null,null,null,null,null,0,0,0,0,0,0,0,0,0,0,0,0,0,0,0,0,0,0,0,0,0,0,0,0,0,0,0.33333333333333331,0,1.6666666666666667,0,0,0,{"$f":"IF(A109=\"-\",0,SUM(AQ$9:AQ109))","v":0},{"$f":"IF(A109=\"-\",0,SUM(T$9:T109)+SUM(U$9:U109))","v":0},{"$f":"IF(ISTEXT(V108),0,SUM(V$9:V108))","v":0},0]
["2024-04-11",null,null,5,102,null,null,null,null,null,null,null,null,null,null,null,null,0,0,0,0,0,0,0,0,0,0,0,0,0,0,0,0,0,0,0,0,0,0,0,0,0,0,0.33333333333333331,0,1.6666666666666667,0,0,0,{"$f":"IF(A110=\"-\",0,SUM(AQ$9:AQ110))","v":0},{"$f":"IF(A110=\"-\",0,SUM(T$9:T110)+SUM(U$9:U110))","v":0},{"$f":"IF(ISTEXT(V109),0,SUM(V$9:V109))","v":0},0]
["2024-04-12",null,null,6,103,null,null,null,null,null,null,null,null,null,null,null,null,0,0,0,0,0,0,0,0,0,0,0,0,0,0,0,0,0,0,0,0,0,0,0,0,0,0,0.33333333333333331,0,1.6666666666666667,0,0,0,{"$f":"IF(A111=\"-\",0,SUM(AQ$9:AQ111))","v":0},{"$f":"IF(A111=\"-\",0,SUM(T$9:T111)+SUM(U$9:U111))","v":0},{"$f":"IF(ISTEXT(V110),0,SUM(V$9:V110))","v":0},0]
["2024-04-13",1,null,7,104,null,null,null,null,null,null,null,null,null,null,null,null,0,0,0,0,0,0,0,0,0,0,0,0,0,0,0,0,0,0,0,0,0,0,0,0,0,0,0.33333333333333331,0,1.6666666666666667,0,0,0,{"$f":"IF(A112=\"-\",0,SUM(AQ$9:AQ112))","v":0},{"$f":"IF(A112=\"-\",0,SUM(T$9:T112)+SUM(U$9:U112))","v":0},{"$f":"IF(ISTEXT(V111),0,SUM(V$9:V111))","v":0},0]
["2024-04-14",null,null,1,105,null,null,null,null,null,null,null,null,null,null,null,null,0,0,0,0,0,0,0,0,0,0,0,0,0,0,0,0,0,0,0,0,0,0,0,0,0,0,0.33333333333333331,0,1.6666666666666667,0,0,0,{"$f":"IF(A113=\"-\",0,SUM(AQ$9:AQ113))","v":0},{"$f":"IF(A113=\"-\",0,SUM(T$9:T113)+SUM(U$9:U113))","v":0},{"$f":"IF(ISTEXT(V112),0,SUM(V$9:V112))","v":0},0]
["2024-04-15",null,null,2,106,null,null,null,null,null,null,null,null,null,null,null,null,0,0,0,0,0,0,0,0,0,0,0,0,0,0,0,0,0,0,0,0,0,0,0,0,0,0,0.33333333333333331,0,1.6666666666666667,0,0,0,{"$f":"IF(A114=\"-\",0,SUM(AQ$9:AQ114))","v":0},{"$f":"IF(A114=\"-\",0,SUM(T$9:T114)+SUM(U$9:U114))","v":0},{"$f":"IF(ISTEXT(V113),0,SUM(V$9:V113))","v":0},0]
["2024-04-16",null,null,3,107,null,null,null,null,null,null,null,null,null,null,null,null,0,0,0,0,0,0,0,0,0,0,0,0,0,0,0,0,0,0,0,0,0,0,0,0,0,0,0.33333333333333331,0,1.6666666666666667,0,0,0,{"$f":"IF(A115=\"-\",0,SUM(AQ$9:AQ115))","v":0},{"$f":"IF(A115=\"-\",0,SUM(T$9:T115)+SUM(U$9:U115))","v":0},{"$f":"IF(ISTEXT(V114),0,SUM(V$9:V114))","v":0},0]
["2024-04-17",null,null,4,108,null,null,null,null,null,null,null,null,null,null,null,null,0,0,0,0,0,0,0,0,0,0,0,0,0,0,0,0,0,0,0,0,0,0,0,0,0,0,0.33333333333333331,0,1.6666666666666667,0,0,0,{"$f":"IF(A116=\"-\",0,SUM(AQ$9:AQ116))","v":0},{"$f":"IF(A116=\"-\",0,SUM(T$9:T116)+SUM(U$9:U116))","v":0},{"$f":"IF(ISTEXT(V115),0,SUM(V$9:V115))","v":0},0]
["2024-04-18",null,null,5,109,null,null,null,null,null,null,null,null,null,null,null,null,0,0,0,0,0,0,0,0,0,0,0,0,0,0,0,0,0,0,0,0,0,0,0,0,0,0,0.33333333333333331,0,1.6666666666666667,0,0,0,{"$f":"IF(A117=\"-\",0,SUM(AQ$9:AQ117))","v":0},{"$f":"IF(A117=\"-\",0,SUM(T$9:T117)+SUM(U$9:U117))","v":0},{"$f":"IF(ISTEXT(V116),0,SUM(V$9:V116))","v":0},0]
["2024-04-19",null,null,6,110,null,null,null,null,null,null,null,null,null,null,null,null,0,0,0,0,0,0,0,0,0,0,0,0,0,0,0,0,0,0,0,0,0,0,0,0,0,0,0.33333333333333331,0,1.6666666666666667,0,0,0,{"$f":"IF(A118=\"-\",0,SUM(AQ$9:AQ118))","v":0},{"$f":"IF(A118=\"-\",0,SUM(T$9:T118)+SUM(U$9:U118))","v":0},{"$f":"IF(ISTEXT(V117),0,SUM(V$9:V117))","v":0},0]
["2024-04-20",1,null,7,111,null,null,null,null,null,null,null,null,null,null,null,null,0,0,0,0,0,0,0,0,0,0,0,0,0,0,0,0,0,0,0,0,0,0,0,0,0,0,0.33333333333333331,0,1.6666666666666667,0,0,0,{"$f":"IF(A119=\"-\",0,SUM(AQ$9:AQ119))","v":0},{"$f":"IF(A119=\"-\",0,SUM(T$9:T119)+SUM(U$9:U119))","v":0},{"$f":"IF(ISTEXT(V118),0,SUM(V$9:V118))","v":0},0]
["2024-04-21",null,null,1,112,null,null,null,null,null,null,null,null,null,null,null,null,0,0,0,0,0,0,0,0,0,0,0,0,0,0,0,0,0,0,0,0,0,0,0,0,0,0,0.33333333333333331,0,1.6666666666666667,0,0,0,{"$f":"IF(A120=\"-\",0,SUM(AQ$9:AQ120))","v":0},{"$f":"IF(A120=\"-\",0,SUM(T$9:T120)+SUM(U$9:U120))","v":0},{"$f":"IF(ISTEXT(V119),0,SUM(V$9:V119))","v":0},0]
["2024-04-22",null,null,2,113,null,null,null,null,null,null,null,null,null,null,null,null,0,0,0,0,0,0,0,0,0,0,0,0,0,0,0,0,0,0,0,0,0,0,0,0,0,0,0.33333333333333331,0,1.6666666666666667,0,0,0,{"$f":"IF(A121=\"-\",0,SUM(AQ$9:AQ121))","v":0},{"$f":"IF(A121=\"-\",0,SUM(T$9:T121)+SUM(U$9:U121))","v":0},{"$f":"IF(ISTEXT(V120),0,SUM(V$9:V120))","v":0},0]
["2024-04-23",null,null,3,114,null,null,null,null,null,null,null,null,null,null,null,null,0,0,0,0,0,0,0,0,0,0,0,0,0,0,0,0,0,0,0,0,0,0,0,0,0,0,0.33333333333333331,0,1.6666666666666667,0,0,0,{"$f":"IF(A122=\"-\",0,SUM(AQ$9:AQ122))","v":0},{"$f":"IF(A122=\"-\",0,SUM(T$9:T122)+SUM(U$9:U122))","v":0},{"$f":"IF(ISTEXT(V121),0,SUM(V$9:V121))","v":0},0]
["2024-04-24",null,null,4,115,null,null,null,null,null,null,null,null,null,null,null,null,0,0,0,0,0,0,0,0,0,0,0,0,0,0,0,0,0,0,0,0,0,0,0,0,0,0,0.33333333333333331,0,1.6666666666666667,0,0,0,{"$f":"IF(A123=\"-\",0,SUM(AQ$9:AQ123))","v":0},{"$f":"IF(A123=\"-\",0,SUM(T$9:T123)+SUM(U$9:U123))","v":0},{"$f":"IF(ISTEXT(V122),0,SUM(V$9:V122))","v":0},0]
["2024-04-25",null,null,5,116,null,null,null,null,null,null,null,null,null,null,null,null,0,0,0,0,0,0,0,0,0,0,0,0,0,0,0,0,0,0,0,0,0,0,0,0,0,0,0.33333333333333331,0,1.6666666666666667,0,0,0,{"$f":"IF(A124=\"-\",0,SUM(AQ$9:AQ124))","v":0},{"$f":"IF(A124=\"-\",0,SUM(T$9:T124)+SUM(U$9:U124))","v":0},{"$f":"IF(ISTEXT(V123),0,SUM(V$9:V123))","v":0},0]
["2024-04-26",null,null,6,117,null,null,null,null,null,null,null,null,null,null,null,null,0,0,0,0,0,0,0,0,0,0,0,0,0,0,0,0,0,0,0,0,0,0,0,0,0,0,0.33333333333333331,0,1.6666666666666667,0,0,0,{"$f":"IF(A125=\"-\",0,SUM(AQ$9:AQ125))","v":0},{"$f":"IF(A125=\"-\",0,SUM(T$9:T125)+SUM(U$9:U125))","v":0},{"$f":"IF(ISTEXT(V124),0,SUM(V$9:V124))","v":0},0]
["2024-04-27",1,null,7,118,null,null,null,null,null,null,null,null,null,null,null,null,0,0,0,0,0,0,0,0,0,0,0,0,0,0,0,0,0,0,0,0,0,0,0,0,0,0,0.33333333333333331,0,1.6666666666666667,0,0,0,{"$f":"IF(A126=\"-\",0,SUM(AQ$9:AQ126))","v":0},{"$f":"IF(A126=\"-\",0,SUM(T$9:T126)+SUM(U$9:U126))","v":0},{"$f":"IF(ISTEXT(V125),0,SUM(V$9:V125))","v":0},0]
["2024-04-28",null,null,1,119,null,null,null,null,null,null,null,null,null,null,null,null,0,0,0,0,0,0,0,0,0,0,0,0,0,0,0,0,0,0,0,0,0,0,0,0,0,0,0.33333333333333331,0,1.6666666666666667,0,0,0,{"$f":"IF(A127=\"-\",0,SUM(AQ$9:AQ127))","v":0},{"$f":"IF(A127=\"-\",0,SUM(T$9:T127)+SUM(U$9:U127))","v":0},{"$f":"IF(ISTEXT(V126),0,SUM(V$9:V126))","v":0},0]
["2024-04-29",null,null,2,120,null,null,null,null,null,null,null,null,null,null,null,null,0,0,0,0,0,0,0,0,0,0,0,0,0,0,0,0,0,0,0,0,0,0,0,0,0,0,0.33333333333333331,0,1.6666666666666667,0,0,0,{"$f":"IF(A128=\"-\",0,SUM(AQ$9:AQ128))","v":0},{"$f":"IF(A128=\"-\",0,SUM(T$9:T128)+SUM(U$9:U128))","v":0},{"$f":"IF(ISTEXT(V127),0,SUM(V$9:V127))","v":0},0]
["2024-04-30",null,4,3,121,null,null,null,null,null,null,null,null,null,null,null,null,0,0,0,0,0,0,0,0,0,0,0,0,0,0,0,0,0,0,0,0,0,0,0,0,0,0,0.33333333333333331,0,1.6666666666666667,0,0,0,{"$f":"IF(A129=\"-\",0,SUM(AQ$9:AQ129))","v":0},{"$f":"IF(A129=\"-\",0,SUM(T$9:T129)+SUM(U$9:U129))","v":0},{"$f":"IF(ISTEXT(V128),0,SUM(V$9:V128))","v":0},0]
["2024-05-01",null,null,4,122,null,null,null,null,null,null,null,null,null,null,null,null,0,0,0,0,0,0,0,0,0,0,0,0,0,0,0,0,0,0,0,0,0,0,0,0,0,0,0.33333333333333331,0,1.6666666666666667,0,0,0,{"$f":"IF(A130=\"-\",0,SUM(AQ$9:AQ130))","v":0},{"$f":"IF(A130=\"-\",0,SUM(T$9:T130)+SUM(U$9:U130))","v":0},{"$f":"IF(ISTEXT(V129),0,SUM(V$9:V129))","v":0},0]
["2024-05-02",null,null,5,123,null,null,null,null,null,null,null,null,null,null,null,null,0,0,0,0,0,0,0,0,0,0,0,0,0,0,0,0,0,0,0,0,0,0,0,0,0,0,0.33333333333333331,0,1.6666666666666667,0,0,0,{"$f":"IF(A131=\"-\",0,SUM(AQ$9:AQ131))","v":0},{"$f":"IF(A131=\"-\",0,SUM(T$9:T131)+SUM(U$9:U131))","v":0},{"$f":"IF(ISTEXT(V130),0,SUM(V$9:V130))","v":0},0]
["2024-05-03",null,null,6,124,null,null,null,null,null,null,null,null,null,null,null,null,0,0,0,0,0,0,0,0,0,0,0,0,0,0,0,0,0,0,0,0,0,0,0,0,0,0,0.33333333333333331,0,1.6666666666666667,0,0,0,{"$f":"IF(A132=\"-\",0,SUM(AQ$9:AQ132))","v":0},{"$f":"IF(A132=\"-\",0,SUM(T$9:T132)+SUM(U$9:U132))","v":0},{"$f":"IF(ISTEXT(V131),0,SUM(V$9:V131))","v":0},0]
["2024-05-04",1,null,7,125,null,null,null,null,null,null,null,null,null,null,null,null,0,0,0,0,0,0,0,0,0,0,0,0,0,0,0,0,0,0,0,0,0,0,0,0,0,0,0.33333333333333331,0,1.6666666666666667,0,0,0,{"$f":"IF(A133=\"-\",0,SUM(AQ$9:AQ133))","v":0},{"$f":"IF(A133=\"-\",0,SUM(T$9:T133)+SUM(U$9:U133))","v":0},{"$f":"IF(ISTEXT(V132),0,SUM(V$9:V132))","v":0},0]
["2024-05-05",null,null,1,126,null,null,null,null,null,null,null,null,null,null,null,null,0,0,0,0,0,0,0,0,0,0,0,0,0,0,0,0,0,0,0,0,0,0,0,0,0,0,0.33333333333333331,0,1.6666666666666667,0,0,0,{"$f":"IF(A134=\"-\",0,SUM(AQ$9:AQ134))","v":0},{"$f":"IF(A134=\"-\",0,SUM(T$9:T134)+SUM(U$9:U134))","v":0},{"$f":"IF(ISTEXT(V133),0,SUM(V$9:V133))","v":0},0]
["2024-05-06",null,null,2,127,null,null,null,null,null,null,null,null,null,null,null,null,0,0,0,0,0,0,0,0,0,0,0,0,0,0,0,0,0,0,0,0,0,0,0,0,0,0,0.33333333333333331,0,1.6666666666666667,0,0,0,{"$f":"IF(A135=\"-\",0,SUM(AQ$9:AQ135))","v":0},{"$f":"IF(A135=\"-\",0,SUM(T$9:T135)+SUM(U$9:U135))","v":0},{"$f":"IF(ISTEXT(V134),0,SUM(V$9:V134))","v":0},0]
["2024-05-07",null,null,3,128,null,null,null,null,null,null,null,null,null,null,null,null,0,0,0,0,0,0,0,0,0,0,0,0,0,0,0,0,0,0,0,0,0,0,0,0,0,0,0.33333333333333331,0,1.6666666666666667,0,0,0,{"$f":"IF(A136=\"-\",0,SUM(AQ$9:AQ136))","v":0},{"$f":"IF(A136=\"-\",0,SUM(T$9:T136)+SUM(U$9:U136))","v":0},{"$f":"IF(ISTEXT(V135),0,SUM(V$9:V135))","v":0},0]
["2024-05-08",null,null,4,129,null,null,null,null,null,null,null,null,null,null,null,null,0,{"$f":"IF(AND(F137=\"法定\",H137<>\"振出\"),SUM(AL137:AN137),0)+IF(F138=\"法定\",AO137+AP137,0)","v":0},0,0,0,0,{"$f":"_xlfn.IFS(AND(F137=\"所定\",H137<>\"振出\"),0,BA137>60/24,W137-MIN(W137,BA137-60/24),TRUE,W137)","v":0},{"$f":"_xlfn.IFS(OR(F137<>\"所定\",H137=\"振出\"),0,BA137>60/24,W137-MIN(W137,BA137-60/24),TRUE,W137)","v":0},{"$f":"IF(AND(F137=\"所定\",H137<>\"振出\"),0,W137-X137)","v":0},{"$f":"IF(OR(F137<>\"所定\",H137=\"振出\"),0,W137-Y137)","v":0},0,{"$f":"IF(G137=\"\",0,MIN(AG137,G137-Q137))","v":0},{"$f":"IF(H137=\"振出\",MIN(AG137,I137-Q137),0)","v":0},0,{"$f":"_xlfn.LET(_xlpm.値,IF(AND(F137=\"所定\",H137<>\"振出\"),MAX(0,AG137-AC137),0),IF(_xlpm.値<TIME(0,0,1),0,_xlpm.値))","v":0},0,{"$f":"_xlfn.IFS(H137=\"振休\",0,R137<G137,MAX(0,G137-R137-Q137),TRUE,0)","v":0},{"$f":"IF(H137=\"振休\",MAX(0,G137-AG137-Q137),0)","v":0},{"$f":"_xlfn.LET(_xlpm.値,IF(G137=\"\",0,G137-Q137-AC137-AH137-AI137),IF(_xlpm.値<TIME(0,0,1),0,_xlpm.値))","v":0},{"$f":"_xlfn.LET(_xlpm.値,MAX(0,G137-Q137-R137)+AJ137,IF(_xlpm.値<TIME(0,0,1),0,_xlpm.値))","v":0},{"$f":"IF(J137=\"\",0,MAX(0,MIN(5/24,K137)-MAX(0,J137)-L137))","v":0},{"$f":"IF(J137=\"\",0,MAX(0,MIN(22/24,K137)-MAX(5/24,J137)-M137))","v":0},{"$f":"IF(J137=\"\",0,MAX(0,MIN(24/24,K137)-MAX(22/24,J137)-N137))","v":0},{"$f":"IF(J137=\"\",0,MAX(0,MIN(29/24,K137)-MAX(24/24,J137)-O137))","v":0},{"$f":"IF(J137=\"\",0,MAX(0,MIN(48/24,K137)-MAX(29/24,J137)-P137))","v":0},{"$f":"R137-S137","v":0},{"$f":"_xlfn.IFS(A137=\"-\",0,H137=\"振出\",IF($N$2=\"原則\",8/24,MAX(I137,8/24)),F137=\"法定\",0,TRUE,IF($N$2=\"原則\",8/24,MAX(G137,8/24)))","v":0.33333333333333331},{"$f":"_xlfn.IFS(A137=\"-\",0,B137=\"\",AS138,TRUE,SUM(OFFSET(G137,D137*-1+1,0,D137,1)))","v":0},{"$f":"_xlfn.IFS(A137=\"-\",0,B137=\"\",AT138,$N$2=\"原則\",$H$4/24,TRUE,MAX(AS137,$H$4/24*D137/7))","v":1.6666666666666667},{"$f":"IF(A137=\"-\",0,SUM(OFFSET(AQ137,D137*-1+1,0,D137,1)))","v":0},{"$f":"IF(A137=\"-\",0,SUM(OFFSET(T137,$D137*-1+1,0,D137,1)))","v":0},{"$f":"IF(OR($D137=1,A137=\"-\"),0,SUM(OFFSET(U137,D137*-1+1,0,D137-1,1)))","v":0},{"$f":"IF(A137=\"-\",0,SUM(AQ$9:AQ137))","v":0},{"$f":"IF(A137=\"-\",0,SUM(T$9:T137)+SUM(U$9:U137))","v":0},{"$f":"IF(ISTEXT(V136),0,SUM(V$9:V136))","v":0},{"$f":"IF(C136<>\"\",W137,BA136+W137)","v":0}]
["2024-05-09",null,null,5,130,null,null,null,null,null,null,null,null,null,null,null,null,0,0,{"$f":"_xlfn.LET(_xlpm.値,MAX(0,AQ138-IF(AR138=0,8/24,AR138)),IF(_xlpm.値<TIME(0,0,1),0,_xlpm.値))","v":0},{"$f":"_xlfn.LET(_xlpm.値,IF($A138=\"-\",0,MAX(0,AU138-AV138-AW138-AT138)),IF(_xlpm.値<TIME(0,0,1),0,_xlpm.値))","v":0},{"$f":"MAX(0,AX138-AY138-AZ138-$N$4)","v":0},{"$f":"SUM(T138,U138,V138)","v":0},0,0,0,0,{"$f":"SUM(AL138,AN138:AO138)","v":0},0,0,{"$f":"_xlfn.LET(_xlpm.値,AG138-AF138-AC138-AD138,IF(_xlpm.値<TIME(0,0,1),0,_xlpm.値))","v":0},0,{"$f":"_xlfn.LET(_xlpm.値,MAX(0,AQ138-W138),IF(_xlpm.値<TIME(0,0,1),0,_xlpm.値))","v":0},0,0,0,0,0,0,0,0,0,0,0.33333333333333331,0,1.6666666666666667,0,0,0,{"$f":"IF(A138=\"-\",0,SUM(AQ$9:AQ138))","v":0},{"$f":"IF(A138=\"-\",0,SUM(T$9:T138)+SUM(U$9:U138))","v":0},{"$f":"IF(ISTEXT(V137),0,SUM(V$9:V137))","v":0},0]
["2024-05-10",null,null,6,131,null,null,null,null,null,null,null,null,null,null,null,null,0,0,0,0,0,0,0,0,0,0,0,0,0,0,0,0,0,0,0,0,0,0,0,0,0,0,0.33333333333333331,0,1.6666666666666667,0,0,0,{"$f":"IF(A139=\"-\",0,SUM(AQ$9:AQ139))","v":0},{"$f":"IF(A139=\"-\",0,SUM(T$9:T139)+SUM(U$9:U139))","v":0},{"$f":"IF(ISTEXT(V138),0,SUM(V$9:V138))","v":0},0]
["2024-05-11",1,null,7,132,null,null,null,null,null,null,null,null,null,null,null,null,0,0,0,0,0,0,0,0,0,0,0,0,0,0,0,0,0,0,0,0,0,0,0,0,0,0,0.33333333333333331,0,1.6666666666666667,0,0,0,{"$f":"IF(A140=\"-\",0,SUM(AQ$9:AQ140))","v":0},{"$f":"IF(A140=\"-\",0,SUM(T$9:T140)+SUM(U$9:U140))","v":0},{"$f":"IF(ISTEXT(V139),0,SUM(V$9:V139))","v":0},0]
["2024-05-12",null,null,1,133,null,null,null,null,null,null,null,null,null,null,null,null,0,0,0,0,0,0,0,0,0,0,0,0,0,0,0,0,0,0,0,0,0,0,0,0,0,0,0.33333333333333331,0,1.6666666666666667,0,0,0,{"$f":"IF(A141=\"-\",0,SUM(AQ$9:AQ141))","v":0},{"$f":"IF(A141=\"-\",0,SUM(T$9:T141)+SUM(U$9:U141))","v":0},{"$f":"IF(ISTEXT(V140),0,SUM(V$9:V140))","v":0},0]
["2024-05-13",null,null,2,134,null,null,null,null,null,null,null,null,null,null,null,null,{"$f":"K142-J142-SUM(L142:P142)","v":0},0,0,0,0,0,0,0,0,0,0,0,0,0,0,0,0,0,0,0,0,0,0,0,0,0,0.33333333333333331,0,1.6666666666666667,0,0,0,{"$f":"IF(A142=\"-\",0,SUM(AQ$9:AQ142))","v":0},{"$f":"IF(A142=\"-\",0,SUM(T$9:T142)+SUM(U$9:U142))","v":0},{"$f":"IF(ISTEXT(V141),0,SUM(V$9:V141))","v":0},0]
["2024-05-14",null,null,3,135,null,null,null,null,null,null,null,null,null,null,null,null,0,0,0,0,0,0,0,0,0,0,0,0,0,0,0,0,0,0,0,0,0,0,0,0,0,0,0.33333333333333331,0,1.6666666666666667,0,0,0,{"$f":"IF(A143=\"-\",0,SUM(AQ$9:AQ143))","v":0},{"$f":"IF(A143=\"-\",0,SUM(T$9:T143)+SUM(U$9:U143))","v":0},{"$f":"IF(ISTEXT(V142),0,SUM(V$9:V142))","v":0},0]
["2024-05-15",null,null,4,136,null,null,null,null,null,null,null,null,null,null,null,null,0,0,0,0,0,0,0,0,0,0,0,0,0,0,0,0,0,0,0,0,0,0,0,0,0,0,0.33333333333333331,0,1.6666666666666667,0,0,0,{"$f":"IF(A144=\"-\",0,SUM(AQ$9:AQ144))","v":0},{"$f":"IF(A144=\"-\",0,SUM(T$9:T144)+SUM(U$9:U144))","v":0},{"$f":"IF(ISTEXT(V143),0,SUM(V$9:V143))","v":0},0]
["2024-05-16",null,null,5,137,null,null,null,null,null,null,null,null,null,null,null,null,0,0,0,0,0,0,0,0,0,0,0,0,0,0,0,0,0,0,0,0,0,0,0,0,0,0,0.33333333333333331,0,1.6666666666666667,0,0,0,{"$f":"IF(A145=\"-\",0,SUM(AQ$9:AQ145))","v":0},{"$f":"IF(A145=\"-\",0,SUM(T$9:T145)+SUM(U$9:U145))","v":0},{"$f":"IF(ISTEXT(V144),0,SUM(V$9:V144))","v":0},0]
["2024-05-17",null,null,6,138,null,null,null,null,null,null,null,null,null,null,null,null,0,0,0,0,0,0,0,0,0,0,0,0,0,0,0,0,0,0,0,0,0,0,0,0,0,0,0.33333333333333331,0,1.6666666666666667,0,0,0,{"$f":"IF(A146=\"-\",0,SUM(AQ$9:AQ146))","v":0},{"$f":"IF(A146=\"-\",0,SUM(T$9:T146)+SUM(U$9:U146))","v":0},{"$f":"IF(ISTEXT(V145),0,SUM(V$9:V145))","v":0},0]
["2024-05-18",1,null,7,139,null,null,null,null,null,null,null,null,null,null,null,null,0,0,0,0,0,0,0,0,0,0,0,0,0,0,0,0,0,0,0,0,0,0,0,0,0,0,0.33333333333333331,0,1.6666666666666667,0,0,0,{"$f":"IF(A147=\"-\",0,SUM(AQ$9:AQ147))","v":0},{"$f":"IF(A147=\"-\",0,SUM(T$9:T147)+SUM(U$9:U147))","v":0},{"$f":"IF(ISTEXT(V146),0,SUM(V$9:V146))","v":0},0]
["2024-05-19",null,null,1,140,null,null,null,null,null,null,null,null,null,null,null,null,0,0,0,0,0,0,0,0,0,0,0,0,0,0,0,0,0,0,0,0,0,0,0,0,0,0,0.33333333333333331,0,1.6666666666666667,0,0,0,{"$f":"IF(A148=\"-\",0,SUM(AQ$9:AQ148))","v":0},{"$f":"IF(A148=\"-\",0,SUM(T$9:T148)+SUM(U$9:U148))","v":0},{"$f":"IF(ISTEXT(V147),0,SUM(V$9:V147))","v":0},0]
["2024-05-20",null,null,2,141,null,null,null,null,null,null,null,null,null,null,null,null,0,0,0,0,0,0,0,0,0,0,0,0,0,0,0,0,0,0,0,0,0,0,0,0,0,0,0.33333333333333331,0,1.6666666666666667,0,0,0,{"$f":"IF(A149=\"-\",0,SUM(AQ$9:AQ149))","v":0},{"$f":"IF(A149=\"-\",0,SUM(T$9:T149)+SUM(U$9:U149))","v":0},{"$f":"IF(ISTEXT(V148),0,SUM(V$9:V148))","v":0},0]
["2024-05-21",null,null,3,142,null,null,null,null,null,null,null,null,null,null,null,null,0,0,0,0,0,0,0,0,0,0,0,0,0,0,0,0,0,0,0,0,0,0,0,0,0,0,0.33333333333333331,0,1.6666666666666667,0,0,0,{"$f":"IF(A150=\"-\",0,SUM(AQ$9:AQ150))","v":0},{"$f":"IF(A150=\"-\",0,SUM(T$9:T150)+SUM(U$9:U150))","v":0},{"$f":"IF(ISTEXT(V149),0,SUM(V$9:V149))","v":0},0]
["2024-05-22",null,null,4,143,null,null,null,null,null,null,null,null,null,null,null,null,0,0,0,0,0,0,0,0,0,0,0,0,0,0,0,0,0,0,0,0,0,0,0,0,0,0,0.33333333333333331,0,1.6666666666666667,0,0,0,{"$f":"IF(A151=\"-\",0,SUM(AQ$9:AQ151))","v":0},{"$f":"IF(A151=\"-\",0,SUM(T$9:T151)+SUM(U$9:U151))","v":0},{"$f":"IF(ISTEXT(V150),0,SUM(V$9:V150))","v":0},0]
["2024-05-23",null,null,5,144,null,null,null,null,null,null,null,null,null,null,null,null,0,0,0,0,0,0,0,0,0,0,0,0,0,0,0,0,0,0,0,0,0,0,0,0,0,0,0.33333333333333331,0,1.6666666666666667,0,0,0,{"$f":"IF(A152=\"-\",0,SUM(AQ$9:AQ152))","v":0},{"$f":"IF(A152=\"-\",0,SUM(T$9:T152)+SUM(U$9:U152))","v":0},{"$f":"IF(ISTEXT(V151),0,SUM(V$9:V151))","v":0},0]
["2024-05-24",null,null,6,145,null,null,null,null,null,null,null,null,null,null,null,null,0,0,0,0,0,0,0,0,0,0,0,0,0,0,0,0,0,0,0,0,0,0,0,0,0,0,0.33333333333333331,0,1.6666666666666667,0,0,0,{"$f":"IF(A153=\"-\",0,SUM(AQ$9:AQ153))","v":0},{"$f":"IF(A153=\"-\",0,SUM(T$9:T153)+SUM(U$9:U153))","v":0},{"$f":"IF(ISTEXT(V152),0,SUM(V$9:V152))","v":0},0]
["2024-05-25",1,null,7,146,null,null,null,null,null,null,null,null,null,null,null,null,0,0,0,0,0,0,0,0,0,0,0,0,0,0,0,0,0,0,0,0,0,0,0,0,0,0,0.33333333333333331,0,1.6666666666666667,0,0,0,{"$f":"IF(A154=\"-\",0,SUM(AQ$9:AQ154))","v":0},{"$f":"IF(A154=\"-\",0,SUM(T$9:T154)+SUM(U$9:U154))","v":0},{"$f":"IF(ISTEXT(V153),0,SUM(V$9:V153))","v":0},0]
["2024-05-26",null,null,1,147,null,null,null,null,null,null,null,null,null,null,null,null,0,0,0,0,0,0,0,0,0,0,0,0,0,0,0,0,0,0,0,0,0,0,0,0,0,0,0.33333333333333331,0,1.6666666666666667,0,0,0,{"$f":"IF(A155=\"-\",0,SUM(AQ$9:AQ155))","v":0},{"$f":"IF(A155=\"-\",0,SUM(T$9:T155)+SUM(U$9:U155))","v":0},{"$f":"IF(ISTEXT(V154),0,SUM(V$9:V154))","v":0},0]
["2024-05-27",null,null,2,148,null,null,null,null,null,null,null,null,null,null,null,null,0,0,0,0,0,0,0,0,0,0,0,0,0,0,0,0,0,0,0,0,0,0,0,0,0,0,0.33333333333333331,0,1.6666666666666667,0,0,0,{"$f":"IF(A156=\"-\",0,SUM(AQ$9:AQ156))","v":0},{"$f":"IF(A156=\"-\",0,SUM(T$9:T156)+SUM(U$9:U156))","v":0},{"$f":"IF(ISTEXT(V155),0,SUM(V$9:V155))","v":0},0]
["2024-05-28",null,null,3,149,null,null,null,null,null,null,null,null,null,null,null,null,0,0,0,0,0,0,0,0,0,0,0,0,0,0,0,0,0,0,0,0,0,0,0,0,0,0,0.33333333333333331,0,1.6666666666666667,0,0,0,{"$f":"IF(A157=\"-\",0,SUM(AQ$9:AQ157))","v":0},{"$f":"IF(A157=\"-\",0,SUM(T$9:T157)+SUM(U$9:U157))","v":0},{"$f":"IF(ISTEXT(V156),0,SUM(V$9:V156))","v":0},0]
["2024-05-29",null,null,4,150,null,null,null,null,null,null,null,null,null,null,null,null,0,0,0,0,0,0,0,0,0,0,0,0,0,0,0,0,0,0,0,0,0,0,0,0,0,0,0.33333333333333331,0,1.6666666666666667,0,0,0,{"$f":"IF(A158=\"-\",0,SUM(AQ$9:AQ158))","v":0},{"$f":"IF(A158=\"-\",0,SUM(T$9:T158)+SUM(U$9:U158))","v":0},{"$f":"IF(ISTEXT(V157),0,SUM(V$9:V157))","v":0},0]
["2024-05-30",null,null,5,151,null,null,null,null,null,null,null,null,null,null,null,null,0,0,0,0,0,0,0,0,0,0,0,0,0,0,0,0,0,0,0,0,0,0,0,0,0,0,0.33333333333333331,0,1.6666666666666667,0,0,0,{"$f":"IF(A159=\"-\",0,SUM(AQ$9:AQ159))","v":0},{"$f":"IF(A159=\"-\",0,SUM(T$9:T159)+SUM(U$9:U159))","v":0},{"$f":"IF(ISTEXT(V158),0,SUM(V$9:V158))","v":0},0]
["2024-05-31",null,5,6,152,null,null,null,null,null,null,null,null,null,null,null,null,0,0,0,0,0,0,0,0,0,0,0,0,0,0,0,0,0,0,0,0,0,0,0,0,0,0,0.33333333333333331,0,1.6666666666666667,0,0,0,{"$f":"IF(A160=\"-\",0,SUM(AQ$9:AQ160))","v":0},{"$f":"IF(A160=\"-\",0,SUM(T$9:T160)+SUM(U$9:U160))","v":0},{"$f":"IF(ISTEXT(V159),0,SUM(V$9:V159))","v":0},0]
["2024-06-01",1,null,7,153,null,null,null,null,null,null,null,null,null,null,null,null,0,0,0,0,0,0,0,0,0,0,0,0,0,0,0,0,0,0,0,0,0,0,0,0,0,0,0.33333333333333331,0,1.6666666666666667,0,0,0,{"$f":"IF(A161=\"-\",0,SUM(AQ$9:AQ161))","v":0},{"$f":"IF(A161=\"-\",0,SUM(T$9:T161)+SUM(U$9:U161))","v":0},{"$f":"IF(ISTEXT(V160),0,SUM(V$9:V160))","v":0},0]
["2024-06-02",null,null,1,154,null,null,null,null,null,null,null,null,null,null,null,null,0,0,0,0,0,0,0,0,0,0,0,0,0,0,0,0,0,0,0,0,0,0,0,0,0,0,0.33333333333333331,0,1.6666666666666667,0,0,0,{"$f":"IF(A162=\"-\",0,SUM(AQ$9:AQ162))","v":0},{"$f":"IF(A162=\"-\",0,SUM(T$9:T162)+SUM(U$9:U162))","v":0},{"$f":"IF(ISTEXT(V161),0,SUM(V$9:V161))","v":0},0]
["2024-06-03",null,null,2,155,null,null,null,null,null,null,null,null,null,null,null,null,0,0,0,0,0,0,0,0,0,0,0,0,0,0,0,0,0,0,0,0,0,0,0,0,0,0,0.33333333333333331,0,1.6666666666666667,0,0,0,{"$f":"IF(A163=\"-\",0,SUM(AQ$9:AQ163))","v":0},{"$f":"IF(A163=\"-\",0,SUM(T$9:T163)+SUM(U$9:U163))","v":0},{"$f":"IF(ISTEXT(V162),0,SUM(V$9:V162))","v":0},0]
["2024-06-04",null,null,3,156,null,null,null,null,null,null,null,null,null,null,null,null,0,0,0,0,0,0,0,0,0,0,0,0,0,0,0,0,0,0,0,0,0,0,0,0,0,0,0.33333333333333331,0,1.6666666666666667,0,0,0,{"$f":"IF(A164=\"-\",0,SUM(AQ$9:AQ164))","v":0},{"$f":"IF(A164=\"-\",0,SUM(T$9:T164)+SUM(U$9:U164))","v":0},{"$f":"IF(ISTEXT(V163),0,SUM(V$9:V163))","v":0},0]
["2024-06-05",null,null,4,157,null,null,null,null,null,null,null,null,null,null,null,null,0,0,0,0,0,0,0,0,0,0,0,0,0,0,0,0,0,0,0,0,0,0,0,0,0,0,0.33333333333333331,0,1.6666666666666667,0,0,0,{"$f":"IF(A165=\"-\",0,SUM(AQ$9:AQ165))","v":0},{"$f":"IF(A165=\"-\",0,SUM(T$9:T165)+SUM(U$9:U165))","v":0},{"$f":"IF(ISTEXT(V164),0,SUM(V$9:V164))","v":0},0]
["2024-06-06",null,null,5,158,null,null,null,null,null,null,null,null,null,null,null,null,0,0,0,0,0,0,0,0,0,0,0,0,0,0,0,0,0,0,0,0,0,0,0,0,0,0,0.33333333333333331,0,1.6666666666666667,0,0,0,{"$f":"IF(A166=\"-\",0,SUM(AQ$9:AQ166))","v":0},{"$f":"IF(A166=\"-\",0,SUM(T$9:T166)+SUM(U$9:U166))","v":0},{"$f":"IF(ISTEXT(V165),0,SUM(V$9:V165))","v":0},0]
["2024-06-07",null,null,6,159,null,null,null,null,null,null,null,null,null,null,null,null,0,0,0,0,0,0,0,0,0,0,0,0,0,0,0,0,0,0,0,0,0,0,0,0,0,0,0.33333333333333331,0,1.6666666666666667,0,0,0,{"$f":"IF(A167=\"-\",0,SUM(AQ$9:AQ167))","v":0},{"$f":"IF(A167=\"-\",0,SUM(T$9:T167)+SUM(U$9:U167))","v":0},{"$f":"IF(ISTEXT(V166),0,SUM(V$9:V166))","v":0},0]
["2024-06-08",1,null,7,160,null,null,null,null,null,null,null,null,null,null,null,null,0,0,0,0,0,0,0,0,0,0,0,0,0,0,0,0,0,0,0,0,0,0,0,0,0,0,0.33333333333333331,0,1.6666666666666667,0,0,0,{"$f":"IF(A168=\"-\",0,SUM(AQ$9:AQ168))","v":0},{"$f":"IF(A168=\"-\",0,SUM(T$9:T168)+SUM(U$9:U168))","v":0},{"$f":"IF(ISTEXT(V167),0,SUM(V$9:V167))","v":0},0]
["2024-06-09",null,null,1,161,null,null,null,null,null,null,null,null,null,null,null,null,0,0,0,0,0,0,0,0,0,0,0,0,0,0,0,0,0,0,0,0,0,0,0,0,0,0,0.33333333333333331,0,1.6666666666666667,0,0,0,{"$f":"IF(A169=\"-\",0,SUM(AQ$9:AQ169))","v":0},{"$f":"IF(A169=\"-\",0,SUM(T$9:T169)+SUM(U$9:U169))","v":0},{"$f":"IF(ISTEXT(V168),0,SUM(V$9:V168))","v":0},0]
["2024-06-10",null,null,2,162,null,null,null,null,null,null,null,null,null,null,null,null,0,0,0,0,0,0,0,0,0,0,0,0,0,0,0,0,0,0,0,0,0,0,0,0,0,0,0.33333333333333331,0,1.6666666666666667,0,0,0,{"$f":"IF(A170=\"-\",0,SUM(AQ$9:AQ170))","v":0},{"$f":"IF(A170=\"-\",0,SUM(T$9:T170)+SUM(U$9:U170))","v":0},{"$f":"IF(ISTEXT(V169),0,SUM(V$9:V169))","v":0},0]
["2024-06-11",null,null,3,163,null,null,null,null,null,null,null,null,null,null,null,null,0,0,0,0,0,0,0,0,0,0,0,0,0,0,0,0,0,0,0,0,0,0,0,0,0,0,0.33333333333333331,0,1.6666666666666667,0,0,0,{"$f":"IF(A171=\"-\",0,SUM(AQ$9:AQ171))","v":0},{"$f":"IF(A171=\"-\",0,SUM(T$9:T171)+SUM(U$9:U171))","v":0},{"$f":"IF(ISTEXT(V170),0,SUM(V$9:V170))","v":0},0]
["2024-06-12",null,null,4,164,null,null,null,null,null,null,null,null,null,null,null,null,0,0,0,0,0,0,0,0,0,0,0,0,0,0,0,0,0,0,0,0,0,0,0,0,0,0,0.33333333333333331,0,1.6666666666666667,0,0,0,{"$f":"IF(A172=\"-\",0,SUM(AQ$9:AQ172))","v":0},{"$f":"IF(A172=\"-\",0,SUM(T$9:T172)+SUM(U$9:U172))","v":0},{"$f":"IF(ISTEXT(V171),0,SUM(V$9:V171))","v":0},0]
["2024-06-13",null,null,5,165,null,null,null,null,null,null,null,null,null,null,null,null,0,0,0,0,0,0,0,0,0,0,0,0,0,0,0,0,0,0,0,0,0,0,0,0,0,0,0.33333333333333331,0,1.6666666666666667,0,0,0,{"$f":"IF(A173=\"-\",0,SUM(AQ$9:AQ173))","v":0},{"$f":"IF(A173=\"-\",0,SUM(T$9:T173)+SUM(U$9:U173))","v":0},{"$f":"IF(ISTEXT(V172),0,SUM(V$9:V172))","v":0},0]
["2024-06-14",null,null,6,166,null,null,null,null,null,null,null,null,null,null,null,null,0,0,0,0,0,0,0,0,0,0,0,0,0,0,0,0,0,0,0,0,0,0,0,0,0,0,0.33333333333333331,0,1.6666666666666667,0,0,0,{"$f":"IF(A174=\"-\",0,SUM(AQ$9:AQ174))","v":0},{"$f":"IF(A174=\"-\",0,SUM(T$9:T174)+SUM(U$9:U174))","v":0},{"$f":"IF(ISTEXT(V173),0,SUM(V$9:V173))","v":0},0]
["2024-06-15",1,null,7,167,null,null,null,null,null,null,null,null,null,null,null,null,0,0,0,0,0,0,0,0,0,0,0,0,0,0,0,0,0,0,0,0,0,0,0,0,0,0,0.33333333333333331,0,1.6666666666666667,0,0,0,{"$f":"IF(A175=\"-\",0,SUM(AQ$9:AQ175))","v":0},{"$f":"IF(A175=\"-\",0,SUM(T$9:T175)+SUM(U$9:U175))","v":0},{"$f":"IF(ISTEXT(V174),0,SUM(V$9:V174))","v":0},0]
["2024-06-16",null,null,1,168,null,null,null,null,null,null,null,null,null,null,null,null,0,0,0,0,0,0,0,0,0,0,0,0,0,0,0,0,0,0,0,0,0,0,0,0,0,0,0.33333333333333331,0,1.6666666666666667,0,0,0,{"$f":"IF(A176=\"-\",0,SUM(AQ$9:AQ176))","v":0},{"$f":"IF(A176=\"-\",0,SUM(T$9:T176)+SUM(U$9:U176))","v":0},{"$f":"IF(ISTEXT(V175),0,SUM(V$9:V175))","v":0},0]
["2024-06-17",null,null,2,169,null,null,null,null,null,null,null,null,null,null,null,null,0,0,0,0,0,0,0,0,0,0,0,0,0,0,0,0,0,0,0,0,0,0,0,0,0,0,0.33333333333333331,0,1.6666666666666667,0,0,0,{"$f":"IF(A177=\"-\",0,SUM(AQ$9:AQ177))","v":0},{"$f":"IF(A177=\"-\",0,SUM(T$9:T177)+SUM(U$9:U177))","v":0},{"$f":"IF(ISTEXT(V176),0,SUM(V$9:V176))","v":0},0]
["2024-06-18",null,null,3,170,null,null,null,null,null,null,null,null,null,null,null,null,0,0,0,0,0,0,0,0,0,0,0,0,0,0,0,0,0,0,0,0,0,0,0,0,0,0,0.33333333333333331,0,1.6666666666666667,0,0,0,{"$f":"IF(A178=\"-\",0,SUM(AQ$9:AQ178))","v":0},{"$f":"IF(A178=\"-\",0,SUM(T$9:T178)+SUM(U$9:U178))","v":0},{"$f":"IF(ISTEXT(V177),0,SUM(V$9:V177))","v":0},0]
["2024-06-19",null,null,4,171,null,null,null,null,null,null,null,null,null,null,null,null,0,0,0,0,0,0,0,0,0,0,0,0,0,0,0,0,0,0,0,0,0,0,0,0,0,0,0.33333333333333331,0,1.6666666666666667,0,0,0,{"$f":"IF(A179=\"-\",0,SUM(AQ$9:AQ179))","v":0},{"$f":"IF(A179=\"-\",0,SUM(T$9:T179)+SUM(U$9:U179))","v":0},{"$f":"IF(ISTEXT(V178),0,SUM(V$9:V178))","v":0},0]
["2024-06-20",null,null,5,172,null,null,null,null,null,null,null,null,null,null,null,null,0,0,0,0,0,0,0,0,0,0,0,0,0,0,0,0,0,0,0,0,0,0,0,0,0,0,0.33333333333333331,0,1.6666666666666667,0,0,0,{"$f":"IF(A180=\"-\",0,SUM(AQ$9:AQ180))","v":0},{"$f":"IF(A180=\"-\",0,SUM(T$9:T180)+SUM(U$9:U180))","v":0},{"$f":"IF(ISTEXT(V179),0,SUM(V$9:V179))","v":0},0]
["2024-06-21",null,null,6,173,null,null,null,null,null,null,null,null,null,null,null,null,0,0,0,0,0,0,0,0,0,0,0,0,0,0,0,0,0,0,0,0,0,0,0,0,0,0,0.33333333333333331,0,1.6666666666666667,0,0,0,{"$f":"IF(A181=\"-\",0,SUM(AQ$9:AQ181))","v":0},{"$f":"IF(A181=\"-\",0,SUM(T$9:T181)+SUM(U$9:U181))","v":0},{"$f":"IF(ISTEXT(V180),0,SUM(V$9:V180))","v":0},0]
["2024-06-22",1,null,7,174,null,null,null,null,null,null,null,null,null,null,null,null,0,0,0,0,0,0,0,0,0,0,0,0,0,0,0,0,0,0,0,0,0,0,0,0,0,0,0.33333333333333331,0,1.6666666666666667,0,0,0,{"$f":"IF(A182=\"-\",0,SUM(AQ$9:AQ182))","v":0},{"$f":"IF(A182=\"-\",0,SUM(T$9:T182)+SUM(U$9:U182))","v":0},{"$f":"IF(ISTEXT(V181),0,SUM(V$9:V181))","v":0},0]
["2024-06-23",null,null,1,175,null,null,null,null,null,null,null,null,null,null,null,null,0,0,0,0,0,0,0,0,0,0,0,0,0,0,0,0,0,0,0,0,0,0,0,0,0,0,0.33333333333333331,0,1.6666666666666667,0,0,0,{"$f":"IF(A183=\"-\",0,SUM(AQ$9:AQ183))","v":0},{"$f":"IF(A183=\"-\",0,SUM(T$9:T183)+SUM(U$9:U183))","v":0},{"$f":"IF(ISTEXT(V182),0,SUM(V$9:V182))","v":0},0]
["2024-06-24",null,null,2,176,null,null,null,null,null,null,null,null,null,null,null,null,0,0,0,0,0,0,0,0,0,0,0,0,0,0,0,0,0,0,0,0,0,0,0,0,0,0,0.33333333333333331,0,1.6666666666666667,0,0,0,{"$f":"IF(A184=\"-\",0,SUM(AQ$9:AQ184))","v":0},{"$f":"IF(A184=\"-\",0,SUM(T$9:T184)+SUM(U$9:U184))","v":0},{"$f":"IF(ISTEXT(V183),0,SUM(V$9:V183))","v":0},0]
["2024-06-25",null,null,3,177,null,null,null,null,null,null,null,null,null,null,null,null,0,0,0,0,0,0,0,0,0,0,0,0,0,0,0,0,0,0,0,0,0,0,0,0,0,0,0.33333333333333331,0,1.6666666666666667,0,0,0,{"$f":"IF(A185=\"-\",0,SUM(AQ$9:AQ185))","v":0},{"$f":"IF(A185=\"-\",0,SUM(T$9:T185)+SUM(U$9:U185))","v":0},{"$f":"IF(ISTEXT(V184),0,SUM(V$9:V184))","v":0},0]
["2024-06-26",null,null,4,178,null,null,null,null,null,null,null,null,null,null,null,null,0,0,0,0,0,0,0,0,0,0,0,0,0,0,0,0,0,0,0,0,0,0,0,0,0,0,0.33333333333333331,0,1.6666666666666667,0,0,0,{"$f":"IF(A186=\"-\",0,SUM(AQ$9:AQ186))","v":0},{"$f":"IF(A186=\"-\",0,SUM(T$9:T186)+SUM(U$9:U186))","v":0},{"$f":"IF(ISTEXT(V185),0,SUM(V$9:V185))","v":0},0]
["2024-06-27",null,null,5,179,null,null,null,null,null,null,null,null,null,null,null,null,0,0,0,0,0,0,0,0,0,0,0,0,0,0,0,0,0,0,0,0,0,0,0,0,0,0,0.33333333333333331,0,1.6666666666666667,0,0,0,{"$f":"IF(A187=\"-\",0,SUM(AQ$9:AQ187))","v":0},{"$f":"IF(A187=\"-\",0,SUM(T$9:T187)+SUM(U$9:U187))","v":0},{"$f":"IF(ISTEXT(V186),0,SUM(V$9:V186))","v":0},0]
["2024-06-28",null,null,6,180,null,null,null,null,null,null,null,null,null,null,null,null,0,0,0,0,0,0,0,0,0,0,0,0,0,0,0,0,0,0,0,0,0,0,0,0,0,0,0.33333333333333331,0,1.6666666666666667,0,0,0,{"$f":"IF(A188=\"-\",0,SUM(AQ$9:AQ188))","v":0},{"$f":"IF(A188=\"-\",0,SUM(T$9:T188)+SUM(U$9:U188))","v":0},{"$f":"IF(ISTEXT(V187),0,SUM(V$9:V187))","v":0},0]
["2024-06-29",1,null,7,181,null,null,null,null,null,null,null,null,null,null,null,null,0,0,0,0,0,0,0,0,0,0,0,0,0,0,0,0,0,0,0,0,0,0,0,0,0,0,0.33333333333333331,0,1.6666666666666667,0,0,0,{"$f":"IF(A189=\"-\",0,SUM(AQ$9:AQ189))","v":0},{"$f":"IF(A189=\"-\",0,SUM(T$9:T189)+SUM(U$9:U189))","v":0},{"$f":"IF(ISTEXT(V188),0,SUM(V$9:V188))","v":0},0]
["2024-06-30",null,6,1,182,null,null,null,null,null,null,null,null,null,null,null,null,0,0,0,0,0,0,0,0,0,0,0,0,0,0,0,0,0,0,0,0,0,0,0,0,0,0,0.33333333333333331,0,1.6666666666666667,0,0,0,{"$f":"IF(A190=\"-\",0,SUM(AQ$9:AQ190))","v":0},{"$f":"IF(A190=\"-\",0,SUM(T$9:T190)+SUM(U$9:U190))","v":0},{"$f":"IF(ISTEXT(V189),0,SUM(V$9:V189))","v":0},0]
["2024-07-01",null,null,2,183,null,null,null,null,null,null,null,null,null,null,null,null,0,0,0,0,0,0,0,0,0,0,0,0,0,0,0,0,0,0,0,0,0,0,0,0,0,0,0.33333333333333331,0,1.6666666666666667,0,0,0,{"$f":"IF(A191=\"-\",0,SUM(AQ$9:AQ191))","v":0},{"$f":"IF(A191=\"-\",0,SUM(T$9:T191)+SUM(U$9:U191))","v":0},{"$f":"IF(ISTEXT(V190),0,SUM(V$9:V190))","v":0},0]
["2024-07-02",null,null,3,184,null,null,null,null,null,null,null,null,null,null,null,null,0,0,0,0,0,0,0,0,0,0,0,0,0,0,0,0,0,0,0,0,0,0,0,0,0,0,0.33333333333333331,0,1.6666666666666667,0,0,0,{"$f":"IF(A192=\"-\",0,SUM(AQ$9:AQ192))","v":0},{"$f":"IF(A192=\"-\",0,SUM(T$9:T192)+SUM(U$9:U192))","v":0},{"$f":"IF(ISTEXT(V191),0,SUM(V$9:V191))","v":0},0]
["2024-07-03",null,null,4,185,null,null,null,null,null,null,null,null,null,null,null,null,0,0,0,0,0,0,0,0,0,0,0,0,0,0,0,0,0,0,0,0,0,0,0,0,0,0,0.33333333333333331,0,1.6666666666666667,0,0,0,{"$f":"IF(A193=\"-\",0,SUM(AQ$9:AQ193))","v":0},{"$f":"IF(A193=\"-\",0,SUM(T$9:T193)+SUM(U$9:U193))","v":0},{"$f":"IF(ISTEXT(V192),0,SUM(V$9:V192))","v":0},0]
["2024-07-04",null,null,5,186,null,null,null,null,null,null,null,null,null,null,null,null,0,0,0,0,0,0,0,0,0,0,0,0,0,0,0,0,0,0,0,0,0,0,0,0,0,0,0.33333333333333331,0,1.6666666666666667,0,0,0,{"$f":"IF(A194=\"-\",0,SUM(AQ$9:AQ194))","v":0},{"$f":"IF(A194=\"-\",0,SUM(T$9:T194)+SUM(U$9:U194))","v":0},{"$f":"IF(ISTEXT(V193),0,SUM(V$9:V193))","v":0},0]
["2024-07-05",null,null,6,187,null,null,null,null,null,null,null,null,null,null,null,null,0,0,0,0,0,0,0,0,0,0,0,0,0,0,0,0,0,0,0,0,0,0,0,0,0,0,0.33333333333333331,0,1.6666666666666667,0,0,0,{"$f":"IF(A195=\"-\",0,SUM(AQ$9:AQ195))","v":0},{"$f":"IF(A195=\"-\",0,SUM(T$9:T195)+SUM(U$9:U195))","v":0},{"$f":"IF(ISTEXT(V194),0,SUM(V$9:V194))","v":0},0]
["2024-07-06",1,null,7,188,null,null,null,null,null,null,null,null,null,null,null,null,0,0,0,0,0,0,0,0,0,0,0,0,0,0,0,0,0,0,0,0,0,0,0,0,0,0,0.33333333333333331,0,1.6666666666666667,0,0,0,{"$f":"IF(A196=\"-\",0,SUM(AQ$9:AQ196))","v":0},{"$f":"IF(A196=\"-\",0,SUM(T$9:T196)+SUM(U$9:U196))","v":0},{"$f":"IF(ISTEXT(V195),0,SUM(V$9:V195))","v":0},0]
["2024-07-07",null,null,1,189,null,null,null,null,null,null,null,null,null,null,null,null,0,0,0,0,0,0,0,0,0,0,0,0,0,0,0,0,0,0,0,0,0,0,0,0,0,0,0.33333333333333331,0,1.6666666666666667,0,0,0,{"$f":"IF(A197=\"-\",0,SUM(AQ$9:AQ197))","v":0},{"$f":"IF(A197=\"-\",0,SUM(T$9:T197)+SUM(U$9:U197))","v":0},{"$f":"IF(ISTEXT(V196),0,SUM(V$9:V196))","v":0},0]
["2024-07-08",null,null,2,190,null,null,null,null,null,null,null,null,null,null,null,null,0,0,0,0,0,0,0,0,0,0,0,0,0,0,0,0,0,0,0,0,0,0,0,0,0,0,0.33333333333333331,0,1.6666666666666667,0,0,0,{"$f":"IF(A198=\"-\",0,SUM(AQ$9:AQ198))","v":0},{"$f":"IF(A198=\"-\",0,SUM(T$9:T198)+SUM(U$9:U198))","v":0},{"$f":"IF(ISTEXT(V197),0,SUM(V$9:V197))","v":0},0]
["2024-07-09",null,null,3,191,null,null,null,null,null,null,null,null,null,null,null,null,0,0,0,0,0,0,0,0,0,0,0,0,0,0,0,0,0,0,0,0,0,0,0,0,0,0,0.33333333333333331,0,1.6666666666666667,0,0,0,{"$f":"IF(A199=\"-\",0,SUM(AQ$9:AQ199))","v":0},{"$f":"IF(A199=\"-\",0,SUM(T$9:T199)+SUM(U$9:U199))","v":0},{"$f":"IF(ISTEXT(V198),0,SUM(V$9:V198))","v":0},0]
["2024-07-10",null,null,4,192,null,null,null,null,null,null,null,null,null,null,null,null,0,0,0,0,0,0,0,0,0,0,0,0,0,0,0,0,0,0,0,0,0,0,0,0,0,0,0.33333333333333331,0,1.6666666666666667,0,0,0,{"$f":"IF(A200=\"-\",0,SUM(AQ$9:AQ200))","v":0},{"$f":"IF(A200=\"-\",0,SUM(T$9:T200)+SUM(U$9:U200))","v":0},{"$f":"IF(ISTEXT(V199),0,SUM(V$9:V199))","v":0},0]
["2024-07-11",null,null,5,193,null,null,null,null,null,null,null,null,null,null,null,null,0,{"$f":"IF(AND(F201=\"法定\",H201<>\"振出\"),SUM(AL201:AN201),0)+IF(F202=\"法定\",AO201+AP201,0)","v":0},0,0,0,0,{"$f":"_xlfn.IFS(AND(F201=\"所定\",H201<>\"振出\"),0,BA201>60/24,W201-MIN(W201,BA201-60/24),TRUE,W201)","v":0},{"$f":"_xlfn.IFS(OR(F201<>\"所定\",H201=\"振出\"),0,BA201>60/24,W201-MIN(W201,BA201-60/24),TRUE,W201)","v":0},{"$f":"IF(AND(F201=\"所定\",H201<>\"振出\"),0,W201-X201)","v":0},{"$f":"IF(OR(F201<>\"所定\",H201=\"振出\"),0,W201-Y201)","v":0},0,{"$f":"IF(G201=\"\",0,MIN(AG201,G201-Q201))","v":0},{"$f":"IF(H201=\"振出\",MIN(AG201,I201-Q201),0)","v":0},0,{"$f":"_xlfn.LET(_xlpm.値,IF(AND(F201=\"所定\",H201<>\"振出\"),MAX(0,AG201-AC201),0),IF(_xlpm.値<TIME(0,0,1),0,_xlpm.値))","v":0},0,{"$f":"_xlfn.IFS(H201=\"振休\",0,R201<G201,MAX(0,G201-R201-Q201),TRUE,0)","v":0},{"$f":"IF(H201=\"振休\",MAX(0,G201-AG201-Q201),0)","v":0},{"$f":"_xlfn.LET(_xlpm.値,IF(G201=\"\",0,G201-Q201-AC201-AH201-AI201),IF(_xlpm.値<TIME(0,0,1),0,_xlpm.値))","v":0},{"$f":"_xlfn.LET(_xlpm.値,MAX(0,G201-Q201-R201)+AJ201,IF(_xlpm.値<TIME(0,0,1),0,_xlpm.値))","v":0},{"$f":"IF(J201=\"\",0,MAX(0,MIN(5/24,K201)-MAX(0,J201)-L201))","v":0},{"$f":"IF(J201=\"\",0,MAX(0,MIN(22/24,K201)-MAX(5/24,J201)-M201))","v":0},{"$f":"IF(J201=\"\",0,MAX(0,MIN(24/24,K201)-MAX(22/24,J201)-N201))","v":0},{"$f":"IF(J201=\"\",0,MAX(0,MIN(29/24,K201)-MAX(24/24,J201)-O201))","v":0},{"$f":"IF(J201=\"\",0,MAX(0,MIN(48/24,K201)-MAX(29/24,J201)-P201))","v":0},{"$f":"R201-S201","v":0},{"$f":"_xlfn.IFS(A201=\"-\",0,H201=\"振出\",IF($N$2=\"原則\",8/24,MAX(I201,8/24)),F201=\"法定\",0,TRUE,IF($N$2=\"原則\",8/24,MAX(G201,8/24)))","v":0.33333333333333331},{"$f":"_xlfn.IFS(A201=\"-\",0,B201=\"\",AS202,TRUE,SUM(OFFSET(G201,D201*-1+1,0,D201,1)))","v":0},{"$f":"_xlfn.IFS(A201=\"-\",0,B201=\"\",AT202,$N$2=\"原則\",$H$4/24,TRUE,MAX(AS201,$H$4/24*D201/7))","v":1.6666666666666667},{"$f":"IF(A201=\"-\",0,SUM(OFFSET(AQ201,D201*-1+1,0,D201,1)))","v":0},{"$f":"IF(A201=\"-\",0,SUM(OFFSET(T201,$D201*-1+1,0,D201,1)))","v":0},{"$f":"IF(OR($D201=1,A201=\"-\"),0,SUM(OFFSET(U201,D201*-1+1,0,D201-1,1)))","v":0},{"$f":"IF(A201=\"-\",0,SUM(AQ$9:AQ201))","v":0},{"$f":"IF(A201=\"-\",0,SUM(T$9:T201)+SUM(U$9:U201))","v":0},{"$f":"IF(ISTEXT(V200),0,SUM(V$9:V200))","v":0},{"$f":"IF(C200<>\"\",W201,BA200+W201)","v":0}]
["2024-07-12",null,null,6,194,null,null,null,null,null,null,null,null,null,null,null,null,0,0,{"$f":"_xlfn.LET(_xlpm.値,MAX(0,AQ202-IF(AR202=0,8/24,AR202)),IF(_xlpm.値<TIME(0,0,1),0,_xlpm.値))","v":0},{"$f":"_xlfn.LET(_xlpm.値,IF($A202=\"-\",0,MAX(0,AU202-AV202-AW202-AT202)),IF(_xlpm.値<TIME(0,0,1),0,_xlpm.値))","v":0},{"$f":"MAX(0,AX202-AY202-AZ202-$N$4)","v":0},{"$f":"SUM(T202,U202,V202)","v":0},0,0,0,0,{"$f":"SUM(AL202,AN202:AO202)","v":0},0,0,{"$f":"_xlfn.LET(_xlpm.値,AG202-AF202-AC202-AD202,IF(_xlpm.値<TIME(0,0,1),0,_xlpm.値))","v":0},0,{"$f":"_xlfn.LET(_xlpm.値,MAX(0,AQ202-W202),IF(_xlpm.値<TIME(0,0,1),0,_xlpm.値))","v":0},0,0,0,0,0,0,0,0,0,0,0.33333333333333331,0,1.6666666666666667,0,0,0,{"$f":"IF(A202=\"-\",0,SUM(AQ$9:AQ202))","v":0},{"$f":"IF(A202=\"-\",0,SUM(T$9:T202)+SUM(U$9:U202))","v":0},{"$f":"IF(ISTEXT(V201),0,SUM(V$9:V201))","v":0},0]
["2024-07-13",1,null,7,195,null,null,null,null,null,null,null,null,null,null,null,null,0,0,0,0,0,0,0,0,0,0,0,0,0,0,0,0,0,0,0,0,0,0,0,0,0,0,0.33333333333333331,0,1.6666666666666667,0,0,0,{"$f":"IF(A203=\"-\",0,SUM(AQ$9:AQ203))","v":0},{"$f":"IF(A203=\"-\",0,SUM(T$9:T203)+SUM(U$9:U203))","v":0},{"$f":"IF(ISTEXT(V202),0,SUM(V$9:V202))","v":0},0]
["2024-07-14",null,null,1,196,null,null,null,null,null,null,null,null,null,null,null,null,0,0,0,0,0,0,0,0,0,0,0,0,0,0,0,0,0,0,0,0,0,0,0,0,0,0,0.33333333333333331,0,1.6666666666666667,0,0,0,{"$f":"IF(A204=\"-\",0,SUM(AQ$9:AQ204))","v":0},{"$f":"IF(A204=\"-\",0,SUM(T$9:T204)+SUM(U$9:U204))","v":0},{"$f":"IF(ISTEXT(V203),0,SUM(V$9:V203))","v":0},0]
["2024-07-15",null,null,2,197,null,null,null,null,null,null,null,null,null,null,null,null,0,0,0,0,0,0,0,0,0,0,0,0,0,0,0,0,0,0,0,0,0,0,0,0,0,0,0.33333333333333331,0,1.6666666666666667,0,0,0,{"$f":"IF(A205=\"-\",0,SUM(AQ$9:AQ205))","v":0},{"$f":"IF(A205=\"-\",0,SUM(T$9:T205)+SUM(U$9:U205))","v":0},{"$f":"IF(ISTEXT(V204),0,SUM(V$9:V204))","v":0},0]
["2024-07-16",null,null,3,198,null,null,null,null,null,null,null,null,null,null,null,null,{"$f":"K206-J206-SUM(L206:P206)","v":0},0,0,0,0,0,0,0,0,0,0,0,0,0,0,0,0,0,0,0,0,0,0,0,0,0,0.33333333333333331,0,1.6666666666666667,0,0,0,{"$f":"IF(A206=\"-\",0,SUM(AQ$9:AQ206))","v":0},{"$f":"IF(A206=\"-\",0,SUM(T$9:T206)+SUM(U$9:U206))","v":0},{"$f":"IF(ISTEXT(V205),0,SUM(V$9:V205))","v":0},0]
["2024-07-17",null,null,4,199,null,null,null,null,null,null,null,null,null,null,null,null,0,0,0,0,0,0,0,0,0,0,0,0,0,0,0,0,0,0,0,0,0,0,0,0,0,0,0.33333333333333331,0,1.6666666666666667,0,0,0,{"$f":"IF(A207=\"-\",0,SUM(AQ$9:AQ207))","v":0},{"$f":"IF(A207=\"-\",0,SUM(T$9:T207)+SUM(U$9:U207))","v":0},{"$f":"IF(ISTEXT(V206),0,SUM(V$9:V206))","v":0},0]
["2024-07-18",null,null,5,200,null,null,null,null,null,null,null,null,null,null,null,null,0,0,0,0,0,0,0,0,0,0,0,0,0,0,0,0,0,0,0,0,0,0,0,0,0,0,0.33333333333333331,0,1.6666666666666667,0,0,0,{"$f":"IF(A208=\"-\",0,SUM(AQ$9:AQ208))","v":0},{"$f":"IF(A208=\"-\",0,SUM(T$9:T208)+SUM(U$9:U208))","v":0},{"$f":"IF(ISTEXT(V207),0,SUM(V$9:V207))","v":0},0]
["2024-07-19",null,null,6,201,null,null,null,null,null,null,null,null,null,null,null,null,0,0,0,0,0,0,0,0,0,0,0,0,0,0,0,0,0,0,0,0,0,0,0,0,0,0,0.33333333333333331,0,1.6666666666666667,0,0,0,{"$f":"IF(A209=\"-\",0,SUM(AQ$9:AQ209))","v":0},{"$f":"IF(A209=\"-\",0,SUM(T$9:T209)+SUM(U$9:U209))","v":0},{"$f":"IF(ISTEXT(V208),0,SUM(V$9:V208))","v":0},0]
["2024-07-20",1,null,7,202,null,null,null,null,null,null,null,null,null,null,null,null,0,0,0,0,0,0,0,0,0,0,0,0,0,0,0,0,0,0,0,0,0,0,0,0,0,0,0.33333333333333331,0,1.6666666666666667,0,0,0,{"$f":"IF(A210=\"-\",0,SUM(AQ$9:AQ210))","v":0},{"$f":"IF(A210=\"-\",0,SUM(T$9:T210)+SUM(U$9:U210))","v":0},{"$f":"IF(ISTEXT(V209),0,SUM(V$9:V209))","v":0},0]
["2024-07-21",null,null,1,203,null,null,null,null,null,null,null,null,null,null,null,null,0,0,0,0,0,0,0,0,0,0,0,0,0,0,0,0,0,0,0,0,0,0,0,0,0,0,0.33333333333333331,0,1.6666666666666667,0,0,0,{"$f":"IF(A211=\"-\",0,SUM(AQ$9:AQ211))","v":0},{"$f":"IF(A211=\"-\",0,SUM(T$9:T211)+SUM(U$9:U211))","v":0},{"$f":"IF(ISTEXT(V210),0,SUM(V$9:V210))","v":0},0]
["2024-07-22",null,null,2,204,null,null,null,null,null,null,null,null,null,null,null,null,0,0,0,0,0,0,0,0,0,0,0,0,0,0,0,0,0,0,0,0,0,0,0,0,0,0,0.33333333333333331,0,1.6666666666666667,0,0,0,{"$f":"IF(A212=\"-\",0,SUM(AQ$9:AQ212))","v":0},{"$f":"IF(A212=\"-\",0,SUM(T$9:T212)+SUM(U$9:U212))","v":0},{"$f":"IF(ISTEXT(V211),0,SUM(V$9:V211))","v":0},0]
["2024-07-23",null,null,3,205,null,null,null,null,null,null,null,null,null,null,null,null,0,0,0,0,0,0,0,0,0,0,0,0,0,0,0,0,0,0,0,0,0,0,0,0,0,0,0.33333333333333331,0,1.6666666666666667,0,0,0,{"$f":"IF(A213=\"-\",0,SUM(AQ$9:AQ213))","v":0},{"$f":"IF(A213=\"-\",0,SUM(T$9:T213)+SUM(U$9:U213))","v":0},{"$f":"IF(ISTEXT(V212),0,SUM(V$9:V212))","v":0},0]
["2024-07-24",null,null,4,206,null,null,null,null,null,null,null,null,null,null,null,null,0,0,0,0,0,0,0,0,0,0,0,0,0,0,0,0,0,0,0,0,0,0,0,0,0,0,0.33333333333333331,0,1.6666666666666667,0,0,0,{"$f":"IF(A214=\"-\",0,SUM(AQ$9:AQ214))","v":0},{"$f":"IF(A214=\"-\",0,SUM(T$9:T214)+SUM(U$9:U214))","v":0},{"$f":"IF(ISTEXT(V213),0,SUM(V$9:V213))","v":0},0]
["2024-07-25",null,null,5,207,null,null,null,null,null,null,null,null,null,null,null,null,0,0,0,0,0,0,0,0,0,0,0,0,0,0,0,0,0,0,0,0,0,0,0,0,0,0,0.33333333333333331,0,1.6666666666666667,0,0,0,{"$f":"IF(A215=\"-\",0,SUM(AQ$9:AQ215))","v":0},{"$f":"IF(A215=\"-\",0,SUM(T$9:T215)+SUM(U$9:U215))","v":0},{"$f":"IF(ISTEXT(V214),0,SUM(V$9:V214))","v":0},0]
["2024-07-26",null,null,6,208,null,null,null,null,null,null,null,null,null,null,null,null,0,0,0,0,0,0,0,0,0,0,0,0,0,0,0,0,0,0,0,0,0,0,0,0,0,0,0.33333333333333331,0,1.6666666666666667,0,0,0,{"$f":"IF(A216=\"-\",0,SUM(AQ$9:AQ216))","v":0},{"$f":"IF(A216=\"-\",0,SUM(T$9:T216)+SUM(U$9:U216))","v":0},{"$f":"IF(ISTEXT(V215),0,SUM(V$9:V215))","v":0},0]
["2024-07-27",1,null,7,209,null,null,null,null,null,null,null,null,null,null,null,null,0,0,0,0,0,0,0,0,0,0,0,0,0,0,0,0,0,0,0,0,0,0,0,0,0,0,0.33333333333333331,0,1.6666666666666667,0,0,0,{"$f":"IF(A217=\"-\",0,SUM(AQ$9:AQ217))","v":0},{"$f":"IF(A217=\"-\",0,SUM(T$9:T217)+SUM(U$9:U217))","v":0},{"$f":"IF(ISTEXT(V216),0,SUM(V$9:V216))","v":0},0]
["2024-07-28",null,null,1,210,null,null,null,null,null,null,null,null,null,null,null,null,0,0,0,0,0,0,0,0,0,0,0,0,0,0,0,0,0,0,0,0,0,0,0,0,0,0,0.33333333333333331,0,1.6666666666666667,0,0,0,{"$f":"IF(A218=\"-\",0,SUM(AQ$9:AQ218))","v":0},{"$f":"IF(A218=\"-\",0,SUM(T$9:T218)+SUM(U$9:U218))","v":0},{"$f":"IF(ISTEXT(V217),0,SUM(V$9:V217))","v":0},0]
["2024-07-29",null,null,2,211,null,null,null,null,null,null,null,null,null,null,null,null,0,0,0,0,0,0,0,0,0,0,0,0,0,0,0,0,0,0,0,0,0,0,0,0,0,0,0.33333333333333331,0,1.6666666666666667,0,0,0,{"$f":"IF(A219=\"-\",0,SUM(AQ$9:AQ219))","v":0},{"$f":"IF(A219=\"-\",0,SUM(T$9:T219)+SUM(U$9:U219))","v":0},{"$f":"IF(ISTEXT(V218),0,SUM(V$9:V218))","v":0},0]
["2024-07-30",null,null,3,212,null,null,null,null,null,null,null,null,null,null,null,null,0,0,0,0,0,0,0,0,0,0,0,0,0,0,0,0,0,0,0,0,0,0,0,0,0,0,0.33333333333333331,0,1.6666666666666667,0,0,0,{"$f":"IF(A220=\"-\",0,SUM(AQ$9:AQ220))","v":0},{"$f":"IF(A220=\"-\",0,SUM(T$9:T220)+SUM(U$9:U220))","v":0},{"$f":"IF(ISTEXT(V219),0,SUM(V$9:V219))","v":0},0]
["2024-07-31",null,7,4,213,null,null,null,null,null,null,null,null,null,null,null,null,0,0,0,0,0,0,0,0,0,0,0,0,0,0,0,0,0,0,0,0,0,0,0,0,0,0,0.33333333333333331,0,1.6666666666666667,0,0,0,{"$f":"IF(A221=\"-\",0,SUM(AQ$9:AQ221))","v":0},{"$f":"IF(A221=\"-\",0,SUM(T$9:T221)+SUM(U$9:U221))","v":0},{"$f":"IF(ISTEXT(V220),0,SUM(V$9:V220))","v":0},0]
["2024-08-01",null,null,5,214,null,null,null,null,null,null,null,null,null,null,null,null,0,0,0,0,0,0,0,0,0,0,0,0,0,0,0,0,0,0,0,0,0,0,0,0,0,0,0.33333333333333331,0,1.6666666666666667,0,0,0,{"$f":"IF(A222=\"-\",0,SUM(AQ$9:AQ222))","v":0},{"$f":"IF(A222=\"-\",0,SUM(T$9:T222)+SUM(U$9:U222))","v":0},{"$f":"IF(ISTEXT(V221),0,SUM(V$9:V221))","v":0},0]
["2024-08-02",null,null,6,215,null,null,null,null,null,null,null,null,null,null,null,null,0,0,0,0,0,0,0,0,0,0,0,0,0,0,0,0,0,0,0,0,0,0,0,0,0,0,0.33333333333333331,0,1.6666666666666667,0,0,0,{"$f":"IF(A223=\"-\",0,SUM(AQ$9:AQ223))","v":0},{"$f":"IF(A223=\"-\",0,SUM(T$9:T223)+SUM(U$9:U223))","v":0},{"$f":"IF(ISTEXT(V222),0,SUM(V$9:V222))","v":0},0]
["2024-08-03",1,null,7,216,null,null,null,null,null,null,null,null,null,null,null,null,0,0,0,0,0,0,0,0,0,0,0,0,0,0,0,0,0,0,0,0,0,0,0,0,0,0,0.33333333333333331,0,1.6666666666666667,0,0,0,{"$f":"IF(A224=\"-\",0,SUM(AQ$9:AQ224))","v":0},{"$f":"IF(A224=\"-\",0,SUM(T$9:T224)+SUM(U$9:U224))","v":0},{"$f":"IF(ISTEXT(V223),0,SUM(V$9:V223))","v":0},0]
["2024-08-04",null,null,1,217,null,null,null,null,null,null,null,null,null,null,null,null,0,0,0,0,0,0,0,0,0,0,0,0,0,0,0,0,0,0,0,0,0,0,0,0,0,0,0.33333333333333331,0,1.6666666666666667,0,0,0,{"$f":"IF(A225=\"-\",0,SUM(AQ$9:AQ225))","v":0},{"$f":"IF(A225=\"-\",0,SUM(T$9:T225)+SUM(U$9:U225))","v":0},{"$f":"IF(ISTEXT(V224),0,SUM(V$9:V224))","v":0},0]
["2024-08-05",null,null,2,218,null,null,null,null,null,null,null,null,null,null,null,null,0,0,0,0,0,0,0,0,0,0,0,0,0,0,0,0,0,0,0,0,0,0,0,0,0,0,0.33333333333333331,0,1.6666666666666667,0,0,0,{"$f":"IF(A226=\"-\",0,SUM(AQ$9:AQ226))","v":0},{"$f":"IF(A226=\"-\",0,SUM(T$9:T226)+SUM(U$9:U226))","v":0},{"$f":"IF(ISTEXT(V225),0,SUM(V$9:V225))","v":0},0]
["2024-08-06",null,null,3,219,null,null,null,null,null,null,null,null,null,null,null,null,0,0,0,0,0,0,0,0,0,0,0,0,0,0,0,0,0,0,0,0,0,0,0,0,0,0,0.33333333333333331,0,1.6666666666666667,0,0,0,{"$f":"IF(A227=\"-\",0,SUM(AQ$9:AQ227))","v":0},{"$f":"IF(A227=\"-\",0,SUM(T$9:T227)+SUM(U$9:U227))","v":0},{"$f":"IF(ISTEXT(V226),0,SUM(V$9:V226))","v":0},0]
["2024-08-07",null,null,4,220,null,null,null,null,null,null,null,null,null,null,null,null,0,0,0,0,0,0,0,0,0,0,0,0,0,0,0,0,0,0,0,0,0,0,0,0,0,0,0.33333333333333331,0,1.6666666666666667,0,0,0,{"$f":"IF(A228=\"-\",0,SUM(AQ$9:AQ228))","v":0},{"$f":"IF(A228=\"-\",0,SUM(T$9:T228)+SUM(U$9:U228))","v":0},{"$f":"IF(ISTEXT(V227),0,SUM(V$9:V227))","v":0},0]
["2024-08-08",null,null,5,221,null,null,null,null,null,null,null,null,null,null,null,null,0,0,0,0,0,0,0,0,0,0,0,0,0,0,0,0,0,0,0,0,0,0,0,0,0,0,0.33333333333333331,0,1.6666666666666667,0,0,0,{"$f":"IF(A229=\"-\",0,SUM(AQ$9:AQ229))","v":0},{"$f":"IF(A229=\"-\",0,SUM(T$9:T229)+SUM(U$9:U229))","v":0},{"$f":"IF(ISTEXT(V228),0,SUM(V$9:V228))","v":0},0]
["2024-08-09",null,null,6,222,null,null,null,null,null,null,null,null,null,null,null,null,0,0,0,0,0,0,0,0,0,0,0,0,0,0,0,0,0,0,0,0,0,0,0,0,0,0,0.33333333333333331,0,1.6666666666666667,0,0,0,{"$f":"IF(A230=\"-\",0,SUM(AQ$9:AQ230))","v":0},{"$f":"IF(A230=\"-\",0,SUM(T$9:T230)+SUM(U$9:U230))","v":0},{"$f":"IF(ISTEXT(V229),0,SUM(V$9:V229))","v":0},0]
["2024-08-10",1,null,7,223,null,null,null,null,null,null,null,null,null,null,null,null,0,0,0,0,0,0,0,0,0,0,0,0,0,0,0,0,0,0,0,0,0,0,0,0,0,0,0.33333333333333331,0,1.6666666666666667,0,0,0,{"$f":"IF(A231=\"-\",0,SUM(AQ$9:AQ231))","v":0},{"$f":"IF(A231=\"-\",0,SUM(T$9:T231)+SUM(U$9:U231))","v":0},{"$f":"IF(ISTEXT(V230),0,SUM(V$9:V230))","v":0},0]
["2024-08-11",null,null,1,224,null,null,null,null,null,null,null,null,null,null,null,null,0,0,0,0,0,0,0,0,0,0,0,0,0,0,0,0,0,0,0,0,0,0,0,0,0,0,0.33333333333333331,0,1.6666666666666667,0,0,0,{"$f":"IF(A232=\"-\",0,SUM(AQ$9:AQ232))","v":0},{"$f":"IF(A232=\"-\",0,SUM(T$9:T232)+SUM(U$9:U232))","v":0},{"$f":"IF(ISTEXT(V231),0,SUM(V$9:V231))","v":0},0]
["2024-08-12",null,null,2,225,null,null,null,null,null,null,null,null,null,null,null,null,0,0,0,0,0,0,0,0,0,0,0,0,0,0,0,0,0,0,0,0,0,0,0,0,0,0,0.33333333333333331,0,1.6666666666666667,0,0,0,{"$f":"IF(A233=\"-\",0,SUM(AQ$9:AQ233))","v":0},{"$f":"IF(A233=\"-\",0,SUM(T$9:T233)+SUM(U$9:U233))","v":0},{"$f":"IF(ISTEXT(V232),0,SUM(V$9:V232))","v":0},0]
["2024-08-13",null,null,3,226,null,null,null,null,null,null,null,null,null,null,null,null,0,0,0,0,0,0,0,0,0,0,0,0,0,0,0,0,0,0,0,0,0,0,0,0,0,0,0.33333333333333331,0,1.6666666666666667,0,0,0,{"$f":"IF(A234=\"-\",0,SUM(AQ$9:AQ234))","v":0},{"$f":"IF(A234=\"-\",0,SUM(T$9:T234)+SUM(U$9:U234))","v":0},{"$f":"IF(ISTEXT(V233),0,SUM(V$9:V233))","v":0},0]
["2024-08-14",null,null,4,227,null,null,null,null,null,null,null,null,null,null,null,null,0,0,0,0,0,0,0,0,0,0,0,0,0,0,0,0,0,0,0,0,0,0,0,0,0,0,0.33333333333333331,0,1.6666666666666667,0,0,0,{"$f":"IF(A235=\"-\",0,SUM(AQ$9:AQ235))","v":0},{"$f":"IF(A235=\"-\",0,SUM(T$9:T235)+SUM(U$9:U235))","v":0},{"$f":"IF(ISTEXT(V234),0,SUM(V$9:V234))","v":0},0]
["2024-08-15",null,null,5,228,null,null,null,null,null,null,null,null,null,null,null,null,0,0,0,0,0,0,0,0,0,0,0,0,0,0,0,0,0,0,0,0,0,0,0,0,0,0,0.33333333333333331,0,1.6666666666666667,0,0,0,{"$f":"IF(A236=\"-\",0,SUM(AQ$9:AQ236))","v":0},{"$f":"IF(A236=\"-\",0,SUM(T$9:T236)+SUM(U$9:U236))","v":0},{"$f":"IF(ISTEXT(V235),0,SUM(V$9:V235))","v":0},0]
["2024-08-16",null,null,6,229,null,null,null,null,null,null,null,null,null,null,null,null,0,0,0,0,0,0,0,0,0,0,0,0,0,0,0,0,0,0,0,0,0,0,0,0,0,0,0.33333333333333331,0,1.6666666666666667,0,0,0,{"$f":"IF(A237=\"-\",0,SUM(AQ$9:AQ237))","v":0},{"$f":"IF(A237=\"-\",0,SUM(T$9:T237)+SUM(U$9:U237))","v":0},{"$f":"IF(ISTEXT(V236),0,SUM(V$9:V236))","v":0},0]
["2024-08-17",1,null,7,230,null,null,null,null,null,null,null,null,null,null,null,null,0,0,0,0,0,0,0,0,0,0,0,0,0,0,0,0,0,0,0,0,0,0,0,0,0,0,0.33333333333333331,0,1.6666666666666667,0,0,0,{"$f":"IF(A238=\"-\",0,SUM(AQ$9:AQ238))","v":0},{"$f":"IF(A238=\"-\",0,SUM(T$9:T238)+SUM(U$9:U238))","v":0},{"$f":"IF(ISTEXT(V237),0,SUM(V$9:V237))","v":0},0]
["2024-08-18",null,null,1,231,null,null,null,null,null,null,null,null,null,null,null,null,0,0,0,0,0,0,0,0,0,0,0,0,0,0,0,0,0,0,0,0,0,0,0,0,0,0,0.33333333333333331,0,1.6666666666666667,0,0,0,{"$f":"IF(A239=\"-\",0,SUM(AQ$9:AQ239))","v":0},{"$f":"IF(A239=\"-\",0,SUM(T$9:T239)+SUM(U$9:U239))","v":0},{"$f":"IF(ISTEXT(V238),0,SUM(V$9:V238))","v":0},0]
["2024-08-19",null,null,2,232,null,null,null,null,null,null,null,null,null,null,null,null,0,0,0,0,0,0,0,0,0,0,0,0,0,0,0,0,0,0,0,0,0,0,0,0,0,0,0.33333333333333331,0,1.6666666666666667,0,0,0,{"$f":"IF(A240=\"-\",0,SUM(AQ$9:AQ240))","v":0},{"$f":"IF(A240=\"-\",0,SUM(T$9:T240)+SUM(U$9:U240))","v":0},{"$f":"IF(ISTEXT(V239),0,SUM(V$9:V239))","v":0},0]
["2024-08-20",null,null,3,233,null,null,null,null,null,null,null,null,null,null,null,null,0,0,0,0,0,0,0,0,0,0,0,0,0,0,0,0,0,0,0,0,0,0,0,0,0,0,0.33333333333333331,0,1.6666666666666667,0,0,0,{"$f":"IF(A241=\"-\",0,SUM(AQ$9:AQ241))","v":0},{"$f":"IF(A241=\"-\",0,SUM(T$9:T241)+SUM(U$9:U241))","v":0},{"$f":"IF(ISTEXT(V240),0,SUM(V$9:V240))","v":0},0]
["2024-08-21",null,null,4,234,null,null,null,null,null,null,null,null,null,null,null,null,0,0,0,0,0,0,0,0,0,0,0,0,0,0,0,0,0,0,0,0,0,0,0,0,0,0,0.33333333333333331,0,1.6666666666666667,0,0,0,{"$f":"IF(A242=\"-\",0,SUM(AQ$9:AQ242))","v":0},{"$f":"IF(A242=\"-\",0,SUM(T$9:T242)+SUM(U$9:U242))","v":0},{"$f":"IF(ISTEXT(V241),0,SUM(V$9:V241))","v":0},0]
["2024-08-22",null,null,5,235,null,null,null,null,null,null,null,null,null,null,null,null,0,0,0,0,0,0,0,0,0,0,0,0,0,0,0,0,0,0,0,0,0,0,0,0,0,0,0.33333333333333331,0,1.6666666666666667,0,0,0,{"$f":"IF(A243=\"-\",0,SUM(AQ$9:AQ243))","v":0},{"$f":"IF(A243=\"-\",0,SUM(T$9:T243)+SUM(U$9:U243))","v":0},{"$f":"IF(ISTEXT(V242),0,SUM(V$9:V242))","v":0},0]
["2024-08-23",null,null,6,236,null,null,null,null,null,null,null,null,null,null,null,null,0,0,0,0,0,0,0,0,0,0,0,0,0,0,0,0,0,0,0,0,0,0,0,0,0,0,0.33333333333333331,0,1.6666666666666667,0,0,0,{"$f":"IF(A244=\"-\",0,SUM(AQ$9:AQ244))","v":0},{"$f":"IF(A244=\"-\",0,SUM(T$9:T244)+SUM(U$9:U244))","v":0},{"$f":"IF(ISTEXT(V243),0,SUM(V$9:V243))","v":0},0]
["2024-08-24",1,null,7,237,null,null,null,null,null,null,null,null,null,null,null,null,0,0,0,0,0,0,0,0,0,0,0,0,0,0,0,0,0,0,0,0,0,0,0,0,0,0,0.33333333333333331,0,1.6666666666666667,0,0,0,{"$f":"IF(A245=\"-\",0,SUM(AQ$9:AQ245))","v":0},{"$f":"IF(A245=\"-\",0,SUM(T$9:T245)+SUM(U$9:U245))","v":0},{"$f":"IF(ISTEXT(V244),0,SUM(V$9:V244))","v":0},0]
["2024-08-25",null,null,1,238,null,null,null,null,null,null,null,null,null,null,null,null,0,0,0,0,0,0,0,0,0,0,0,0,0,0,0,0,0,0,0,0,0,0,0,0,0,0,0.33333333333333331,0,1.6666666666666667,0,0,0,{"$f":"IF(A246=\"-\",0,SUM(AQ$9:AQ246))","v":0},{"$f":"IF(A246=\"-\",0,SUM(T$9:T246)+SUM(U$9:U246))","v":0},{"$f":"IF(ISTEXT(V245),0,SUM(V$9:V245))","v":0},0]
["2024-08-26",null,null,2,239,null,null,null,null,null,null,null,null,null,null,null,null,0,0,0,0,0,0,0,0,0,0,0,0,0,0,0,0,0,0,0,0,0,0,0,0,0,0,0.33333333333333331,0,1.6666666666666667,0,0,0,{"$f":"IF(A247=\"-\",0,SUM(AQ$9:AQ247))","v":0},{"$f":"IF(A247=\"-\",0,SUM(T$9:T247)+SUM(U$9:U247))","v":0},{"$f":"IF(ISTEXT(V246),0,SUM(V$9:V246))","v":0},0]
["2024-08-27",null,null,3,240,null,null,null,null,null,null,null,null,null,null,null,null,0,0,0,0,0,0,0,0,0,0,0,0,0,0,0,0,0,0,0,0,0,0,0,0,0,0,0.33333333333333331,0,1.6666666666666667,0,0,0,{"$f":"IF(A248=\"-\",0,SUM(AQ$9:AQ248))","v":0},{"$f":"IF(A248=\"-\",0,SUM(T$9:T248)+SUM(U$9:U248))","v":0},{"$f":"IF(ISTEXT(V247),0,SUM(V$9:V247))","v":0},0]
["2024-08-28",null,null,4,241,null,null,null,null,null,null,null,null,null,null,null,null,0,0,0,0,0,0,0,0,0,0,0,0,0,0,0,0,0,0,0,0,0,0,0,0,0,0,0.33333333333333331,0,1.6666666666666667,0,0,0,{"$f":"IF(A249=\"-\",0,SUM(AQ$9:AQ249))","v":0},{"$f":"IF(A249=\"-\",0,SUM(T$9:T249)+SUM(U$9:U249))","v":0},{"$f":"IF(ISTEXT(V248),0,SUM(V$9:V248))","v":0},0]
["2024-08-29",null,null,5,242,null,null,null,null,null,null,null,null,null,null,null,null,0,0,0,0,0,0,0,0,0,0,0,0,0,0,0,0,0,0,0,0,0,0,0,0,0,0,0.33333333333333331,0,1.6666666666666667,0,0,0,{"$f":"IF(A250=\"-\",0,SUM(AQ$9:AQ250))","v":0},{"$f":"IF(A250=\"-\",0,SUM(T$9:T250)+SUM(U$9:U250))","v":0},{"$f":"IF(ISTEXT(V249),0,SUM(V$9:V249))","v":0},0]
["2024-08-30",null,null,6,243,null,null,null,null,null,null,null,null,null,null,null,null,0,0,0,0,0,0,0,0,0,0,0,0,0,0,0,0,0,0,0,0,0,0,0,0,0,0,0.33333333333333331,0,1.6666666666666667,0,0,0,{"$f":"IF(A251=\"-\",0,SUM(AQ$9:AQ251))","v":0},{"$f":"IF(A251=\"-\",0,SUM(T$9:T251)+SUM(U$9:U251))","v":0},{"$f":"IF(ISTEXT(V250),0,SUM(V$9:V250))","v":0},0]
["2024-08-31",1,8,7,244,null,null,null,null,null,null,null,null,null,null,null,null,0,0,0,0,0,0,0,0,0,0,0,0,0,0,0,0,0,0,0,0,0,0,0,0,0,0,0.33333333333333331,0,1.6666666666666667,0,0,0,{"$f":"IF(A252=\"-\",0,SUM(AQ$9:AQ252))","v":0},{"$f":"IF(A252=\"-\",0,SUM(T$9:T252)+SUM(U$9:U252))","v":0},{"$f":"IF(ISTEXT(V251),0,SUM(V$9:V251))","v":0},0]
["2024-09-01",null,null,1,245,null,null,null,null,null,null,null,null,null,null,null,null,0,0,0,0,0,0,0,0,0,0,0,0,0,0,0,0,0,0,0,0,0,0,0,0,0,0,0.33333333333333331,0,1.6666666666666667,0,0,0,{"$f":"IF(A253=\"-\",0,SUM(AQ$9:AQ253))","v":0},{"$f":"IF(A253=\"-\",0,SUM(T$9:T253)+SUM(U$9:U253))","v":0},{"$f":"IF(ISTEXT(V252),0,SUM(V$9:V252))","v":0},0]
["2024-09-02",null,null,2,246,null,null,null,null,null,null,null,null,null,null,null,null,0,0,0,0,0,0,0,0,0,0,0,0,0,0,0,0,0,0,0,0,0,0,0,0,0,0,0.33333333333333331,0,1.6666666666666667,0,0,0,{"$f":"IF(A254=\"-\",0,SUM(AQ$9:AQ254))","v":0},{"$f":"IF(A254=\"-\",0,SUM(T$9:T254)+SUM(U$9:U254))","v":0},{"$f":"IF(ISTEXT(V253),0,SUM(V$9:V253))","v":0},0]
["2024-09-03",null,null,3,247,null,null,null,null,null,null,null,null,null,null,null,null,0,0,0,0,0,0,0,0,0,0,0,0,0,0,0,0,0,0,0,0,0,0,0,0,0,0,0.33333333333333331,0,1.6666666666666667,0,0,0,{"$f":"IF(A255=\"-\",0,SUM(AQ$9:AQ255))","v":0},{"$f":"IF(A255=\"-\",0,SUM(T$9:T255)+SUM(U$9:U255))","v":0},{"$f":"IF(ISTEXT(V254),0,SUM(V$9:V254))","v":0},0]
["2024-09-04",null,null,4,248,null,null,null,null,null,null,null,null,null,null,null,null,0,0,0,0,0,0,0,0,0,0,0,0,0,0,0,0,0,0,0,0,0,0,0,0,0,0,0.33333333333333331,0,1.6666666666666667,0,0,0,{"$f":"IF(A256=\"-\",0,SUM(AQ$9:AQ256))","v":0},{"$f":"IF(A256=\"-\",0,SUM(T$9:T256)+SUM(U$9:U256))","v":0},{"$f":"IF(ISTEXT(V255),0,SUM(V$9:V255))","v":0},0]
["2024-09-05",null,null,5,249,null,null,null,null,null,null,null,null,null,null,null,null,0,0,0,0,0,0,0,0,0,0,0,0,0,0,0,0,0,0,0,0,0,0,0,0,0,0,0.33333333333333331,0,1.6666666666666667,0,0,0,{"$f":"IF(A257=\"-\",0,SUM(AQ$9:AQ257))","v":0},{"$f":"IF(A257=\"-\",0,SUM(T$9:T257)+SUM(U$9:U257))","v":0},{"$f":"IF(ISTEXT(V256),0,SUM(V$9:V256))","v":0},0]
["2024-09-06",null,null,6,250,null,null,null,null,null,null,null,null,null,null,null,null,0,0,0,0,0,0,0,0,0,0,0,0,0,0,0,0,0,0,0,0,0,0,0,0,0,0,0.33333333333333331,0,1.6666666666666667,0,0,0,{"$f":"IF(A258=\"-\",0,SUM(AQ$9:AQ258))","v":0},{"$f":"IF(A258=\"-\",0,SUM(T$9:T258)+SUM(U$9:U258))","v":0},{"$f":"IF(ISTEXT(V257),0,SUM(V$9:V257))","v":0},0]
["2024-09-07",1,null,7,251,null,null,null,null,null,null,null,null,null,null,null,null,0,0,0,0,0,0,0,0,0,0,0,0,0,0,0,0,0,0,0,0,0,0,0,0,0,0,0.33333333333333331,0,1.6666666666666667,0,0,0,{"$f":"IF(A259=\"-\",0,SUM(AQ$9:AQ259))","v":0},{"$f":"IF(A259=\"-\",0,SUM(T$9:T259)+SUM(U$9:U259))","v":0},{"$f":"IF(ISTEXT(V258),0,SUM(V$9:V258))","v":0},0]
["2024-09-08",null,null,1,252,null,null,null,null,null,null,null,null,null,null,null,null,0,0,0,0,0,0,0,0,0,0,0,0,0,0,0,0,0,0,0,0,0,0,0,0,0,0,0.33333333333333331,0,1.6666666666666667,0,0,0,{"$f":"IF(A260=\"-\",0,SUM(AQ$9:AQ260))","v":0},{"$f":"IF(A260=\"-\",0,SUM(T$9:T260)+SUM(U$9:U260))","v":0},{"$f":"IF(ISTEXT(V259),0,SUM(V$9:V259))","v":0},0]
["2024-09-09",null,null,2,253,null,null,null,null,null,null,null,null,null,null,null,null,0,0,0,0,0,0,0,0,0,0,0,0,0,0,0,0,0,0,0,0,0,0,0,0,0,0,0.33333333333333331,0,1.6666666666666667,0,0,0,{"$f":"IF(A261=\"-\",0,SUM(AQ$9:AQ261))","v":0},{"$f":"IF(A261=\"-\",0,SUM(T$9:T261)+SUM(U$9:U261))","v":0},{"$f":"IF(ISTEXT(V260),0,SUM(V$9:V260))","v":0},0]
["2024-09-10",null,null,3,254,null,null,null,null,null,null,null,null,null,null,null,null,0,0,0,0,0,0,0,0,0,0,0,0,0,0,0,0,0,0,0,0,0,0,0,0,0,0,0.33333333333333331,0,1.6666666666666667,0,0,0,{"$f":"IF(A262=\"-\",0,SUM(AQ$9:AQ262))","v":0},{"$f":"IF(A262=\"-\",0,SUM(T$9:T262)+SUM(U$9:U262))","v":0},{"$f":"IF(ISTEXT(V261),0,SUM(V$9:V261))","v":0},0]
["2024-09-11",null,null,4,255,null,null,null,null,null,null,null,null,null,null,null,null,0,0,0,0,0,0,0,0,0,0,0,0,0,0,0,0,0,0,0,0,0,0,0,0,0,0,0.33333333333333331,0,1.6666666666666667,0,0,0,{"$f":"IF(A263=\"-\",0,SUM(AQ$9:AQ263))","v":0},{"$f":"IF(A263=\"-\",0,SUM(T$9:T263)+SUM(U$9:U263))","v":0},{"$f":"IF(ISTEXT(V262),0,SUM(V$9:V262))","v":0},0]
["2024-09-12",null,null,5,256,null,null,null,null,null,null,null,null,null,null,null,null,0,0,0,0,0,0,0,0,0,0,0,0,0,0,0,0,0,0,0,0,0,0,0,0,0,0,0.33333333333333331,0,1.6666666666666667,0,0,0,{"$f":"IF(A264=\"-\",0,SUM(AQ$9:AQ264))","v":0},{"$f":"IF(A264=\"-\",0,SUM(T$9:T264)+SUM(U$9:U264))","v":0},{"$f":"IF(ISTEXT(V263),0,SUM(V$9:V263))","v":0},0]
["2024-09-13",null,null,6,257,null,null,null,null,null,null,null,null,null,null,null,null,0,{"$f":"IF(AND(F265=\"法定\",H265<>\"振出\"),SUM(AL265:AN265),0)+IF(F266=\"法定\",AO265+AP265,0)","v":0},0,0,0,0,{"$f":"_xlfn.IFS(AND(F265=\"所定\",H265<>\"振出\"),0,BA265>60/24,W265-MIN(W265,BA265-60/24),TRUE,W265)","v":0},{"$f":"_xlfn.IFS(OR(F265<>\"所定\",H265=\"振出\"),0,BA265>60/24,W265-MIN(W265,BA265-60/24),TRUE,W265)","v":0},{"$f":"IF(AND(F265=\"所定\",H265<>\"振出\"),0,W265-X265)","v":0},{"$f":"IF(OR(F265<>\"所定\",H265=\"振出\"),0,W265-Y265)","v":0},0,{"$f":"IF(G265=\"\",0,MIN(AG265,G265-Q265))","v":0},{"$f":"IF(H265=\"振出\",MIN(AG265,I265-Q265),0)","v":0},0,{"$f":"_xlfn.LET(_xlpm.値,IF(AND(F265=\"所定\",H265<>\"振出\"),MAX(0,AG265-AC265),0),IF(_xlpm.値<TIME(0,0,1),0,_xlpm.値))","v":0},0,{"$f":"_xlfn.IFS(H265=\"振休\",0,R265<G265,MAX(0,G265-R265-Q265),TRUE,0)","v":0},{"$f":"IF(H265=\"振休\",MAX(0,G265-AG265-Q265),0)","v":0},{"$f":"_xlfn.LET(_xlpm.値,IF(G265=\"\",0,G265-Q265-AC265-AH265-AI265),IF(_xlpm.値<TIME(0,0,1),0,_xlpm.値))","v":0},{"$f":"_xlfn.LET(_xlpm.値,MAX(0,G265-Q265-R265)+AJ265,IF(_xlpm.値<TIME(0,0,1),0,_xlpm.値))","v":0},{"$f":"IF(J265=\"\",0,MAX(0,MIN(5/24,K265)-MAX(0,J265)-L265))","v":0},{"$f":"IF(J265=\"\",0,MAX(0,MIN(22/24,K265)-MAX(5/24,J265)-M265))","v":0},{"$f":"IF(J265=\"\",0,MAX(0,MIN(24/24,K265)-MAX(22/24,J265)-N265))","v":0},{"$f":"IF(J265=\"\",0,MAX(0,MIN(29/24,K265)-MAX(24/24,J265)-O265))","v":0},{"$f":"IF(J265=\"\",0,MAX(0,MIN(48/24,K265)-MAX(29/24,J265)-P265))","v":0},{"$f":"R265-S265","v":0},{"$f":"_xlfn.IFS(A265=\"-\",0,H265=\"振出\",IF($N$2=\"原則\",8/24,MAX(I265,8/24)),F265=\"法定\",0,TRUE,IF($N$2=\"原則\",8/24,MAX(G265,8/24)))","v":0.33333333333333331},{"$f":"_xlfn.IFS(A265=\"-\",0,B265=\"\",AS266,TRUE,SUM(OFFSET(G265,D265*-1+1,0,D265,1)))","v":0},{"$f":"_xlfn.IFS(A265=\"-\",0,B265=\"\",AT266,$N$2=\"原則\",$H$4/24,TRUE,MAX(AS265,$H$4/24*D265/7))","v":1.6666666666666667},{"$f":"IF(A265=\"-\",0,SUM(OFFSET(AQ265,D265*-1+1,0,D265,1)))","v":0},{"$f":"IF(A265=\"-\",0,SUM(OFFSET(T265,$D265*-1+1,0,D265,1)))","v":0},{"$f":"IF(OR($D265=1,A265=\"-\"),0,SUM(OFFSET(U265,D265*-1+1,0,D265-1,1)))","v":0},{"$f":"IF(A265=\"-\",0,SUM(AQ$9:AQ265))","v":0},{"$f":"IF(A265=\"-\",0,SUM(T$9:T265)+SUM(U$9:U265))","v":0},{"$f":"IF(ISTEXT(V264),0,SUM(V$9:V264))","v":0},{"$f":"IF(C264<>\"\",W265,BA264+W265)","v":0}]
["2024-09-14",1,null,7,258,null,null,null,null,null,null,null,null,null,null,null,null,0,0,{"$f":"_xlfn.LET(_xlpm.値,MAX(0,AQ266-IF(AR266=0,8/24,AR266)),IF(_xlpm.値<TIME(0,0,1),0,_xlpm.値))","v":0},{"$f":"_xlfn.LET(_xlpm.値,IF($A266=\"-\",0,MAX(0,AU266-AV266-AW266-AT266)),IF(_xlpm.値<TIME(0,0,1),0,_xlpm.値))","v":0},{"$f":"MAX(0,AX266-AY266-AZ266-$N$4)","v":0},{"$f":"SUM(T266,U266,V266)","v":0},0,0,0,0,{"$f":"SUM(AL266,AN266:AO266)","v":0},0,0,{"$f":"_xlfn.LET(_xlpm.値,AG266-AF266-AC266-AD266,IF(_xlpm.値<TIME(0,0,1),0,_xlpm.値))","v":0},0,{"$f":"_xlfn.LET(_xlpm.値,MAX(0,AQ266-W266),IF(_xlpm.値<TIME(0,0,1),0,_xlpm.値))","v":0},0,0,0,0,0,0,0,0,0,0,0.33333333333333331,0,1.6666666666666667,0,0,0,{"$f":"IF(A266=\"-\",0,SUM(AQ$9:AQ266))","v":0},{"$f":"IF(A266=\"-\",0,SUM(T$9:T266)+SUM(U$9:U266))","v":0},{"$f":"IF(ISTEXT(V265),0,SUM(V$9:V265))","v":0},0]
["2024-09-15",null,null,1,259,null,null,null,null,null,null,null,null,null,null,null,null,0,0,0,0,0,0,0,0,0,0,0,0,0,0,0,0,0,0,0,0,0,0,0,0,0,0,0.33333333333333331,0,1.6666666666666667,0,0,0,{"$f":"IF(A267=\"-\",0,SUM(AQ$9:AQ267))","v":0},{"$f":"IF(A267=\"-\",0,SUM(T$9:T267)+SUM(U$9:U267))","v":0},{"$f":"IF(ISTEXT(V266),0,SUM(V$9:V266))","v":0},0]
["2024-09-16",null,null,2,260,null,null,null,null,null,null,null,null,null,null,null,null,0,0,0,0,0,0,0,0,0,0,0,0,0,0,0,0,0,0,0,0,0,0,0,0,0,0,0.33333333333333331,0,1.6666666666666667,0,0,0,{"$f":"IF(A268=\"-\",0,SUM(AQ$9:AQ268))","v":0},{"$f":"IF(A268=\"-\",0,SUM(T$9:T268)+SUM(U$9:U268))","v":0},{"$f":"IF(ISTEXT(V267),0,SUM(V$9:V267))","v":0},0]
["2024-09-17",null,null,3,261,null,null,null,null,null,null,null,null,null,null,null,null,0,0,0,0,0,0,0,0,0,0,0,0,0,0,0,0,0,0,0,0,0,0,0,0,0,0,0.33333333333333331,0,1.6666666666666667,0,0,0,{"$f":"IF(A269=\"-\",0,SUM(AQ$9:AQ269))","v":0},{"$f":"IF(A269=\"-\",0,SUM(T$9:T269)+SUM(U$9:U269))","v":0},{"$f":"IF(ISTEXT(V268),0,SUM(V$9:V268))","v":0},0]
["2024-09-18",null,null,4,262,null,null,null,null,null,null,null,null,null,null,null,null,{"$f":"K270-J270-SUM(L270:P270)","v":0},0,0,0,0,0,0,0,0,0,0,0,0,0,0,0,0,0,0,0,0,0,0,0,0,0,0.33333333333333331,0,1.6666666666666667,0,0,0,{"$f":"IF(A270=\"-\",0,SUM(AQ$9:AQ270))","v":0},{"$f":"IF(A270=\"-\",0,SUM(T$9:T270)+SUM(U$9:U270))","v":0},{"$f":"IF(ISTEXT(V269),0,SUM(V$9:V269))","v":0},0]
["2024-09-19",null,null,5,263,null,null,null,null,null,null,null,null,null,null,null,null,0,0,0,0,0,0,0,0,0,0,0,0,0,0,0,0,0,0,0,0,0,0,0,0,0,0,0.33333333333333331,0,1.6666666666666667,0,0,0,{"$f":"IF(A271=\"-\",0,SUM(AQ$9:AQ271))","v":0},{"$f":"IF(A271=\"-\",0,SUM(T$9:T271)+SUM(U$9:U271))","v":0},{"$f":"IF(ISTEXT(V270),0,SUM(V$9:V270))","v":0},0]
["2024-09-20",null,null,6,264,null,null,null,null,null,null,null,null,null,null,null,null,0,0,0,0,0,0,0,0,0,0,0,0,0,0,0,0,0,0,0,0,0,0,0,0,0,0,0.33333333333333331,0,1.6666666666666667,0,0,0,{"$f":"IF(A272=\"-\",0,SUM(AQ$9:AQ272))","v":0},{"$f":"IF(A272=\"-\",0,SUM(T$9:T272)+SUM(U$9:U272))","v":0},{"$f":"IF(ISTEXT(V271),0,SUM(V$9:V271))","v":0},0]
["2024-09-21",1,null,7,265,null,null,null,null,null,null,null,null,null,null,null,null,0,0,0,0,0,0,0,0,0,0,0,0,0,0,0,0,0,0,0,0,0,0,0,0,0,0,0.33333333333333331,0,1.6666666666666667,0,0,0,{"$f":"IF(A273=\"-\",0,SUM(AQ$9:AQ273))","v":0},{"$f":"IF(A273=\"-\",0,SUM(T$9:T273)+SUM(U$9:U273))","v":0},{"$f":"IF(ISTEXT(V272),0,SUM(V$9:V272))","v":0},0]
["2024-09-22",null,null,1,266,null,null,null,null,null,null,null,null,null,null,null,null,0,0,0,0,0,0,0,0,0,0,0,0,0,0,0,0,0,0,0,0,0,0,0,0,0,0,0.33333333333333331,0,1.6666666666666667,0,0,0,{"$f":"IF(A274=\"-\",0,SUM(AQ$9:AQ274))","v":0},{"$f":"IF(A274=\"-\",0,SUM(T$9:T274)+SUM(U$9:U274))","v":0},{"$f":"IF(ISTEXT(V273),0,SUM(V$9:V273))","v":0},0]
["2024-09-23",null,null,2,267,null,null,null,null,null,null,null,null,null,null,null,null,0,0,0,0,0,0,0,0,0,0,0,0,0,0,0,0,0,0,0,0,0,0,0,0,0,0,0.33333333333333331,0,1.6666666666666667,0,0,0,{"$f":"IF(A275=\"-\",0,SUM(AQ$9:AQ275))","v":0},{"$f":"IF(A275=\"-\",0,SUM(T$9:T275)+SUM(U$9:U275))","v":0},{"$f":"IF(ISTEXT(V274),0,SUM(V$9:V274))","v":0},0]
["2024-09-24",null,null,3,268,null,null,null,null,null,null,null,null,null,null,null,null,0,0,0,0,0,0,0,0,0,0,0,0,0,0,0,0,0,0,0,0,0,0,0,0,0,0,0.33333333333333331,0,1.6666666666666667,0,0,0,{"$f":"IF(A276=\"-\",0,SUM(AQ$9:AQ276))","v":0},{"$f":"IF(A276=\"-\",0,SUM(T$9:T276)+SUM(U$9:U276))","v":0},{"$f":"IF(ISTEXT(V275),0,SUM(V$9:V275))","v":0},0]
["2024-09-25",null,null,4,269,null,null,null,null,null,null,null,null,null,null,null,null,0,0,0,0,0,0,0,0,0,0,0,0,0,0,0,0,0,0,0,0,0,0,0,0,0,0,0.33333333333333331,0,1.6666666666666667,0,0,0,{"$f":"IF(A277=\"-\",0,SUM(AQ$9:AQ277))","v":0},{"$f":"IF(A277=\"-\",0,SUM(T$9:T277)+SUM(U$9:U277))","v":0},{"$f":"IF(ISTEXT(V276),0,SUM(V$9:V276))","v":0},0]
["2024-09-26",null,null,5,270,null,null,null,null,null,null,null,null,null,null,null,null,0,0,0,0,0,0,0,0,0,0,0,0,0,0,0,0,0,0,0,0,0,0,0,0,0,0,0.33333333333333331,0,1.6666666666666667,0,0,0,{"$f":"IF(A278=\"-\",0,SUM(AQ$9:AQ278))","v":0},{"$f":"IF(A278=\"-\",0,SUM(T$9:T278)+SUM(U$9:U278))","v":0},{"$f":"IF(ISTEXT(V277),0,SUM(V$9:V277))","v":0},0]
["2024-09-27",null,null,6,271,null,null,null,null,null,null,null,null,null,null,null,null,0,0,0,0,0,0,0,0,0,0,0,0,0,0,0,0,0,0,0,0,0,0,0,0,0,0,0.33333333333333331,0,1.6666666666666667,0,0,0,{"$f":"IF(A279=\"-\",0,SUM(AQ$9:AQ279))","v":0},{"$f":"IF(A279=\"-\",0,SUM(T$9:T279)+SUM(U$9:U279))","v":0},{"$f":"IF(ISTEXT(V278),0,SUM(V$9:V278))","v":0},0]
["2024-09-28",1,null,7,272,null,null,null,null,null,null,null,null,null,null,null,null,0,0,0,0,0,0,0,0,0,0,0,0,0,0,0,0,0,0,0,0,0,0,0,0,0,0,0.33333333333333331,0,1.6666666666666667,0,0,0,{"$f":"IF(A280=\"-\",0,SUM(AQ$9:AQ280))","v":0},{"$f":"IF(A280=\"-\",0,SUM(T$9:T280)+SUM(U$9:U280))","v":0},{"$f":"IF(ISTEXT(V279),0,SUM(V$9:V279))","v":0},0]
["2024-09-29",null,null,1,273,null,null,null,null,null,null,null,null,null,null,null,null,0,0,0,0,0,0,0,0,0,0,0,0,0,0,0,0,0,0,0,0,0,0,0,0,0,0,0.33333333333333331,0,1.6666666666666667,0,0,0,{"$f":"IF(A281=\"-\",0,SUM(AQ$9:AQ281))","v":0},{"$f":"IF(A281=\"-\",0,SUM(T$9:T281)+SUM(U$9:U281))","v":0},{"$f":"IF(ISTEXT(V280),0,SUM(V$9:V280))","v":0},0]
["2024-09-30",null,9,2,274,null,null,null,null,null,null,null,null,null,null,null,null,0,0,0,0,0,0,0,0,0,0,0,0,0,0,0,0,0,0,0,0,0,0,0,0,0,0,0.33333333333333331,0,1.6666666666666667,0,0,0,{"$f":"IF(A282=\"-\",0,SUM(AQ$9:AQ282))","v":0},{"$f":"IF(A282=\"-\",0,SUM(T$9:T282)+SUM(U$9:U282))","v":0},{"$f":"IF(ISTEXT(V281),0,SUM(V$9:V281))","v":0},0]
["2024-10-01",null,null,3,275,null,null,null,null,null,null,null,null,null,null,null,null,0,0,0,0,0,0,0,0,0,0,0,0,0,0,0,0,0,0,0,0,0,0,0,0,0,0,0.33333333333333331,0,1.6666666666666667,0,0,0,{"$f":"IF(A283=\"-\",0,SUM(AQ$9:AQ283))","v":0},{"$f":"IF(A283=\"-\",0,SUM(T$9:T283)+SUM(U$9:U283))","v":0},{"$f":"IF(ISTEXT(V282),0,SUM(V$9:V282))","v":0},0]
["2024-10-02",null,null,4,276,null,null,null,null,null,null,null,null,null,null,null,null,0,0,0,0,0,0,0,0,0,0,0,0,0,0,0,0,0,0,0,0,0,0,0,0,0,0,0.33333333333333331,0,1.6666666666666667,0,0,0,{"$f":"IF(A284=\"-\",0,SUM(AQ$9:AQ284))","v":0},{"$f":"IF(A284=\"-\",0,SUM(T$9:T284)+SUM(U$9:U284))","v":0},{"$f":"IF(ISTEXT(V283),0,SUM(V$9:V283))","v":0},0]
["2024-10-03",null,null,5,277,null,null,null,null,null,null,null,null,null,null,null,null,0,0,0,0,0,0,0,0,0,0,0,0,0,0,0,0,0,0,0,0,0,0,0,0,0,0,0.33333333333333331,0,1.6666666666666667,0,0,0,{"$f":"IF(A285=\"-\",0,SUM(AQ$9:AQ285))","v":0},{"$f":"IF(A285=\"-\",0,SUM(T$9:T285)+SUM(U$9:U285))","v":0},{"$f":"IF(ISTEXT(V284),0,SUM(V$9:V284))","v":0},0]
["2024-10-04",null,null,6,278,null,null,null,null,null,null,null,null,null,null,null,null,0,0,0,0,0,0,0,0,0,0,0,0,0,0,0,0,0,0,0,0,0,0,0,0,0,0,0.33333333333333331,0,1.6666666666666667,0,0,0,{"$f":"IF(A286=\"-\",0,SUM(AQ$9:AQ286))","v":0},{"$f":"IF(A286=\"-\",0,SUM(T$9:T286)+SUM(U$9:U286))","v":0},{"$f":"IF(ISTEXT(V285),0,SUM(V$9:V285))","v":0},0]
["2024-10-05",1,null,7,279,null,null,null,null,null,null,null,null,null,null,null,null,0,0,0,0,0,0,0,0,0,0,0,0,0,0,0,0,0,0,0,0,0,0,0,0,0,0,0.33333333333333331,0,1.6666666666666667,0,0,0,{"$f":"IF(A287=\"-\",0,SUM(AQ$9:AQ287))","v":0},{"$f":"IF(A287=\"-\",0,SUM(T$9:T287)+SUM(U$9:U287))","v":0},{"$f":"IF(ISTEXT(V286),0,SUM(V$9:V286))","v":0},0]
["2024-10-06",null,null,1,280,null,null,null,null,null,null,null,null,null,null,null,null,0,0,0,0,0,0,0,0,0,0,0,0,0,0,0,0,0,0,0,0,0,0,0,0,0,0,0.33333333333333331,0,1.6666666666666667,0,0,0,{"$f":"IF(A288=\"-\",0,SUM(AQ$9:AQ288))","v":0},{"$f":"IF(A288=\"-\",0,SUM(T$9:T288)+SUM(U$9:U288))","v":0},{"$f":"IF(ISTEXT(V287),0,SUM(V$9:V287))","v":0},0]
["2024-10-07",null,null,2,281,null,null,null,null,null,null,null,null,null,null,null,null,0,0,0,0,0,0,0,0,0,0,0,0,0,0,0,0,0,0,0,0,0,0,0,0,0,0,0.33333333333333331,0,1.6666666666666667,0,0,0,{"$f":"IF(A289=\"-\",0,SUM(AQ$9:AQ289))","v":0},{"$f":"IF(A289=\"-\",0,SUM(T$9:T289)+SUM(U$9:U289))","v":0},{"$f":"IF(ISTEXT(V288),0,SUM(V$9:V288))","v":0},0]
["2024-10-08",null,null,3,282,null,null,null,null,null,null,null,null,null,null,null,null,0,0,0,0,0,0,0,0,0,0,0,0,0,0,0,0,0,0,0,0,0,0,0,0,0,0,0.33333333333333331,0,1.6666666666666667,0,0,0,{"$f":"IF(A290=\"-\",0,SUM(AQ$9:AQ290))","v":0},{"$f":"IF(A290=\"-\",0,SUM(T$9:T290)+SUM(U$9:U290))","v":0},{"$f":"IF(ISTEXT(V289),0,SUM(V$9:V289))","v":0},0]
["2024-10-09",null,null,4,283,null,null,null,null,null,null,null,null,null,null,null,null,0,0,0,0,0,0,0,0,0,0,0,0,0,0,0,0,0,0,0,0,0,0,0,0,0,0,0.33333333333333331,0,1.6666666666666667,0,0,0,{"$f":"IF(A291=\"-\",0,SUM(AQ$9:AQ291))","v":0},{"$f":"IF(A291=\"-\",0,SUM(T$9:T291)+SUM(U$9:U291))","v":0},{"$f":"IF(ISTEXT(V290),0,SUM(V$9:V290))","v":0},0]
["2024-10-10",null,null,5,284,null,null,null,null,null,null,null,null,null,null,null,null,0,0,0,0,0,0,0,0,0,0,0,0,0,0,0,0,0,0,0,0,0,0,0,0,0,0,0.33333333333333331,0,1.6666666666666667,0,0,0,{"$f":"IF(A292=\"-\",0,SUM(AQ$9:AQ292))","v":0},{"$f":"IF(A292=\"-\",0,SUM(T$9:T292)+SUM(U$9:U292))","v":0},{"$f":"IF(ISTEXT(V291),0,SUM(V$9:V291))","v":0},0]
["2024-10-11",null,null,6,285,null,null,null,null,null,null,null,null,null,null,null,null,0,0,0,0,0,0,0,0,0,0,0,0,0,0,0,0,0,0,0,0,0,0,0,0,0,0,0.33333333333333331,0,1.6666666666666667,0,0,0,{"$f":"IF(A293=\"-\",0,SUM(AQ$9:AQ293))","v":0},{"$f":"IF(A293=\"-\",0,SUM(T$9:T293)+SUM(U$9:U293))","v":0},{"$f":"IF(ISTEXT(V292),0,SUM(V$9:V292))","v":0},0]
["2024-10-12",1,null,7,286,null,null,null,null,null,null,null,null,null,null,null,null,0,0,0,0,0,0,0,0,0,0,0,0,0,0,0,0,0,0,0,0,0,0,0,0,0,0,0.33333333333333331,0,1.6666666666666667,0,0,0,{"$f":"IF(A294=\"-\",0,SUM(AQ$9:AQ294))","v":0},{"$f":"IF(A294=\"-\",0,SUM(T$9:T294)+SUM(U$9:U294))","v":0},{"$f":"IF(ISTEXT(V293),0,SUM(V$9:V293))","v":0},0]
["2024-10-13",null,null,1,287,null,null,null,null,null,null,null,null,null,null,null,null,0,0,0,0,0,0,0,0,0,0,0,0,0,0,0,0,0,0,0,0,0,0,0,0,0,0,0.33333333333333331,0,1.6666666666666667,0,0,0,{"$f":"IF(A295=\"-\",0,SUM(AQ$9:AQ295))","v":0},{"$f":"IF(A295=\"-\",0,SUM(T$9:T295)+SUM(U$9:U295))","v":0},{"$f":"IF(ISTEXT(V294),0,SUM(V$9:V294))","v":0},0]
["2024-10-14",null,null,2,288,null,null,null,null,null,null,null,null,null,null,null,null,0,0,0,0,0,0,0,0,0,0,0,0,0,0,0,0,0,0,0,0,0,0,0,0,0,0,0.33333333333333331,0,1.6666666666666667,0,0,0,{"$f":"IF(A296=\"-\",0,SUM(AQ$9:AQ296))","v":0},{"$f":"IF(A296=\"-\",0,SUM(T$9:T296)+SUM(U$9:U296))","v":0},{"$f":"IF(ISTEXT(V295),0,SUM(V$9:V295))","v":0},0]
["2024-10-15",null,null,3,289,null,null,null,null,null,null,null,null,null,null,null,null,0,0,0,0,0,0,0,0,0,0,0,0,0,0,0,0,0,0,0,0,0,0,0,0,0,0,0.33333333333333331,0,1.6666666666666667,0,0,0,{"$f":"IF(A297=\"-\",0,SUM(AQ$9:AQ297))","v":0},{"$f":"IF(A297=\"-\",0,SUM(T$9:T297)+SUM(U$9:U297))","v":0},{"$f":"IF(ISTEXT(V296),0,SUM(V$9:V296))","v":0},0]
["2024-10-16",null,null,4,290,null,null,null,null,null,null,null,null,null,null,null,null,0,0,0,0,0,0,0,0,0,0,0,0,0,0,0,0,0,0,0,0,0,0,0,0,0,0,0.33333333333333331,0,1.6666666666666667,0,0,0,{"$f":"IF(A298=\"-\",0,SUM(AQ$9:AQ298))","v":0},{"$f":"IF(A298=\"-\",0,SUM(T$9:T298)+SUM(U$9:U298))","v":0},{"$f":"IF(ISTEXT(V297),0,SUM(V$9:V297))","v":0},0]
["2024-10-17",null,null,5,291,null,null,null,null,null,null,null,null,null,null,null,null,0,0,0,0,0,0,0,0,0,0,0,0,0,0,0,0,0,0,0,0,0,0,0,0,0,0,0.33333333333333331,0,1.6666666666666667,0,0,0,{"$f":"IF(A299=\"-\",0,SUM(AQ$9:AQ299))","v":0},{"$f":"IF(A299=\"-\",0,SUM(T$9:T299)+SUM(U$9:U299))","v":0},{"$f":"IF(ISTEXT(V298),0,SUM(V$9:V298))","v":0},0]
["2024-10-18",null,null,6,292,null,null,null,null,null,null,null,null,null,null,null,null,0,0,0,0,0,0,0,0,0,0,0,0,0,0,0,0,0,0,0,0,0,0,0,0,0,0,0.33333333333333331,0,1.6666666666666667,0,0,0,{"$f":"IF(A300=\"-\",0,SUM(AQ$9:AQ300))","v":0},{"$f":"IF(A300=\"-\",0,SUM(T$9:T300)+SUM(U$9:U300))","v":0},{"$f":"IF(ISTEXT(V299),0,SUM(V$9:V299))","v":0},0]
["2024-10-19",1,null,7,293,null,null,null,null,null,null,null,null,null,null,null,null,0,0,0,0,0,0,0,0,0,0,0,0,0,0,0,0,0,0,0,0,0,0,0,0,0,0,0.33333333333333331,0,1.6666666666666667,0,0,0,{"$f":"IF(A301=\"-\",0,SUM(AQ$9:AQ301))","v":0},{"$f":"IF(A301=\"-\",0,SUM(T$9:T301)+SUM(U$9:U301))","v":0},{"$f":"IF(ISTEXT(V300),0,SUM(V$9:V300))","v":0},0]
["2024-10-20",null,null,1,294,null,null,null,null,null,null,null,null,null,null,null,null,0,0,0,0,0,0,0,0,0,0,0,0,0,0,0,0,0,0,0,0,0,0,0,0,0,0,0.33333333333333331,0,1.6666666666666667,0,0,0,{"$f":"IF(A302=\"-\",0,SUM(AQ$9:AQ302))","v":0},{"$f":"IF(A302=\"-\",0,SUM(T$9:T302)+SUM(U$9:U302))","v":0},{"$f":"IF(ISTEXT(V301),0,SUM(V$9:V301))","v":0},0]
["2024-10-21",null,null,2,295,null,null,null,null,null,null,null,null,null,null,null,null,0,0,0,0,0,0,0,0,0,0,0,0,0,0,0,0,0,0,0,0,0,0,0,0,0,0,0.33333333333333331,0,1.6666666666666667,0,0,0,{"$f":"IF(A303=\"-\",0,SUM(AQ$9:AQ303))","v":0},{"$f":"IF(A303=\"-\",0,SUM(T$9:T303)+SUM(U$9:U303))","v":0},{"$f":"IF(ISTEXT(V302),0,SUM(V$9:V302))","v":0},0]
["2024-10-22",null,null,3,296,null,null,null,null,null,null,null,null,null,null,null,null,0,0,0,0,0,0,0,0,0,0,0,0,0,0,0,0,0,0,0,0,0,0,0,0,0,0,0.33333333333333331,0,1.6666666666666667,0,0,0,{"$f":"IF(A304=\"-\",0,SUM(AQ$9:AQ304))","v":0},{"$f":"IF(A304=\"-\",0,SUM(T$9:T304)+SUM(U$9:U304))","v":0},{"$f":"IF(ISTEXT(V303),0,SUM(V$9:V303))","v":0},0]
["2024-10-23",null,null,4,297,null,null,null,null,null,null,null,null,null,null,null,null,0,0,0,0,0,0,0,0,0,0,0,0,0,0,0,0,0,0,0,0,0,0,0,0,0,0,0.33333333333333331,0,1.6666666666666667,0,0,0,{"$f":"IF(A305=\"-\",0,SUM(AQ$9:AQ305))","v":0},{"$f":"IF(A305=\"-\",0,SUM(T$9:T305)+SUM(U$9:U305))","v":0},{"$f":"IF(ISTEXT(V304),0,SUM(V$9:V304))","v":0},0]
["2024-10-24",null,null,5,298,null,null,null,null,null,null,null,null,null,null,null,null,0,0,0,0,0,0,0,0,0,0,0,0,0,0,0,0,0,0,0,0,0,0,0,0,0,0,0.33333333333333331,0,1.6666666666666667,0,0,0,{"$f":"IF(A306=\"-\",0,SUM(AQ$9:AQ306))","v":0},{"$f":"IF(A306=\"-\",0,SUM(T$9:T306)+SUM(U$9:U306))","v":0},{"$f":"IF(ISTEXT(V305),0,SUM(V$9:V305))","v":0},0]
["2024-10-25",null,null,6,299,null,null,null,null,null,null,null,null,null,null,null,null,0,0,0,0,0,0,0,0,0,0,0,0,0,0,0,0,0,0,0,0,0,0,0,0,0,0,0.33333333333333331,0,1.6666666666666667,0,0,0,{"$f":"IF(A307=\"-\",0,SUM(AQ$9:AQ307))","v":0},{"$f":"IF(A307=\"-\",0,SUM(T$9:T307)+SUM(U$9:U307))","v":0},{"$f":"IF(ISTEXT(V306),0,SUM(V$9:V306))","v":0},0]
["2024-10-26",1,null,7,300,null,null,null,null,null,null,null,null,null,null,null,null,0,0,0,0,0,0,0,0,0,0,0,0,0,0,0,0,0,0,0,0,0,0,0,0,0,0,0.33333333333333331,0,1.6666666666666667,0,0,0,{"$f":"IF(A308=\"-\",0,SUM(AQ$9:AQ308))","v":0},{"$f":"IF(A308=\"-\",0,SUM(T$9:T308)+SUM(U$9:U308))","v":0},{"$f":"IF(ISTEXT(V307),0,SUM(V$9:V307))","v":0},0]
["2024-10-27",null,null,1,301,null,null,null,null,null,null,null,null,null,null,null,null,0,0,0,0,0,0,0,0,0,0,0,0,0,0,0,0,0,0,0,0,0,0,0,0,0,0,0.33333333333333331,0,1.6666666666666667,0,0,0,{"$f":"IF(A309=\"-\",0,SUM(AQ$9:AQ309))","v":0},{"$f":"IF(A309=\"-\",0,SUM(T$9:T309)+SUM(U$9:U309))","v":0},{"$f":"IF(ISTEXT(V308),0,SUM(V$9:V308))","v":0},0]
["2024-10-28",null,null,2,302,null,null,null,null,null,null,null,null,null,null,null,null,0,0,0,0,0,0,0,0,0,0,0,0,0,0,0,0,0,0,0,0,0,0,0,0,0,0,0.33333333333333331,0,1.6666666666666667,0,0,0,{"$f":"IF(A310=\"-\",0,SUM(AQ$9:AQ310))","v":0},{"$f":"IF(A310=\"-\",0,SUM(T$9:T310)+SUM(U$9:U310))","v":0},{"$f":"IF(ISTEXT(V309),0,SUM(V$9:V309))","v":0},0]
["2024-10-29",null,null,3,303,null,null,null,null,null,null,null,null,null,null,null,null,0,0,0,0,0,0,0,0,0,0,0,0,0,0,0,0,0,0,0,0,0,0,0,0,0,0,0.33333333333333331,0,1.6666666666666667,0,0,0,{"$f":"IF(A311=\"-\",0,SUM(AQ$9:AQ311))","v":0},{"$f":"IF(A311=\"-\",0,SUM(T$9:T311)+SUM(U$9:U311))","v":0},{"$f":"IF(ISTEXT(V310),0,SUM(V$9:V310))","v":0},0]
["2024-10-30",null,null,4,304,null,null,null,null,null,null,null,null,null,null,null,null,0,0,0,0,0,0,0,0,0,0,0,0,0,0,0,0,0,0,0,0,0,0,0,0,0,0,0.33333333333333331,0,1.6666666666666667,0,0,0,{"$f":"IF(A312=\"-\",0,SUM(AQ$9:AQ312))","v":0},{"$f":"IF(A312=\"-\",0,SUM(T$9:T312)+SUM(U$9:U312))","v":0},{"$f":"IF(ISTEXT(V311),0,SUM(V$9:V311))","v":0},0]
["2024-10-31",null,10,5,305,null,null,null,null,null,null,null,null,null,null,null,null,0,0,0,0,0,0,0,0,0,0,0,0,0,0,0,0,0,0,0,0,0,0,0,0,0,0,0.33333333333333331,0,1.6666666666666667,0,0,0,{"$f":"IF(A313=\"-\",0,SUM(AQ$9:AQ313))","v":0},{"$f":"IF(A313=\"-\",0,SUM(T$9:T313)+SUM(U$9:U313))","v":0},{"$f":"IF(ISTEXT(V312),0,SUM(V$9:V312))","v":0},0]
["2024-11-01",null,null,6,306,null,null,null,null,null,null,null,null,null,null,null,null,0,0,0,0,0,0,0,0,0,0,0,0,0,0,0,0,0,0,0,0,0,0,0,0,0,0,0.33333333333333331,0,1.6666666666666667,0,0,0,{"$f":"IF(A314=\"-\",0,SUM(AQ$9:AQ314))","v":0},{"$f":"IF(A314=\"-\",0,SUM(T$9:T314)+SUM(U$9:U314))","v":0},{"$f":"IF(ISTEXT(V313),0,SUM(V$9:V313))","v":0},0]
["2024-11-02",1,null,7,307,null,null,null,null,null,null,null,null,null,null,null,null,0,0,0,0,0,0,0,0,0,0,0,0,0,0,0,0,0,0,0,0,0,0,0,0,0,0,0.33333333333333331,0,1.6666666666666667,0,0,0,{"$f":"IF(A315=\"-\",0,SUM(AQ$9:AQ315))","v":0},{"$f":"IF(A315=\"-\",0,SUM(T$9:T315)+SUM(U$9:U315))","v":0},{"$f":"IF(ISTEXT(V314),0,SUM(V$9:V314))","v":0},0]
["2024-11-03",null,null,1,308,null,null,null,null,null,null,null,null,null,null,null,null,0,0,0,0,0,0,0,0,0,0,0,0,0,0,0,0,0,0,0,0,0,0,0,0,0,0,0.33333333333333331,0,1.6666666666666667,0,0,0,{"$f":"IF(A316=\"-\",0,SUM(AQ$9:AQ316))","v":0},{"$f":"IF(A316=\"-\",0,SUM(T$9:T316)+SUM(U$9:U316))","v":0},{"$f":"IF(ISTEXT(V315),0,SUM(V$9:V315))","v":0},0]
["2024-11-04",null,null,2,309,null,null,null,null,null,null,null,null,null,null,null,null,0,0,0,0,0,0,0,0,0,0,0,0,0,0,0,0,0,0,0,0,0,0,0,0,0,0,0.33333333333333331,0,1.6666666666666667,0,0,0,{"$f":"IF(A317=\"-\",0,SUM(AQ$9:AQ317))","v":0},{"$f":"IF(A317=\"-\",0,SUM(T$9:T317)+SUM(U$9:U317))","v":0},{"$f":"IF(ISTEXT(V316),0,SUM(V$9:V316))","v":0},0]
["2024-11-05",null,null,3,310,null,null,null,null,null,null,null,null,null,null,null,null,0,0,0,0,0,0,0,0,0,0,0,0,0,0,0,0,0,0,0,0,0,0,0,0,0,0,0.33333333333333331,0,1.6666666666666667,0,0,0,{"$f":"IF(A318=\"-\",0,SUM(AQ$9:AQ318))","v":0},{"$f":"IF(A318=\"-\",0,SUM(T$9:T318)+SUM(U$9:U318))","v":0},{"$f":"IF(ISTEXT(V317),0,SUM(V$9:V317))","v":0},0]
["2024-11-06",null,null,4,311,null,null,null,null,null,null,null,null,null,null,null,null,0,0,0,0,0,0,0,0,0,0,0,0,0,0,0,0,0,0,0,0,0,0,0,0,0,0,0.33333333333333331,0,1.6666666666666667,0,0,0,{"$f":"IF(A319=\"-\",0,SUM(AQ$9:AQ319))","v":0},{"$f":"IF(A319=\"-\",0,SUM(T$9:T319)+SUM(U$9:U319))","v":0},{"$f":"IF(ISTEXT(V318),0,SUM(V$9:V318))","v":0},0]
["2024-11-07",null,null,5,312,null,null,null,null,null,null,null,null,null,null,null,null,0,0,0,0,0,0,0,0,0,0,0,0,0,0,0,0,0,0,0,0,0,0,0,0,0,0,0.33333333333333331,0,1.6666666666666667,0,0,0,{"$f":"IF(A320=\"-\",0,SUM(AQ$9:AQ320))","v":0},{"$f":"IF(A320=\"-\",0,SUM(T$9:T320)+SUM(U$9:U320))","v":0},{"$f":"IF(ISTEXT(V319),0,SUM(V$9:V319))","v":0},0]
["2024-11-08",null,null,6,313,null,null,null,null,null,null,null,null,null,null,null,null,0,0,0,0,0,0,0,0,0,0,0,0,0,0,0,0,0,0,0,0,0,0,0,0,0,0,0.33333333333333331,0,1.6666666666666667,0,0,0,{"$f":"IF(A321=\"-\",0,SUM(AQ$9:AQ321))","v":0},{"$f":"IF(A321=\"-\",0,SUM(T$9:T321)+SUM(U$9:U321))","v":0},{"$f":"IF(ISTEXT(V320),0,SUM(V$9:V320))","v":0},0]
["2024-11-09",1,null,7,314,null,null,null,null,null,null,null,null,null,null,null,null,0,0,0,0,0,0,0,0,0,0,0,0,0,0,0,0,0,0,0,0,0,0,0,0,0,0,0.33333333333333331,0,1.6666666666666667,0,0,0,{"$f":"IF(A322=\"-\",0,SUM(AQ$9:AQ322))","v":0},{"$f":"IF(A322=\"-\",0,SUM(T$9:T322)+SUM(U$9:U322))","v":0},{"$f":"IF(ISTEXT(V321),0,SUM(V$9:V321))","v":0},0]
["2024-11-10",null,null,1,315,null,null,null,null,null,null,null,null,null,null,null,null,0,0,0,0,0,0,0,0,0,0,0,0,0,0,0,0,0,0,0,0,0,0,0,0,0,0,0.33333333333333331,0,1.6666666666666667,0,0,0,{"$f":"IF(A323=\"-\",0,SUM(AQ$9:AQ323))","v":0},{"$f":"IF(A323=\"-\",0,SUM(T$9:T323)+SUM(U$9:U323))","v":0},{"$f":"IF(ISTEXT(V322),0,SUM(V$9:V322))","v":0},0]
["2024-11-11",null,null,2,316,null,null,null,null,null,null,null,null,null,null,null,null,0,0,0,0,0,0,0,0,0,0,0,0,0,0,0,0,0,0,0,0,0,0,0,0,0,0,0.33333333333333331,0,1.6666666666666667,0,0,0,{"$f":"IF(A324=\"-\",0,SUM(AQ$9:AQ324))","v":0},{"$f":"IF(A324=\"-\",0,SUM(T$9:T324)+SUM(U$9:U324))","v":0},{"$f":"IF(ISTEXT(V323),0,SUM(V$9:V323))","v":0},0]
["2024-11-12",null,null,3,317,null,null,null,null,null,null,null,null,null,null,null,null,0,0,0,0,0,0,0,0,0,0,0,0,0,0,0,0,0,0,0,0,0,0,0,0,0,0,0.33333333333333331,0,1.6666666666666667,0,0,0,{"$f":"IF(A325=\"-\",0,SUM(AQ$9:AQ325))","v":0},{"$f":"IF(A325=\"-\",0,SUM(T$9:T325)+SUM(U$9:U325))","v":0},{"$f":"IF(ISTEXT(V324),0,SUM(V$9:V324))","v":0},0]
["2024-11-13",null,null,4,318,null,null,null,null,null,null,null,null,null,null,null,null,0,0,0,0,0,0,0,0,0,0,0,0,0,0,0,0,0,0,0,0,0,0,0,0,0,0,0.33333333333333331,0,1.6666666666666667,0,0,0,{"$f":"IF(A326=\"-\",0,SUM(AQ$9:AQ326))","v":0},{"$f":"IF(A326=\"-\",0,SUM(T$9:T326)+SUM(U$9:U326))","v":0},{"$f":"IF(ISTEXT(V325),0,SUM(V$9:V325))","v":0},0]
["2024-11-14",null,null,5,319,null,null,null,null,null,null,null,null,null,null,null,null,0,0,0,0,0,0,0,0,0,0,0,0,0,0,0,0,0,0,0,0,0,0,0,0,0,0,0.33333333333333331,0,1.6666666666666667,0,0,0,{"$f":"IF(A327=\"-\",0,SUM(AQ$9:AQ327))","v":0},{"$f":"IF(A327=\"-\",0,SUM(T$9:T327)+SUM(U$9:U327))","v":0},{"$f":"IF(ISTEXT(V326),0,SUM(V$9:V326))","v":0},0]
["2024-11-15",null,null,6,320,null,null,null,null,null,null,null,null,null,null,null,null,0,0,0,0,0,0,0,0,0,0,0,0,0,0,0,0,0,0,0,0,0,0,0,0,0,0,0.33333333333333331,0,1.6666666666666667,0,0,0,{"$f":"IF(A328=\"-\",0,SUM(AQ$9:AQ328))","v":0},{"$f":"IF(A328=\"-\",0,SUM(T$9:T328)+SUM(U$9:U328))","v":0},{"$f":"IF(ISTEXT(V327),0,SUM(V$9:V327))","v":0},0]
["2024-11-16",1,null,7,321,null,null,null,null,null,null,null,null,null,null,null,null,0,{"$f":"IF(AND(F329=\"法定\",H329<>\"振出\"),SUM(AL329:AN329),0)+IF(F330=\"法定\",AO329+AP329,0)","v":0},0,0,0,0,{"$f":"_xlfn.IFS(AND(F329=\"所定\",H329<>\"振出\"),0,BA329>60/24,W329-MIN(W329,BA329-60/24),TRUE,W329)","v":0},{"$f":"_xlfn.IFS(OR(F329<>\"所定\",H329=\"振出\"),0,BA329>60/24,W329-MIN(W329,BA329-60/24),TRUE,W329)","v":0},{"$f":"IF(AND(F329=\"所定\",H329<>\"振出\"),0,W329-X329)","v":0},{"$f":"IF(OR(F329<>\"所定\",H329=\"振出\"),0,W329-Y329)","v":0},0,{"$f":"IF(G329=\"\",0,MIN(AG329,G329-Q329))","v":0},{"$f":"IF(H329=\"振出\",MIN(AG329,I329-Q329),0)","v":0},0,{"$f":"_xlfn.LET(_xlpm.値,IF(AND(F329=\"所定\",H329<>\"振出\"),MAX(0,AG329-AC329),0),IF(_xlpm.値<TIME(0,0,1),0,_xlpm.値))","v":0},0,{"$f":"_xlfn.IFS(H329=\"振休\",0,R329<G329,MAX(0,G329-R329-Q329),TRUE,0)","v":0},{"$f":"IF(H329=\"振休\",MAX(0,G329-AG329-Q329),0)","v":0},{"$f":"_xlfn.LET(_xlpm.値,IF(G329=\"\",0,G329-Q329-AC329-AH329-AI329),IF(_xlpm.値<TIME(0,0,1),0,_xlpm.値))","v":0},{"$f":"_xlfn.LET(_xlpm.値,MAX(0,G329-Q329-R329)+AJ329,IF(_xlpm.値<TIME(0,0,1),0,_xlpm.値))","v":0},{"$f":"IF(J329=\"\",0,MAX(0,MIN(5/24,K329)-MAX(0,J329)-L329))","v":0},{"$f":"IF(J329=\"\",0,MAX(0,MIN(22/24,K329)-MAX(5/24,J329)-M329))","v":0},{"$f":"IF(J329=\"\",0,MAX(0,MIN(24/24,K329)-MAX(22/24,J329)-N329))","v":0},{"$f":"IF(J329=\"\",0,MAX(0,MIN(29/24,K329)-MAX(24/24,J329)-O329))","v":0},{"$f":"IF(J329=\"\",0,MAX(0,MIN(48/24,K329)-MAX(29/24,J329)-P329))","v":0},{"$f":"R329-S329","v":0},{"$f":"_xlfn.IFS(A329=\"-\",0,H329=\"振出\",IF($N$2=\"原則\",8/24,MAX(I329,8/24)),F329=\"法定\",0,TRUE,IF($N$2=\"原則\",8/24,MAX(G329,8/24)))","v":0.33333333333333331},{"$f":"_xlfn.IFS(A329=\"-\",0,B329=\"\",AS330,TRUE,SUM(OFFSET(G329,D329*-1+1,0,D329,1)))","v":0},{"$f":"_xlfn.IFS(A329=\"-\",0,B329=\"\",AT330,$N$2=\"原則\",$H$4/24,TRUE,MAX(AS329,$H$4/24*D329/7))","v":1.6666666666666667},{"$f":"IF(A329=\"-\",0,SUM(OFFSET(AQ329,D329*-1+1,0,D329,1)))","v":0},{"$f":"IF(A329=\"-\",0,SUM(OFFSET(T329,$D329*-1+1,0,D329,1)))","v":0},{"$f":"IF(OR($D329=1,A329=\"-\"),0,SUM(OFFSET(U329,D329*-1+1,0,D329-1,1)))","v":0},{"$f":"IF(A329=\"-\",0,SUM(AQ$9:AQ329))","v":0},{"$f":"IF(A329=\"-\",0,SUM(T$9:T329)+SUM(U$9:U329))","v":0},{"$f":"IF(ISTEXT(V328),0,SUM(V$9:V328))","v":0},{"$f":"IF(C328<>\"\",W329,BA328+W329)","v":0}]
["2024-11-17",null,null,1,322,null,null,null,null,null,null,null,null,null,null,null,null,0,0,{"$f":"_xlfn.LET(_xlpm.値,MAX(0,AQ330-IF(AR330=0,8/24,AR330)),IF(_xlpm.値<TIME(0,0,1),0,_xlpm.値))","v":0},{"$f":"_xlfn.LET(_xlpm.値,IF($A330=\"-\",0,MAX(0,AU330-AV330-AW330-AT330)),IF(_xlpm.値<TIME(0,0,1),0,_xlpm.値))","v":0},{"$f":"MAX(0,AX330-AY330-AZ330-$N$4)","v":0},{"$f":"SUM(T330,U330,V330)","v":0},0,0,0,0,{"$f":"SUM(AL330,AN330:AO330)","v":0},0,0,{"$f":"_xlfn.LET(_xlpm.値,AG330-AF330-AC330-AD330,IF(_xlpm.値<TIME(0,0,1),0,_xlpm.値))","v":0},0,{"$f":"_xlfn.LET(_xlpm.値,MAX(0,AQ330-W330),IF(_xlpm.値<TIME(0,0,1),0,_xlpm.値))","v":0},0,0,0,0,0,0,0,0,0,0,0.33333333333333331,0,1.6666666666666667,0,0,0,{"$f":"IF(A330=\"-\",0,SUM(AQ$9:AQ330))","v":0},{"$f":"IF(A330=\"-\",0,SUM(T$9:T330)+SUM(U$9:U330))","v":0},{"$f":"IF(ISTEXT(V329),0,SUM(V$9:V329))","v":0},0]
["2024-11-18",null,null,2,323,null,null,null,null,null,null,null,null,null,null,null,null,0,0,0,0,0,0,0,0,0,0,0,0,0,0,0,0,0,0,0,0,0,0,0,0,0,0,0.33333333333333331,0,1.6666666666666667,0,0,0,{"$f":"IF(A331=\"-\",0,SUM(AQ$9:AQ331))","v":0},{"$f":"IF(A331=\"-\",0,SUM(T$9:T331)+SUM(U$9:U331))","v":0},{"$f":"IF(ISTEXT(V330),0,SUM(V$9:V330))","v":0},0]
["2024-11-19",null,null,3,324,null,null,null,null,null,null,null,null,null,null,null,null,0,0,0,0,0,0,0,0,0,0,0,0,0,0,0,0,0,0,0,0,0,0,0,0,0,0,0.33333333333333331,0,1.6666666666666667,0,0,0,{"$f":"IF(A332=\"-\",0,SUM(AQ$9:AQ332))","v":0},{"$f":"IF(A332=\"-\",0,SUM(T$9:T332)+SUM(U$9:U332))","v":0},{"$f":"IF(ISTEXT(V331),0,SUM(V$9:V331))","v":0},0]
["2024-11-20",null,null,4,325,null,null,null,null,null,null,null,null,null,null,null,null,0,0,0,0,0,0,0,0,0,0,0,0,0,0,0,0,0,0,0,0,0,0,0,0,0,0,0.33333333333333331,0,1.6666666666666667,0,0,0,{"$f":"IF(A333=\"-\",0,SUM(AQ$9:AQ333))","v":0},{"$f":"IF(A333=\"-\",0,SUM(T$9:T333)+SUM(U$9:U333))","v":0},{"$f":"IF(ISTEXT(V332),0,SUM(V$9:V332))","v":0},0]
["2024-11-21",null,null,5,326,null,null,null,null,null,null,null,null,null,null,null,null,{"$f":"K334-J334-SUM(L334:P334)","v":0},0,0,0,0,0,0,0,0,0,0,0,0,0,0,0,0,0,0,0,0,0,0,0,0,0,0.33333333333333331,0,1.6666666666666667,0,0,0,{"$f":"IF(A334=\"-\",0,SUM(AQ$9:AQ334))","v":0},{"$f":"IF(A334=\"-\",0,SUM(T$9:T334)+SUM(U$9:U334))","v":0},{"$f":"IF(ISTEXT(V333),0,SUM(V$9:V333))","v":0},0]
["2024-11-22",null,null,6,327,null,null,null,null,null,null,null,null,null,null,null,null,0,0,0,0,0,0,0,0,0,0,0,0,0,0,0,0,0,0,0,0,0,0,0,0,0,0,0.33333333333333331,0,1.6666666666666667,0,0,0,{"$f":"IF(A335=\"-\",0,SUM(AQ$9:AQ335))","v":0},{"$f":"IF(A335=\"-\",0,SUM(T$9:T335)+SUM(U$9:U335))","v":0},{"$f":"IF(ISTEXT(V334),0,SUM(V$9:V334))","v":0},0]
["2024-11-23",1,null,7,328,null,null,null,null,null,null,null,null,null,null,null,null,0,0,0,0,0,0,0,0,0,0,0,0,0,0,0,0,0,0,0,0,0,0,0,0,0,0,0.33333333333333331,0,1.6666666666666667,0,0,0,{"$f":"IF(A336=\"-\",0,SUM(AQ$9:AQ336))","v":0},{"$f":"IF(A336=\"-\",0,SUM(T$9:T336)+SUM(U$9:U336))","v":0},{"$f":"IF(ISTEXT(V335),0,SUM(V$9:V335))","v":0},0]
["2024-11-24",null,null,1,329,null,null,null,null,null,null,null,null,null,null,null,null,0,0,0,0,0,0,0,0,0,0,0,0,0,0,0,0,0,0,0,0,0,0,0,0,0,0,0.33333333333333331,0,1.6666666666666667,0,0,0,{"$f":"IF(A337=\"-\",0,SUM(AQ$9:AQ337))","v":0},{"$f":"IF(A337=\"-\",0,SUM(T$9:T337)+SUM(U$9:U337))","v":0},{"$f":"IF(ISTEXT(V336),0,SUM(V$9:V336))","v":0},0]
["2024-11-25",null,null,2,330,null,null,null,null,null,null,null,null,null,null,null,null,0,0,0,0,0,0,0,0,0,0,0,0,0,0,0,0,0,0,0,0,0,0,0,0,0,0,0.33333333333333331,0,1.6666666666666667,0,0,0,{"$f":"IF(A338=\"-\",0,SUM(AQ$9:AQ338))","v":0},{"$f":"IF(A338=\"-\",0,SUM(T$9:T338)+SUM(U$9:U338))","v":0},{"$f":"IF(ISTEXT(V337),0,SUM(V$9:V337))","v":0},0]
["2024-11-26",null,null,3,331,null,null,null,null,null,null,null,null,null,null,null,null,0,0,0,0,0,0,0,0,0,0,0,0,0,0,0,0,0,0,0,0,0,0,0,0,0,0,0.33333333333333331,0,1.6666666666666667,0,0,0,{"$f":"IF(A339=\"-\",0,SUM(AQ$9:AQ339))","v":0},{"$f":"IF(A339=\"-\",0,SUM(T$9:T339)+SUM(U$9:U339))","v":0},{"$f":"IF(ISTEXT(V338),0,SUM(V$9:V338))","v":0},0]
["2024-11-27",null,null,4,332,null,null,null,null,null,null,null,null,null,null,null,null,0,0,0,0,0,0,0,0,0,0,0,0,0,0,0,0,0,0,0,0,0,0,0,0,0,0,0.33333333333333331,0,1.6666666666666667,0,0,0,{"$f":"IF(A340=\"-\",0,SUM(AQ$9:AQ340))","v":0},{"$f":"IF(A340=\"-\",0,SUM(T$9:T340)+SUM(U$9:U340))","v":0},{"$f":"IF(ISTEXT(V339),0,SUM(V$9:V339))","v":0},0]
["2024-11-28",null,null,5,333,null,null,null,null,null,null,null,null,null,null,null,null,0,0,0,0,0,0,0,0,0,0,0,0,0,0,0,0,0,0,0,0,0,0,0,0,0,0,0.33333333333333331,0,1.6666666666666667,0,0,0,{"$f":"IF(A341=\"-\",0,SUM(AQ$9:AQ341))","v":0},{"$f":"IF(A341=\"-\",0,SUM(T$9:T341)+SUM(U$9:U341))","v":0},{"$f":"IF(ISTEXT(V340),0,SUM(V$9:V340))","v":0},0]
["2024-11-29",null,null,6,334,null,null,null,null,null,null,null,null,null,null,null,null,0,0,0,0,0,0,0,0,0,0,0,0,0,0,0,0,0,0,0,0,0,0,0,0,0,0,0.33333333333333331,0,1.6666666666666667,0,0,0,{"$f":"IF(A342=\"-\",0,SUM(AQ$9:AQ342))","v":0},{"$f":"IF(A342=\"-\",0,SUM(T$9:T342)+SUM(U$9:U342))","v":0},{"$f":"IF(ISTEXT(V341),0,SUM(V$9:V341))","v":0},0]
["2024-11-30",1,11,7,335,null,null,null,null,null,null,null,null,null,null,null,null,0,0,0,0,0,0,0,0,0,0,0,0,0,0,0,0,0,0,0,0,0,0,0,0,0,0,0.33333333333333331,0,1.6666666666666667,0,0,0,{"$f":"IF(A343=\"-\",0,SUM(AQ$9:AQ343))","v":0},{"$f":"IF(A343=\"-\",0,SUM(T$9:T343)+SUM(U$9:U343))","v":0},{"$f":"IF(ISTEXT(V342),0,SUM(V$9:V342))","v":0},0]
["2024-12-01",null,null,1,336,null,null,null,null,null,null,null,null,null,null,null,null,0,0,0,0,0,0,0,0,0,0,0,0,0,0,0,0,0,0,0,0,0,0,0,0,0,0,0.33333333333333331,0,1.6666666666666667,0,0,0,{"$f":"IF(A344=\"-\",0,SUM(AQ$9:AQ344))","v":0},{"$f":"IF(A344=\"-\",0,SUM(T$9:T344)+SUM(U$9:U344))","v":0},{"$f":"IF(ISTEXT(V343),0,SUM(V$9:V343))","v":0},0]
["2024-12-02",null,null,2,337,null,null,null,null,null,null,null,null,null,null,null,null,0,0,0,0,0,0,0,0,0,0,0,0,0,0,0,0,0,0,0,0,0,0,0,0,0,0,0.33333333333333331,0,1.6666666666666667,0,0,0,{"$f":"IF(A345=\"-\",0,SUM(AQ$9:AQ345))","v":0},{"$f":"IF(A345=\"-\",0,SUM(T$9:T345)+SUM(U$9:U345))","v":0},{"$f":"IF(ISTEXT(V344),0,SUM(V$9:V344))","v":0},0]
["2024-12-03",null,null,3,338,null,null,null,null,null,null,null,null,null,null,null,null,0,0,0,0,0,0,0,0,0,0,0,0,0,0,0,0,0,0,0,0,0,0,0,0,0,0,0.33333333333333331,0,1.6666666666666667,0,0,0,{"$f":"IF(A346=\"-\",0,SUM(AQ$9:AQ346))","v":0},{"$f":"IF(A346=\"-\",0,SUM(T$9:T346)+SUM(U$9:U346))","v":0},{"$f":"IF(ISTEXT(V345),0,SUM(V$9:V345))","v":0},0]
["2024-12-04",null,null,4,339,null,null,null,null,null,null,null,null,null,null,null,null,0,0,0,0,0,0,0,0,0,0,0,0,0,0,0,0,0,0,0,0,0,0,0,0,0,0,0.33333333333333331,0,1.6666666666666667,0,0,0,{"$f":"IF(A347=\"-\",0,SUM(AQ$9:AQ347))","v":0},{"$f":"IF(A347=\"-\",0,SUM(T$9:T347)+SUM(U$9:U347))","v":0},{"$f":"IF(ISTEXT(V346),0,SUM(V$9:V346))","v":0},0]
["2024-12-05",null,null,5,340,null,null,null,null,null,null,null,null,null,null,null,null,0,0,0,0,0,0,0,0,0,0,0,0,0,0,0,0,0,0,0,0,0,0,0,0,0,0,0.33333333333333331,0,1.6666666666666667,0,0,0,{"$f":"IF(A348=\"-\",0,SUM(AQ$9:AQ348))","v":0},{"$f":"IF(A348=\"-\",0,SUM(T$9:T348)+SUM(U$9:U348))","v":0},{"$f":"IF(ISTEXT(V347),0,SUM(V$9:V347))","v":0},0]
["2024-12-06",null,null,6,341,null,null,null,null,null,null,null,null,null,null,null,null,0,0,0,0,0,0,0,0,0,0,0,0,0,0,0,0,0,0,0,0,0,0,0,0,0,0,0.33333333333333331,0,1.6666666666666667,0,0,0,{"$f":"IF(A349=\"-\",0,SUM(AQ$9:AQ349))","v":0},{"$f":"IF(A349=\"-\",0,SUM(T$9:T349)+SUM(U$9:U349))","v":0},{"$f":"IF(ISTEXT(V348),0,SUM(V$9:V348))","v":0},0]
["2024-12-07",1,null,7,342,null,null,null,null,null,null,null,null,null,null,null,null,0,0,0,0,0,0,0,0,0,0,0,0,0,0,0,0,0,0,0,0,0,0,0,0,0,0,0.33333333333333331,0,1.6666666666666667,0,0,0,{"$f":"IF(A350=\"-\",0,SUM(AQ$9:AQ350))","v":0},{"$f":"IF(A350=\"-\",0,SUM(T$9:T350)+SUM(U$9:U350))","v":0},{"$f":"IF(ISTEXT(V349),0,SUM(V$9:V349))","v":0},0]
["2024-12-08",null,null,1,343,null,null,null,null,null,null,null,null,null,null,null,null,0,0,0,0,0,0,0,0,0,0,0,0,0,0,0,0,0,0,0,0,0,0,0,0,0,0,0.33333333333333331,0,1.6666666666666667,0,0,0,{"$f":"IF(A351=\"-\",0,SUM(AQ$9:AQ351))","v":0},{"$f":"IF(A351=\"-\",0,SUM(T$9:T351)+SUM(U$9:U351))","v":0},{"$f":"IF(ISTEXT(V350),0,SUM(V$9:V350))","v":0},0]
["2024-12-09",null,null,2,344,null,null,null,null,null,null,null,null,null,null,null,null,0,0,0,0,0,0,0,0,0,0,0,0,0,0,0,0,0,0,0,0,0,0,0,0,0,0,0.33333333333333331,0,1.6666666666666667,0,0,0,{"$f":"IF(A352=\"-\",0,SUM(AQ$9:AQ352))","v":0},{"$f":"IF(A352=\"-\",0,SUM(T$9:T352)+SUM(U$9:U352))","v":0},{"$f":"IF(ISTEXT(V351),0,SUM(V$9:V351))","v":0},0]
["2024-12-10",null,null,3,345,null,null,null,null,null,null,null,null,null,null,null,null,0,0,0,0,0,0,0,0,0,0,0,0,0,0,0,0,0,0,0,0,0,0,0,0,0,0,0.33333333333333331,0,1.6666666666666667,0,0,0,{"$f":"IF(A353=\"-\",0,SUM(AQ$9:AQ353))","v":0},{"$f":"IF(A353=\"-\",0,SUM(T$9:T353)+SUM(U$9:U353))","v":0},{"$f":"IF(ISTEXT(V352),0,SUM(V$9:V352))","v":0},0]
["2024-12-11",null,null,4,346,null,null,null,null,null,null,null,null,null,null,null,null,0,0,0,0,0,0,0,0,0,0,0,0,0,0,0,0,0,0,0,0,0,0,0,0,0,0,0.33333333333333331,0,1.6666666666666667,0,0,0,{"$f":"IF(A354=\"-\",0,SUM(AQ$9:AQ354))","v":0},{"$f":"IF(A354=\"-\",0,SUM(T$9:T354)+SUM(U$9:U354))","v":0},{"$f":"IF(ISTEXT(V353),0,SUM(V$9:V353))","v":0},0]
["2024-12-12",null,null,5,347,null,null,null,null,null,null,null,null,null,null,null,null,0,0,0,0,0,0,0,0,0,0,0,0,0,0,0,0,0,0,0,0,0,0,0,0,0,0,0.33333333333333331,0,1.6666666666666667,0,0,0,{"$f":"IF(A355=\"-\",0,SUM(AQ$9:AQ355))","v":0},{"$f":"IF(A355=\"-\",0,SUM(T$9:T355)+SUM(U$9:U355))","v":0},{"$f":"IF(ISTEXT(V354),0,SUM(V$9:V354))","v":0},0]
["2024-12-13",null,null,6,348,null,null,null,null,null,null,null,null,null,null,null,null,0,0,0,0,0,0,0,0,0,0,0,0,0,0,0,0,0,0,0,0,0,0,0,0,0,0,0.33333333333333331,0,1.6666666666666667,0,0,0,{"$f":"IF(A356=\"-\",0,SUM(AQ$9:AQ356))","v":0},{"$f":"IF(A356=\"-\",0,SUM(T$9:T356)+SUM(U$9:U356))","v":0},{"$f":"IF(ISTEXT(V355),0,SUM(V$9:V355))","v":0},0]
["2024-12-14",1,null,7,349,null,null,null,null,null,null,null,null,null,null,null,null,0,0,0,0,0,0,0,0,0,0,0,0,0,0,0,0,0,0,0,0,0,0,0,0,0,0,0.33333333333333331,0,1.6666666666666667,0,0,0,{"$f":"IF(A357=\"-\",0,SUM(AQ$9:AQ357))","v":0},{"$f":"IF(A357=\"-\",0,SUM(T$9:T357)+SUM(U$9:U357))","v":0},{"$f":"IF(ISTEXT(V356),0,SUM(V$9:V356))","v":0},0]
["2024-12-15",null,null,1,350,null,null,null,null,null,null,null,null,null,null,null,null,0,0,0,0,0,0,0,0,0,0,0,0,0,0,0,0,0,0,0,0,0,0,0,0,0,0,0.33333333333333331,0,1.6666666666666667,0,0,0,{"$f":"IF(A358=\"-\",0,SUM(AQ$9:AQ358))","v":0},{"$f":"IF(A358=\"-\",0,SUM(T$9:T358)+SUM(U$9:U358))","v":0},{"$f":"IF(ISTEXT(V357),0,SUM(V$9:V357))","v":0},0]
["2024-12-16",null,null,2,351,null,null,null,null,null,null,null,null,null,null,null,null,0,0,0,0,0,0,0,0,0,0,0,0,0,0,0,0,0,0,0,0,0,0,0,0,0,0,0.33333333333333331,0,1.6666666666666667,0,0,0,{"$f":"IF(A359=\"-\",0,SUM(AQ$9:AQ359))","v":0},{"$f":"IF(A359=\"-\",0,SUM(T$9:T359)+SUM(U$9:U359))","v":0},{"$f":"IF(ISTEXT(V358),0,SUM(V$9:V358))","v":0},0]
["2024-12-17",null,null,3,352,null,null,null,null,null,null,null,null,null,null,null,null,0,0,0,0,0,0,0,0,0,0,0,0,0,0,0,0,0,0,0,0,0,0,0,0,0,0,0.33333333333333331,0,1.6666666666666667,0,0,0,{"$f":"IF(A360=\"-\",0,SUM(AQ$9:AQ360))","v":0},{"$f":"IF(A360=\"-\",0,SUM(T$9:T360)+SUM(U$9:U360))","v":0},{"$f":"IF(ISTEXT(V359),0,SUM(V$9:V359))","v":0},0]
["2024-12-18",null,null,4,353,null,null,null,null,null,null,null,null,null,null,null,null,0,0,0,0,0,0,0,0,0,0,0,0,0,0,0,0,0,0,0,0,0,0,0,0,0,0,0.33333333333333331,0,1.6666666666666667,0,0,0,{"$f":"IF(A361=\"-\",0,SUM(AQ$9:AQ361))","v":0},{"$f":"IF(A361=\"-\",0,SUM(T$9:T361)+SUM(U$9:U361))","v":0},{"$f":"IF(ISTEXT(V360),0,SUM(V$9:V360))","v":0},0]
["2024-12-19",null,null,5,354,null,null,null,null,null,null,null,null,null,null,null,null,0,0,0,0,0,0,0,0,0,0,0,0,0,0,0,0,0,0,0,0,0,0,0,0,0,0,0.33333333333333331,0,1.6666666666666667,0,0,0,{"$f":"IF(A362=\"-\",0,SUM(AQ$9:AQ362))","v":0},{"$f":"IF(A362=\"-\",0,SUM(T$9:T362)+SUM(U$9:U362))","v":0},{"$f":"IF(ISTEXT(V361),0,SUM(V$9:V361))","v":0},0]
["2024-12-20",null,null,6,355,null,null,null,null,null,null,null,null,null,null,null,null,0,0,0,0,0,0,0,0,0,0,0,0,0,0,0,0,0,0,0,0,0,0,0,0,0,0,0.33333333333333331,0,1.6666666666666667,0,0,0,{"$f":"IF(A363=\"-\",0,SUM(AQ$9:AQ363))","v":0},{"$f":"IF(A363=\"-\",0,SUM(T$9:T363)+SUM(U$9:U363))","v":0},{"$f":"IF(ISTEXT(V362),0,SUM(V$9:V362))","v":0},0]
["2024-12-21",1,null,7,356,null,null,null,null,null,null,null,null,null,null,null,null,0,0,0,0,0,0,0,0,0,0,0,0,0,0,0,0,0,0,0,0,0,0,0,0,0,0,0.33333333333333331,0,1.6666666666666667,0,0,0,{"$f":"IF(A364=\"-\",0,SUM(AQ$9:AQ364))","v":0},{"$f":"IF(A364=\"-\",0,SUM(T$9:T364)+SUM(U$9:U364))","v":0},{"$f":"IF(ISTEXT(V363),0,SUM(V$9:V363))","v":0},0]
["2024-12-22",null,null,1,357,null,null,null,null,null,null,null,null,null,null,null,null,0,0,0,0,0,0,0,0,0,0,0,0,0,0,0,0,0,0,0,0,0,0,0,0,0,0,0.33333333333333331,0,1.6666666666666667,0,0,0,{"$f":"IF(A365=\"-\",0,SUM(AQ$9:AQ365))","v":0},{"$f":"IF(A365=\"-\",0,SUM(T$9:T365)+SUM(U$9:U365))","v":0},{"$f":"IF(ISTEXT(V364),0,SUM(V$9:V364))","v":0},0]
["2024-12-23",null,null,2,358,null,null,null,null,null,null,null,null,null,null,null,null,0,0,0,0,0,0,0,0,0,0,0,0,0,0,0,0,0,0,0,0,0,0,0,0,0,0,0.33333333333333331,0,1.6666666666666667,0,0,0,{"$f":"IF(A366=\"-\",0,SUM(AQ$9:AQ366))","v":0},{"$f":"IF(A366=\"-\",0,SUM(T$9:T366)+SUM(U$9:U366))","v":0},{"$f":"IF(ISTEXT(V365),0,SUM(V$9:V365))","v":0},0]
["2024-12-24",null,null,3,359,null,null,null,null,null,null,null,null,null,null,null,null,0,0,0,0,0,0,0,0,0,0,0,0,0,0,0,0,0,0,0,0,0,0,0,0,0,0,0.33333333333333331,0,1.6666666666666667,0,0,0,{"$f":"IF(A367=\"-\",0,SUM(AQ$9:AQ367))","v":0},{"$f":"IF(A367=\"-\",0,SUM(T$9:T367)+SUM(U$9:U367))","v":0},{"$f":"IF(ISTEXT(V366),0,SUM(V$9:V366))","v":0},0]
["2024-12-25",null,null,4,360,null,null,null,null,null,null,null,null,null,null,null,null,0,0,0,0,0,0,0,0,0,0,0,0,0,0,0,0,0,0,0,0,0,0,0,0,0,0,0.33333333333333331,0,1.6666666666666667,0,0,0,{"$f":"IF(A368=\"-\",0,SUM(AQ$9:AQ368))","v":0},{"$f":"IF(A368=\"-\",0,SUM(T$9:T368)+SUM(U$9:U368))","v":0},{"$f":"IF(ISTEXT(V367),0,SUM(V$9:V367))","v":0},0]
["2024-12-26",null,null,5,361,null,null,null,null,null,null,null,null,null,null,null,null,0,0,0,0,0,0,0,0,0,0,0,0,0,0,0,0,0,0,0,0,0,0,0,0,0,0,0.33333333333333331,0,1.6666666666666667,0,0,0,{"$f":"IF(A369=\"-\",0,SUM(AQ$9:AQ369))","v":0},{"$f":"IF(A369=\"-\",0,SUM(T$9:T369)+SUM(U$9:U369))","v":0},{"$f":"IF(ISTEXT(V368),0,SUM(V$9:V368))","v":0},0]
["2024-12-27",null,null,6,362,null,null,null,null,null,null,null,null,null,null,null,null,0,0,0,0,0,0,0,0,0,0,0,0,0,0,0,0,0,0,0,0,0,0,0,0,0,0,0.33333333333333331,0,1.6666666666666667,0,0,0,{"$f":"IF(A370=\"-\",0,SUM(AQ$9:AQ370))","v":0},{"$f":"IF(A370=\"-\",0,SUM(T$9:T370)+SUM(U$9:U370))","v":0},{"$f":"IF(ISTEXT(V369),0,SUM(V$9:V369))","v":0},0]
["2024-12-28",1,null,7,363,null,null,null,null,null,null,null,null,null,null,null,null,0,0,0,0,0,0,0,0,0,0,0,0,0,0,0,0,0,0,0,0,0,0,0,0,0,0,0.33333333333333331,0,1.6666666666666667,0,0,0,{"$f":"IF(A371=\"-\",0,SUM(AQ$9:AQ371))","v":0},{"$f":"IF(A371=\"-\",0,SUM(T$9:T371)+SUM(U$9:U371))","v":0},{"$f":"IF(ISTEXT(V370),0,SUM(V$9:V370))","v":0},0]
["2024-12-29",null,null,1,364,null,null,null,null,null,null,null,null,null,null,null,null,0,0,0,0,0,0,0,0,0,0,0,0,0,0,0,0,0,0,0,0,0,0,0,0,0,0,0.33333333333333331,0,0.7142857142857143,0,0,0,{"$f":"IF(A372=\"-\",0,SUM(AQ$9:AQ372))","v":0},{"$f":"IF(A372=\"-\",0,SUM(T$9:T372)+SUM(U$9:U372))","v":0},{"$f":"IF(ISTEXT(V371),0,SUM(V$9:V371))","v":0},0]
["2024-12-30",null,null,2,365,null,null,null,null,null,null,null,null,null,null,null,null,0,0,0,0,0,0,0,0,0,0,0,0,0,0,0,0,0,0,0,0,0,0,0,0,0,0,0.33333333333333331,0,0.7142857142857143,0,0,0,{"$f":"IF(A373=\"-\",0,SUM(AQ$9:AQ373))","v":0},{"$f":"IF(A373=\"-\",0,SUM(T$9:T373)+SUM(U$9:U373))","v":0},{"$f":"IF(ISTEXT(V372),0,SUM(V$9:V372))","v":0},0]
["2024-12-31",2,12,3,366,null,null,null,null,null,null,null,null,null,null,null,null,0,0,0,0,0,0,0,0,0,0,0,0,0,0,0,0,0,0,0,0,0,0,0,0,0,0,0.33333333333333331,0,0.7142857142857143,0,0,0,{"$f":"IF(A374=\"-\",0,SUM(AQ$9:AQ374))","v":0},{"$f":"IF(A374=\"-\",0,SUM(T$9:T374)+SUM(U$9:U374))","v":0},{"$f":"IF(ISTEXT(V373),0,SUM(V$9:V373))","v":0},0]
["合計",null,null,null,null,null,{"$f":"SUM(G9:G374)","v":0},null,null,null,null,null,null,null,null,null,{"$f":"SUM(Q9:Q374)","v":0},{"$f":"SUM(R9:R374)","v":0},{"$f":"SUM(S9:S374)","v":0},0,0,0,0,0,0,0,0,0,0,0,0,0,0,0,0,0,0,0,0,0,0,0,0,121.99999999999935,0,605.71428571428578,0,0,0,0,0,0,0]
[null,null,null,null,null,null,"①",null,null,null,null,null,null,null,null,null,"②","③",null,"④","⑤","⑥","⑦","⑧","⑨","⑩","⑪","⑫","⑬","⑭","⑮","⑯","⑰","⑱","⑲","⑳","㉑","㉒"]
[null,null,null,null,null,null,null,null,null,null,null,"月集計"]
[null,null,null,null,null,null,null,null,null,null,null,"回","月","暦日数","所定日数","所定労働時間","有給休暇時間","実働時間","法定休日","時間外（日）","時間外\n（週）","時間外\n（年）","時間外\n（合計）","勤務日\n(60H以下)","所定休日\n(60H以下)","勤務日\n(60H超)","所定休日\n（60H超)","深夜","所定内","振替出勤","所定外","所定休日","法定内\n（合計）","欠勤等","振替休日","100％\n相殺","控除\n(合計)"]
[null,null,null,null,null,null,null,null,null,null,null,1,{"$f":"MONTH(A9)","v":1},{"$f":"MATCH($L379,$C$9:$C$374)-IF(ISTEXT(N378),0,SUM(N378:N$379))","v":31},{"$f":"COUNT(OFFSET(G$9,0,0,MATCH($L379,$C$9:$C$374),1))-IF(ISTEXT(O378),0,SUM(O$378:O378))","v":0},{"$f":"SUM(OFFSET(G$9,0,0,MATCH($L379,$C$9:$C$374),1))-IF(ISTEXT(P378),0,SUM(P$378:P378))","v":0},{"$f":"SUM(OFFSET(Q$9,0,0,MATCH($L379,$C$9:$C$374),1))-IF(ISTEXT(Q378),0,SUM(Q$378:Q378))","v":0},{"$f":"SUM(OFFSET(R$9,0,0,MATCH($L379,$C$9:$C$374),1))-IF(ISTEXT(R378),0,SUM(R$378:R378))","v":0},{"$f":"SUM(OFFSET(S$9,0,0,MATCH($L379,$C$9:$C$374),1))-IF(ISTEXT(S378),0,SUM(S$378:S378))","v":0},{"$f":"SUM(OFFSET(T$9,0,0,MATCH($L379,$C$9:$C$374),1))-IF(ISTEXT(T378),0,SUM(T$378:T378))","v":0},{"$f":"SUM(OFFSET(U$9,0,0,MATCH($L379,$C$9:$C$374),1))-IF(ISTEXT(U378),0,SUM(U$378:U378))","v":0},{"$f":"SUM(OFFSET(V$9,0,0,MATCH($L379,$C$9:$C$374),1))-IF(ISTEXT(V378),0,SUM(V$378:V378))","v":0},{"$f":"SUM(OFFSET(W$9,0,0,MATCH($L379,$C$9:$C$374),1))-IF(ISTEXT(W378),0,SUM(W$378:W378))","v":0},{"$f":"SUM(OFFSET(X$9,0,0,MATCH($L379,$C$9:$C$374),1))-IF(ISTEXT(X378),0,SUM(X$378:X378))","v":0},{"$f":"SUM(OFFSET(Y$9,0,0,MATCH($L379,$C$9:$C$374),1))-IF(ISTEXT(Y378),0,SUM(Y$378:Y378))","v":0},{"$f":"SUM(OFFSET(Z$9,0,0,MATCH($L379,$C$9:$C$374),1))-IF(ISTEXT(Z378),0,SUM(Z$378:Z378))","v":0},{"$f":"SUM(OFFSET(AA$9,0,0,MATCH($L379,$C$9:$C$374),1))-IF(ISTEXT(AA378),0,SUM(AA$378:AA378))","v":0},{"$f":"SUM(OFFSET(AB$9,0,0,MATCH($L379,$C$9:$C$374),1))-IF(ISTEXT(AB378),0,SUM(AB$378:AB378))","v":0},{"$f":"SUM(OFFSET(AC$9,0,0,MATCH($L379,$C$9:$C$374),1))-IF(ISTEXT(AC378),0,SUM(AC$378:AC378))","v":0},{"$f":"SUM(OFFSET(AD$9,0,0,MATCH($L379,$C$9:$C$374),1))-IF(ISTEXT(AD378),0,SUM(AD$378:AD378))","v":0},{"$f":"SUM(OFFSET(AE$9,0,0,MATCH($L379,$C$9:$C$374),1))-IF(ISTEXT(AE378),0,SUM(AE$378:AE378))","v":0},{"$f":"SUM(OFFSET(AF$9,0,0,MATCH($L379,$C$9:$C$374),1))-IF(ISTEXT(AF378),0,SUM(AF$378:AF378))","v":0},{"$f":"SUM(OFFSET(AG$9,0,0,MATCH($L379,$C$9:$C$374),1))-IF(ISTEXT(AG378),0,SUM(AG$378:AG378))","v":0},{"$f":"SUM(OFFSET(AH$9,0,0,MATCH($L379,$C$9:$C$374),1))-IF(ISTEXT(AH378),0,SUM(AH$378:AH378))","v":0},{"$f":"SUM(OFFSET(AI$9,0,0,MATCH($L379,$C$9:$C$374),1))-IF(ISTEXT(AI378),0,SUM(AI$378:AI378))","v":0},{"$f":"SUM(OFFSET(AJ$9,0,0,MATCH($L379,$C$9:$C$374),1))-IF(ISTEXT(AJ378),0,SUM(AJ$378:AJ378))","v":0},{"$f":"SUM(OFFSET(AK$9,0,0,MATCH($L379,$C$9:$C$374),1))-IF(ISTEXT(AK378),0,SUM(AK$378:AK378))","v":0}]
[null,null,null,null,null,null,null,null,null,null,null,2,{"$f":"MONTH(EDATE(DATE(1900,M379,1),1))","v":2},{"$f":"MATCH($L380,$C$9:$C$374)-IF(ISTEXT(N379),0,SUM(N379:N$379))","v":29},{"$f":"COUNT(OFFSET(G$9,0,0,MATCH($L380,$C$9:$C$374),1))-IF(ISTEXT(O379),0,SUM(O$378:O379))","v":0},{"$f":"SUM(OFFSET(G$9,0,0,MATCH($L380,$C$9:$C$374),1))-IF(ISTEXT(P379),0,SUM(P$378:P379))","v":0},{"$f":"SUM(OFFSET(Q$9,0,0,MATCH($L380,$C$9:$C$374),1))-IF(ISTEXT(Q379),0,SUM(Q$378:Q379))","v":0},{"$f":"SUM(OFFSET(R$9,0,0,MATCH($L380,$C$9:$C$374),1))-IF(ISTEXT(R379),0,SUM(R$378:R379))","v":0},{"$f":"SUM(OFFSET(S$9,0,0,MATCH($L380,$C$9:$C$374),1))-IF(ISTEXT(S379),0,SUM(S$378:S379))","v":0},{"$f":"SUM(OFFSET(T$9,0,0,MATCH($L380,$C$9:$C$374),1))-IF(ISTEXT(T379),0,SUM(T$378:T379))","v":0},{"$f":"SUM(OFFSET(U$9,0,0,MATCH($L380,$C$9:$C$374),1))-IF(ISTEXT(U379),0,SUM(U$378:U379))","v":0},{"$f":"SUM(OFFSET(V$9,0,0,MATCH($L380,$C$9:$C$374),1))-IF(ISTEXT(V379),0,SUM(V$378:V379))","v":0},{"$f":"SUM(OFFSET(W$9,0,0,MATCH($L380,$C$9:$C$374),1))-IF(ISTEXT(W379),0,SUM(W$378:W379))","v":0},{"$f":"SUM(OFFSET(X$9,0,0,MATCH($L380,$C$9:$C$374),1))-IF(ISTEXT(X379),0,SUM(X$378:X379))","v":0},{"$f":"SUM(OFFSET(Y$9,0,0,MATCH($L380,$C$9:$C$374),1))-IF(ISTEXT(Y379),0,SUM(Y$378:Y379))","v":0},{"$f":"SUM(OFFSET(Z$9,0,0,MATCH($L380,$C$9:$C$374),1))-IF(ISTEXT(Z379),0,SUM(Z$378:Z379))","v":0},{"$f":"SUM(OFFSET(AA$9,0,0,MATCH($L380,$C$9:$C$374),1))-IF(ISTEXT(AA379),0,SUM(AA$378:AA379))","v":0},{"$f":"SUM(OFFSET(AB$9,0,0,MATCH($L380,$C$9:$C$374),1))-IF(ISTEXT(AB379),0,SUM(AB$378:AB379))","v":0},{"$f":"SUM(OFFSET(AC$9,0,0,MATCH($L380,$C$9:$C$374),1))-IF(ISTEXT(AC379),0,SUM(AC$378:AC379))","v":0},{"$f":"SUM(OFFSET(AD$9,0,0,MATCH($L380,$C$9:$C$374),1))-IF(ISTEXT(AD379),0,SUM(AD$378:AD379))","v":0},{"$f":"SUM(OFFSET(AE$9,0,0,MATCH($L380,$C$9:$C$374),1))-IF(ISTEXT(AE379),0,SUM(AE$378:AE379))","v":0},{"$f":"SUM(OFFSET(AF$9,0,0,MATCH($L380,$C$9:$C$374),1))-IF(ISTEXT(AF379),0,SUM(AF$378:AF379))","v":0},{"$f":"SUM(OFFSET(AG$9,0,0,MATCH($L380,$C$9:$C$374),1))-IF(ISTEXT(AG379),0,SUM(AG$378:AG379))","v":0},{"$f":"SUM(OFFSET(AH$9,0,0,MATCH($L380,$C$9:$C$374),1))-IF(ISTEXT(AH379),0,SUM(AH$378:AH379))","v":0},{"$f":"SUM(OFFSET(AI$9,0,0,MATCH($L380,$C$9:$C$374),1))-IF(ISTEXT(AI379),0,SUM(AI$378:AI379))","v":0},{"$f":"SUM(OFFSET(AJ$9,0,0,MATCH($L380,$C$9:$C$374),1))-IF(ISTEXT(AJ379),0,SUM(AJ$378:AJ379))","v":0},{"$f":"SUM(OFFSET(AK$9,0,0,MATCH($L380,$C$9:$C$374),1))-IF(ISTEXT(AK379),0,SUM(AK$378:AK379))","v":0}]
[null,null,null,null,null,null,null,null,null,null,null,3,{"$f":"MONTH(EDATE(DATE(1900,M380,1),1))","v":3},{"$f":"MATCH($L381,$C$9:$C$374)-IF(ISTEXT(N380),0,SUM(N$379:N380))","v":31},{"$f":"COUNT(OFFSET(G$9,0,0,MATCH($L381,$C$9:$C$374),1))-IF(ISTEXT(O380),0,SUM(O$378:O380))","v":0},{"$f":"SUM(OFFSET(G$9,0,0,MATCH($L381,$C$9:$C$374),1))-IF(ISTEXT(P380),0,SUM(P$378:P380))","v":0},{"$f":"SUM(OFFSET(Q$9,0,0,MATCH($L381,$C$9:$C$374),1))-IF(ISTEXT(Q380),0,SUM(Q$378:Q380))","v":0},{"$f":"SUM(OFFSET(R$9,0,0,MATCH($L381,$C$9:$C$374),1))-IF(ISTEXT(R380),0,SUM(R$378:R380))","v":0},{"$f":"SUM(OFFSET(S$9,0,0,MATCH($L381,$C$9:$C$374),1))-IF(ISTEXT(S380),0,SUM(S$378:S380))","v":0},{"$f":"SUM(OFFSET(T$9,0,0,MATCH($L381,$C$9:$C$374),1))-IF(ISTEXT(T380),0,SUM(T$378:T380))","v":0},{"$f":"SUM(OFFSET(U$9,0,0,MATCH($L381,$C$9:$C$374),1))-IF(ISTEXT(U380),0,SUM(U$378:U380))","v":0},{"$f":"SUM(OFFSET(V$9,0,0,MATCH($L381,$C$9:$C$374),1))-IF(ISTEXT(V380),0,SUM(V$378:V380))","v":0},{"$f":"SUM(OFFSET(W$9,0,0,MATCH($L381,$C$9:$C$374),1))-IF(ISTEXT(W380),0,SUM(W$378:W380))","v":0},{"$f":"SUM(OFFSET(X$9,0,0,MATCH($L381,$C$9:$C$374),1))-IF(ISTEXT(X380),0,SUM(X$378:X380))","v":0},{"$f":"SUM(OFFSET(Y$9,0,0,MATCH($L381,$C$9:$C$374),1))-IF(ISTEXT(Y380),0,SUM(Y$378:Y380))","v":0},{"$f":"SUM(OFFSET(Z$9,0,0,MATCH($L381,$C$9:$C$374),1))-IF(ISTEXT(Z380),0,SUM(Z$378:Z380))","v":0},{"$f":"SUM(OFFSET(AA$9,0,0,MATCH($L381,$C$9:$C$374),1))-IF(ISTEXT(AA380),0,SUM(AA$378:AA380))","v":0},{"$f":"SUM(OFFSET(AB$9,0,0,MATCH($L381,$C$9:$C$374),1))-IF(ISTEXT(AB380),0,SUM(AB$378:AB380))","v":0},{"$f":"SUM(OFFSET(AC$9,0,0,MATCH($L381,$C$9:$C$374),1))-IF(ISTEXT(AC380),0,SUM(AC$378:AC380))","v":0},{"$f":"SUM(OFFSET(AD$9,0,0,MATCH($L381,$C$9:$C$374),1))-IF(ISTEXT(AD380),0,SUM(AD$378:AD380))","v":0},{"$f":"SUM(OFFSET(AE$9,0,0,MATCH($L381,$C$9:$C$374),1))-IF(ISTEXT(AE380),0,SUM(AE$378:AE380))","v":0},{"$f":"SUM(OFFSET(AF$9,0,0,MATCH($L381,$C$9:$C$374),1))-IF(ISTEXT(AF380),0,SUM(AF$378:AF380))","v":0},{"$f":"SUM(OFFSET(AG$9,0,0,MATCH($L381,$C$9:$C$374),1))-IF(ISTEXT(AG380),0,SUM(AG$378:AG380))","v":0},{"$f":"SUM(OFFSET(AH$9,0,0,MATCH($L381,$C$9:$C$374),1))-IF(ISTEXT(AH380),0,SUM(AH$378:AH380))","v":0},{"$f":"SUM(OFFSET(AI$9,0,0,MATCH($L381,$C$9:$C$374),1))-IF(ISTEXT(AI380),0,SUM(AI$378:AI380))","v":0},{"$f":"SUM(OFFSET(AJ$9,0,0,MATCH($L381,$C$9:$C$374),1))-IF(ISTEXT(AJ380),0,SUM(AJ$378:AJ380))","v":0},{"$f":"SUM(OFFSET(AK$9,0,0,MATCH($L381,$C$9:$C$374),1))-IF(ISTEXT(AK380),0,SUM(AK$378:AK380))","v":0}]
[null,null,null,null,null,null,null,null,null,null,null,4,4,{"$f":"MATCH($L382,$C$9:$C$374)-IF(ISTEXT(N381),0,SUM(N$379:N381))","v":30},{"$f":"COUNT(OFFSET(G$9,0,0,MATCH($L382,$C$9:$C$374),1))-IF(ISTEXT(O381),0,SUM(O$378:O381))","v":0},{"$f":"SUM(OFFSET(G$9,0,0,MATCH($L382,$C$9:$C$374),1))-IF(ISTEXT(P381),0,SUM(P$378:P381))","v":0},{"$f":"SUM(OFFSET(Q$9,0,0,MATCH($L382,$C$9:$C$374),1))-IF(ISTEXT(Q381),0,SUM(Q$378:Q381))","v":0},{"$f":"SUM(OFFSET(R$9,0,0,MATCH($L382,$C$9:$C$374),1))-IF(ISTEXT(R381),0,SUM(R$378:R381))","v":0},{"$f":"SUM(OFFSET(S$9,0,0,MATCH($L382,$C$9:$C$374),1))-IF(ISTEXT(S381),0,SUM(S$378:S381))","v":0},{"$f":"SUM(OFFSET(T$9,0,0,MATCH($L382,$C$9:$C$374),1))-IF(ISTEXT(T381),0,SUM(T$378:T381))","v":0},{"$f":"SUM(OFFSET(U$9,0,0,MATCH($L382,$C$9:$C$374),1))-IF(ISTEXT(U381),0,SUM(U$378:U381))","v":0},{"$f":"SUM(OFFSET(V$9,0,0,MATCH($L382,$C$9:$C$374),1))-IF(ISTEXT(V381),0,SUM(V$378:V381))","v":0},{"$f":"SUM(OFFSET(W$9,0,0,MATCH($L382,$C$9:$C$374),1))-IF(ISTEXT(W381),0,SUM(W$378:W381))","v":0},{"$f":"SUM(OFFSET(X$9,0,0,MATCH($L382,$C$9:$C$374),1))-IF(ISTEXT(X381),0,SUM(X$378:X381))","v":0},{"$f":"SUM(OFFSET(Y$9,0,0,MATCH($L382,$C$9:$C$374),1))-IF(ISTEXT(Y381),0,SUM(Y$378:Y381))","v":0},{"$f":"SUM(OFFSET(Z$9,0,0,MATCH($L382,$C$9:$C$374),1))-IF(ISTEXT(Z381),0,SUM(Z$378:Z381))","v":0},{"$f":"SUM(OFFSET(AA$9,0,0,MATCH($L382,$C$9:$C$374),1))-IF(ISTEXT(AA381),0,SUM(AA$378:AA381))","v":0},{"$f":"SUM(OFFSET(AB$9,0,0,MATCH($L382,$C$9:$C$374),1))-IF(ISTEXT(AB381),0,SUM(AB$378:AB381))","v":0},{"$f":"SUM(OFFSET(AC$9,0,0,MATCH($L382,$C$9:$C$374),1))-IF(ISTEXT(AC381),0,SUM(AC$378:AC381))","v":0},{"$f":"SUM(OFFSET(AD$9,0,0,MATCH($L382,$C$9:$C$374),1))-IF(ISTEXT(AD381),0,SUM(AD$378:AD381))","v":0},{"$f":"SUM(OFFSET(AE$9,0,0,MATCH($L382,$C$9:$C$374),1))-IF(ISTEXT(AE381),0,SUM(AE$378:AE381))","v":0},{"$f":"SUM(OFFSET(AF$9,0,0,MATCH($L382,$C$9:$C$374),1))-IF(ISTEXT(AF381),0,SUM(AF$378:AF381))","v":0},{"$f":"SUM(OFFSET(AG$9,0,0,MATCH($L382,$C$9:$C$374),1))-IF(ISTEXT(AG381),0,SUM(AG$378:AG381))","v":0},{"$f":"SUM(OFFSET(AH$9,0,0,MATCH($L382,$C$9:$C$374),1))-IF(ISTEXT(AH381),0,SUM(AH$378:AH381))","v":0},{"$f":"SUM(OFFSET(AI$9,0,0,MATCH($L382,$C$9:$C$374),1))-IF(ISTEXT(AI381),0,SUM(AI$378:AI381))","v":0},{"$f":"SUM(OFFSET(AJ$9,0,0,MATCH($L382,$C$9:$C$374),1))-IF(ISTEXT(AJ381),0,SUM(AJ$378:AJ381))","v":0},{"$f":"SUM(OFFSET(AK$9,0,0,MATCH($L382,$C$9:$C$374),1))-IF(ISTEXT(AK381),0,SUM(AK$378:AK381))","v":0}]
[null,null,null,null,null,null,null,null,null,null,null,5,5,{"$f":"MATCH($L383,$C$9:$C$374)-IF(ISTEXT(N382),0,SUM(N$379:N382))","v":31},{"$f":"COUNT(OFFSET(G$9,0,0,MATCH($L383,$C$9:$C$374),1))-IF(ISTEXT(O382),0,SUM(O$378:O382))","v":0},{"$f":"SUM(OFFSET(G$9,0,0,MATCH($L383,$C$9:$C$374),1))-IF(ISTEXT(P382),0,SUM(P$378:P382))","v":0},{"$f":"SUM(OFFSET(Q$9,0,0,MATCH($L383,$C$9:$C$374),1))-IF(ISTEXT(Q382),0,SUM(Q$378:Q382))","v":0},{"$f":"SUM(OFFSET(R$9,0,0,MATCH($L383,$C$9:$C$374),1))-IF(ISTEXT(R382),0,SUM(R$378:R382))","v":0},{"$f":"SUM(OFFSET(S$9,0,0,MATCH($L383,$C$9:$C$374),1))-IF(ISTEXT(S382),0,SUM(S$378:S382))","v":0},{"$f":"SUM(OFFSET(T$9,0,0,MATCH($L383,$C$9:$C$374),1))-IF(ISTEXT(T382),0,SUM(T$378:T382))","v":0},{"$f":"SUM(OFFSET(U$9,0,0,MATCH($L383,$C$9:$C$374),1))-IF(ISTEXT(U382),0,SUM(U$378:U382))","v":0},{"$f":"SUM(OFFSET(V$9,0,0,MATCH($L383,$C$9:$C$374),1))-IF(ISTEXT(V382),0,SUM(V$378:V382))","v":0},{"$f":"SUM(OFFSET(W$9,0,0,MATCH($L383,$C$9:$C$374),1))-IF(ISTEXT(W382),0,SUM(W$378:W382))","v":0},{"$f":"SUM(OFFSET(X$9,0,0,MATCH($L383,$C$9:$C$374),1))-IF(ISTEXT(X382),0,SUM(X$378:X382))","v":0},{"$f":"SUM(OFFSET(Y$9,0,0,MATCH($L383,$C$9:$C$374),1))-IF(ISTEXT(Y382),0,SUM(Y$378:Y382))","v":0},{"$f":"SUM(OFFSET(Z$9,0,0,MATCH($L383,$C$9:$C$374),1))-IF(ISTEXT(Z382),0,SUM(Z$378:Z382))","v":0},{"$f":"SUM(OFFSET(AA$9,0,0,MATCH($L383,$C$9:$C$374),1))-IF(ISTEXT(AA382),0,SUM(AA$378:AA382))","v":0},{"$f":"SUM(OFFSET(AB$9,0,0,MATCH($L383,$C$9:$C$374),1))-IF(ISTEXT(AB382),0,SUM(AB$378:AB382))","v":0},{"$f":"SUM(OFFSET(AC$9,0,0,MATCH($L383,$C$9:$C$374),1))-IF(ISTEXT(AC382),0,SUM(AC$378:AC382))","v":0},{"$f":"SUM(OFFSET(AD$9,0,0,MATCH($L383,$C$9:$C$374),1))-IF(ISTEXT(AD382),0,SUM(AD$378:AD382))","v":0},{"$f":"SUM(OFFSET(AE$9,0,0,MATCH($L383,$C$9:$C$374),1))-IF(ISTEXT(AE382),0,SUM(AE$378:AE382))","v":0},{"$f":"SUM(OFFSET(AF$9,0,0,MATCH($L383,$C$9:$C$374),1))-IF(ISTEXT(AF382),0,SUM(AF$378:AF382))","v":0},{"$f":"SUM(OFFSET(AG$9,0,0,MATCH($L383,$C$9:$C$374),1))-IF(ISTEXT(AG382),0,SUM(AG$378:AG382))","v":0},{"$f":"SUM(OFFSET(AH$9,0,0,MATCH($L383,$C$9:$C$374),1))-IF(ISTEXT(AH382),0,SUM(AH$378:AH382))","v":0},{"$f":"SUM(OFFSET(AI$9,0,0,MATCH($L383,$C$9:$C$374),1))-IF(ISTEXT(AI382),0,SUM(AI$378:AI382))","v":0},{"$f":"SUM(OFFSET(AJ$9,0,0,MATCH($L383,$C$9:$C$374),1))-IF(ISTEXT(AJ382),0,SUM(AJ$378:AJ382))","v":0},{"$f":"SUM(OFFSET(AK$9,0,0,MATCH($L383,$C$9:$C$374),1))-IF(ISTEXT(AK382),0,SUM(AK$378:AK382))","v":0}]
[null,null,null,null,null,null,null,null,null,null,null,6,6,{"$f":"MATCH($L384,$C$9:$C$374)-IF(ISTEXT(N383),0,SUM(N$379:N383))","v":30},{"$f":"COUNT(OFFSET(G$9,0,0,MATCH($L384,$C$9:$C$374),1))-IF(ISTEXT(O383),0,SUM(O$378:O383))","v":0},{"$f":"SUM(OFFSET(G$9,0,0,MATCH($L384,$C$9:$C$374),1))-IF(ISTEXT(P383),0,SUM(P$378:P383))","v":0},{"$f":"SUM(OFFSET(Q$9,0,0,MATCH($L384,$C$9:$C$374),1))-IF(ISTEXT(Q383),0,SUM(Q$378:Q383))","v":0},{"$f":"SUM(OFFSET(R$9,0,0,MATCH($L384,$C$9:$C$374),1))-IF(ISTEXT(R383),0,SUM(R$378:R383))","v":0},{"$f":"SUM(OFFSET(S$9,0,0,MATCH($L384,$C$9:$C$374),1))-IF(ISTEXT(S383),0,SUM(S$378:S383))","v":0},{"$f":"SUM(OFFSET(T$9,0,0,MATCH($L384,$C$9:$C$374),1))-IF(ISTEXT(T383),0,SUM(T$378:T383))","v":0},{"$f":"SUM(OFFSET(U$9,0,0,MATCH($L384,$C$9:$C$374),1))-IF(ISTEXT(U383),0,SUM(U$378:U383))","v":0},{"$f":"SUM(OFFSET(V$9,0,0,MATCH($L384,$C$9:$C$374),1))-IF(ISTEXT(V383),0,SUM(V$378:V383))","v":0},{"$f":"SUM(OFFSET(W$9,0,0,MATCH($L384,$C$9:$C$374),1))-IF(ISTEXT(W383),0,SUM(W$378:W383))","v":0},{"$f":"SUM(OFFSET(X$9,0,0,MATCH($L384,$C$9:$C$374),1))-IF(ISTEXT(X383),0,SUM(X$378:X383))","v":0},{"$f":"SUM(OFFSET(Y$9,0,0,MATCH($L384,$C$9:$C$374),1))-IF(ISTEXT(Y383),0,SUM(Y$378:Y383))","v":0},{"$f":"SUM(OFFSET(Z$9,0,0,MATCH($L384,$C$9:$C$374),1))-IF(ISTEXT(Z383),0,SUM(Z$378:Z383))","v":0},{"$f":"SUM(OFFSET(AA$9,0,0,MATCH($L384,$C$9:$C$374),1))-IF(ISTEXT(AA383),0,SUM(AA$378:AA383))","v":0},{"$f":"SUM(OFFSET(AB$9,0,0,MATCH($L384,$C$9:$C$374),1))-IF(ISTEXT(AB383),0,SUM(AB$378:AB383))","v":0},{"$f":"SUM(OFFSET(AC$9,0,0,MATCH($L384,$C$9:$C$374),1))-IF(ISTEXT(AC383),0,SUM(AC$378:AC383))","v":0},{"$f":"SUM(OFFSET(AD$9,0,0,MATCH($L384,$C$9:$C$374),1))-IF(ISTEXT(AD383),0,SUM(AD$378:AD383))","v":0},{"$f":"SUM(OFFSET(AE$9,0,0,MATCH($L384,$C$9:$C$374),1))-IF(ISTEXT(AE383),0,SUM(AE$378:AE383))","v":0},{"$f":"SUM(OFFSET(AF$9,0,0,MATCH($L384,$C$9:$C$374),1))-IF(ISTEXT(AF383),0,SUM(AF$378:AF383))","v":0},{"$f":"SUM(OFFSET(AG$9,0,0,MATCH($L384,$C$9:$C$374),1))-IF(ISTEXT(AG383),0,SUM(AG$378:AG383))","v":0},{"$f":"SUM(OFFSET(AH$9,0,0,MATCH($L384,$C$9:$C$374),1))-IF(ISTEXT(AH383),0,SUM(AH$378:AH383))","v":0},{"$f":"SUM(OFFSET(AI$9,0,0,MATCH($L384,$C$9:$C$374),1))-IF(ISTEXT(AI383),0,SUM(AI$378:AI383))","v":0},{"$f":"SUM(OFFSET(AJ$9,0,0,MATCH($L384,$C$9:$C$374),1))-IF(ISTEXT(AJ383),0,SUM(AJ$378:AJ383))","v":0},{"$f":"SUM(OFFSET(AK$9,0,0,MATCH($L384,$C$9:$C$374),1))-IF(ISTEXT(AK383),0,SUM(AK$378:AK383))","v":0}]
[null,null,null,null,null,null,null,null,null,null,null,7,7,{"$f":"MATCH($L385,$C$9:$C$374)-IF(ISTEXT(N384),0,SUM(N$379:N384))","v":31},{"$f":"COUNT(OFFSET(G$9,0,0,MATCH($L385,$C$9:$C$374),1))-IF(ISTEXT(O384),0,SUM(O$378:O384))","v":0},{"$f":"SUM(OFFSET(G$9,0,0,MATCH($L385,$C$9:$C$374),1))-IF(ISTEXT(P384),0,SUM(P$378:P384))","v":0},{"$f":"SUM(OFFSET(Q$9,0,0,MATCH($L385,$C$9:$C$374),1))-IF(ISTEXT(Q384),0,SUM(Q$378:Q384))","v":0},{"$f":"SUM(OFFSET(R$9,0,0,MATCH($L385,$C$9:$C$374),1))-IF(ISTEXT(R384),0,SUM(R$378:R384))","v":0},{"$f":"SUM(OFFSET(S$9,0,0,MATCH($L385,$C$9:$C$374),1))-IF(ISTEXT(S384),0,SUM(S$378:S384))","v":0},{"$f":"SUM(OFFSET(T$9,0,0,MATCH($L385,$C$9:$C$374),1))-IF(ISTEXT(T384),0,SUM(T$378:T384))","v":0},{"$f":"SUM(OFFSET(U$9,0,0,MATCH($L385,$C$9:$C$374),1))-IF(ISTEXT(U384),0,SUM(U$378:U384))","v":0},{"$f":"SUM(OFFSET(V$9,0,0,MATCH($L385,$C$9:$C$374),1))-IF(ISTEXT(V384),0,SUM(V$378:V384))","v":0},{"$f":"SUM(OFFSET(W$9,0,0,MATCH($L385,$C$9:$C$374),1))-IF(ISTEXT(W384),0,SUM(W$378:W384))","v":0},{"$f":"SUM(OFFSET(X$9,0,0,MATCH($L385,$C$9:$C$374),1))-IF(ISTEXT(X384),0,SUM(X$378:X384))","v":0},{"$f":"SUM(OFFSET(Y$9,0,0,MATCH($L385,$C$9:$C$374),1))-IF(ISTEXT(Y384),0,SUM(Y$378:Y384))","v":0},{"$f":"SUM(OFFSET(Z$9,0,0,MATCH($L385,$C$9:$C$374),1))-IF(ISTEXT(Z384),0,SUM(Z$378:Z384))","v":0},{"$f":"SUM(OFFSET(AA$9,0,0,MATCH($L385,$C$9:$C$374),1))-IF(ISTEXT(AA384),0,SUM(AA$378:AA384))","v":0},{"$f":"SUM(OFFSET(AB$9,0,0,MATCH($L385,$C$9:$C$374),1))-IF(ISTEXT(AB384),0,SUM(AB$378:AB384))","v":0},{"$f":"SUM(OFFSET(AC$9,0,0,MATCH($L385,$C$9:$C$374),1))-IF(ISTEXT(AC384),0,SUM(AC$378:AC384))","v":0},{"$f":"SUM(OFFSET(AD$9,0,0,MATCH($L385,$C$9:$C$374),1))-IF(ISTEXT(AD384),0,SUM(AD$378:AD384))","v":0},{"$f":"SUM(OFFSET(AE$9,0,0,MATCH($L385,$C$9:$C$374),1))-IF(ISTEXT(AE384),0,SUM(AE$378:AE384))","v":0},{"$f":"SUM(OFFSET(AF$9,0,0,MATCH($L385,$C$9:$C$374),1))-IF(ISTEXT(AF384),0,SUM(AF$378:AF384))","v":0},{"$f":"SUM(OFFSET(AG$9,0,0,MATCH($L385,$C$9:$C$374),1))-IF(ISTEXT(AG384),0,SUM(AG$378:AG384))","v":0},{"$f":"SUM(OFFSET(AH$9,0,0,MATCH($L385,$C$9:$C$374),1))-IF(ISTEXT(AH384),0,SUM(AH$378:AH384))","v":0},{"$f":"SUM(OFFSET(AI$9,0,0,MATCH($L385,$C$9:$C$374),1))-IF(ISTEXT(AI384),0,SUM(AI$378:AI384))","v":0},{"$f":"SUM(OFFSET(AJ$9,0,0,MATCH($L385,$C$9:$C$374),1))-IF(ISTEXT(AJ384),0,SUM(AJ$378:AJ384))","v":0},{"$f":"SUM(OFFSET(AK$9,0,0,MATCH($L385,$C$9:$C$374),1))-IF(ISTEXT(AK384),0,SUM(AK$378:AK384))","v":0}]
[null,null,null,null,null,null,null,null,null,null,null,8,8,{"$f":"MATCH($L386,$C$9:$C$374)-IF(ISTEXT(N385),0,SUM(N$379:N385))","v":31},{"$f":"COUNT(OFFSET(G$9,0,0,MATCH($L386,$C$9:$C$374),1))-IF(ISTEXT(O385),0,SUM(O$378:O385))","v":0},{"$f":"SUM(OFFSET(G$9,0,0,MATCH($L386,$C$9:$C$374),1))-IF(ISTEXT(P385),0,SUM(P$378:P385))","v":0},{"$f":"SUM(OFFSET(Q$9,0,0,MATCH($L386,$C$9:$C$374),1))-IF(ISTEXT(Q385),0,SUM(Q$378:Q385))","v":0},{"$f":"SUM(OFFSET(R$9,0,0,MATCH($L386,$C$9:$C$374),1))-IF(ISTEXT(R385),0,SUM(R$378:R385))","v":0},{"$f":"SUM(OFFSET(S$9,0,0,MATCH($L386,$C$9:$C$374),1))-IF(ISTEXT(S385),0,SUM(S$378:S385))","v":0},{"$f":"SUM(OFFSET(T$9,0,0,MATCH($L386,$C$9:$C$374),1))-IF(ISTEXT(T385),0,SUM(T$378:T385))","v":0},{"$f":"SUM(OFFSET(U$9,0,0,MATCH($L386,$C$9:$C$374),1))-IF(ISTEXT(U385),0,SUM(U$378:U385))","v":0},{"$f":"SUM(OFFSET(V$9,0,0,MATCH($L386,$C$9:$C$374),1))-IF(ISTEXT(V385),0,SUM(V$378:V385))","v":0},{"$f":"SUM(OFFSET(W$9,0,0,MATCH($L386,$C$9:$C$374),1))-IF(ISTEXT(W385),0,SUM(W$378:W385))","v":0},{"$f":"SUM(OFFSET(X$9,0,0,MATCH($L386,$C$9:$C$374),1))-IF(ISTEXT(X385),0,SUM(X$378:X385))","v":0},{"$f":"SUM(OFFSET(Y$9,0,0,MATCH($L386,$C$9:$C$374),1))-IF(ISTEXT(Y385),0,SUM(Y$378:Y385))","v":0},{"$f":"SUM(OFFSET(Z$9,0,0,MATCH($L386,$C$9:$C$374),1))-IF(ISTEXT(Z385),0,SUM(Z$378:Z385))","v":0},{"$f":"SUM(OFFSET(AA$9,0,0,MATCH($L386,$C$9:$C$374),1))-IF(ISTEXT(AA385),0,SUM(AA$378:AA385))","v":0},{"$f":"SUM(OFFSET(AB$9,0,0,MATCH($L386,$C$9:$C$374),1))-IF(ISTEXT(AB385),0,SUM(AB$378:AB385))","v":0},{"$f":"SUM(OFFSET(AC$9,0,0,MATCH($L386,$C$9:$C$374),1))-IF(ISTEXT(AC385),0,SUM(AC$378:AC385))","v":0},{"$f":"SUM(OFFSET(AD$9,0,0,MATCH($L386,$C$9:$C$374),1))-IF(ISTEXT(AD385),0,SUM(AD$378:AD385))","v":0},{"$f":"SUM(OFFSET(AE$9,0,0,MATCH($L386,$C$9:$C$374),1))-IF(ISTEXT(AE385),0,SUM(AE$378:AE385))","v":0},{"$f":"SUM(OFFSET(AF$9,0,0,MATCH($L386,$C$9:$C$374),1))-IF(ISTEXT(AF385),0,SUM(AF$378:AF385))","v":0},{"$f":"SUM(OFFSET(AG$9,0,0,MATCH($L386,$C$9:$C$374),1))-IF(ISTEXT(AG385),0,SUM(AG$378:AG385))","v":0},{"$f":"SUM(OFFSET(AH$9,0,0,MATCH($L386,$C$9:$C$374),1))-IF(ISTEXT(AH385),0,SUM(AH$378:AH385))","v":0},{"$f":"SUM(OFFSET(AI$9,0,0,MATCH($L386,$C$9:$C$374),1))-IF(ISTEXT(AI385),0,SUM(AI$378:AI385))","v":0},{"$f":"SUM(OFFSET(AJ$9,0,0,MATCH($L386,$C$9:$C$374),1))-IF(ISTEXT(AJ385),0,SUM(AJ$378:AJ385))","v":0},{"$f":"SUM(OFFSET(AK$9,0,0,MATCH($L386,$C$9:$C$374),1))-IF(ISTEXT(AK385),0,SUM(AK$378:AK385))","v":0}]
[null,null,null,null,null,null,null,null,null,null,null,9,9,{"$f":"MATCH($L387,$C$9:$C$374)-IF(ISTEXT(N386),0,SUM(N$379:N386))","v":30},{"$f":"COUNT(OFFSET(G$9,0,0,MATCH($L387,$C$9:$C$374),1))-IF(ISTEXT(O386),0,SUM(O$378:O386))","v":0},{"$f":"SUM(OFFSET(G$9,0,0,MATCH($L387,$C$9:$C$374),1))-IF(ISTEXT(P386),0,SUM(P$378:P386))","v":0},{"$f":"SUM(OFFSET(Q$9,0,0,MATCH($L387,$C$9:$C$374),1))-IF(ISTEXT(Q386),0,SUM(Q$378:Q386))","v":0},{"$f":"SUM(OFFSET(R$9,0,0,MATCH($L387,$C$9:$C$374),1))-IF(ISTEXT(R386),0,SUM(R$378:R386))","v":0},{"$f":"SUM(OFFSET(S$9,0,0,MATCH($L387,$C$9:$C$374),1))-IF(ISTEXT(S386),0,SUM(S$378:S386))","v":0},{"$f":"SUM(OFFSET(T$9,0,0,MATCH($L387,$C$9:$C$374),1))-IF(ISTEXT(T386),0,SUM(T$378:T386))","v":0},{"$f":"SUM(OFFSET(U$9,0,0,MATCH($L387,$C$9:$C$374),1))-IF(ISTEXT(U386),0,SUM(U$378:U386))","v":0},{"$f":"SUM(OFFSET(V$9,0,0,MATCH($L387,$C$9:$C$374),1))-IF(ISTEXT(V386),0,SUM(V$378:V386))","v":0},{"$f":"SUM(OFFSET(W$9,0,0,MATCH($L387,$C$9:$C$374),1))-IF(ISTEXT(W386),0,SUM(W$378:W386))","v":0},{"$f":"SUM(OFFSET(X$9,0,0,MATCH($L387,$C$9:$C$374),1))-IF(ISTEXT(X386),0,SUM(X$378:X386))","v":0},{"$f":"SUM(OFFSET(Y$9,0,0,MATCH($L387,$C$9:$C$374),1))-IF(ISTEXT(Y386),0,SUM(Y$378:Y386))","v":0},{"$f":"SUM(OFFSET(Z$9,0,0,MATCH($L387,$C$9:$C$374),1))-IF(ISTEXT(Z386),0,SUM(Z$378:Z386))","v":0},{"$f":"SUM(OFFSET(AA$9,0,0,MATCH($L387,$C$9:$C$374),1))-IF(ISTEXT(AA386),0,SUM(AA$378:AA386))","v":0},{"$f":"SUM(OFFSET(AB$9,0,0,MATCH($L387,$C$9:$C$374),1))-IF(ISTEXT(AB386),0,SUM(AB$378:AB386))","v":0},{"$f":"SUM(OFFSET(AC$9,0,0,MATCH($L387,$C$9:$C$374),1))-IF(ISTEXT(AC386),0,SUM(AC$378:AC386))","v":0},{"$f":"SUM(OFFSET(AD$9,0,0,MATCH($L387,$C$9:$C$374),1))-IF(ISTEXT(AD386),0,SUM(AD$378:AD386))","v":0},{"$f":"SUM(OFFSET(AE$9,0,0,MATCH($L387,$C$9:$C$374),1))-IF(ISTEXT(AE386),0,SUM(AE$378:AE386))","v":0},{"$f":"SUM(OFFSET(AF$9,0,0,MATCH($L387,$C$9:$C$374),1))-IF(ISTEXT(AF386),0,SUM(AF$378:AF386))","v":0},{"$f":"SUM(OFFSET(AG$9,0,0,MATCH($L387,$C$9:$C$374),1))-IF(ISTEXT(AG386),0,SUM(AG$378:AG386))","v":0},{"$f":"SUM(OFFSET(AH$9,0,0,MATCH($L387,$C$9:$C$374),1))-IF(ISTEXT(AH386),0,SUM(AH$378:AH386))","v":0},{"$f":"SUM(OFFSET(AI$9,0,0,MATCH($L387,$C$9:$C$374),1))-IF(ISTEXT(AI386),0,SUM(AI$378:AI386))","v":0},{"$f":"SUM(OFFSET(AJ$9,0,0,MATCH($L387,$C$9:$C$374),1))-IF(ISTEXT(AJ386),0,SUM(AJ$378:AJ386))","v":0},{"$f":"SUM(OFFSET(AK$9,0,0,MATCH($L387,$C$9:$C$374),1))-IF(ISTEXT(AK386),0,SUM(AK$378:AK386))","v":0}]
[null,null,null,null,null,null,null,null,null,null,null,10,10,{"$f":"MATCH($L388,$C$9:$C$374)-IF(ISTEXT(N387),0,SUM(N$379:N387))","v":31},{"$f":"COUNT(OFFSET(G$9,0,0,MATCH($L388,$C$9:$C$374),1))-IF(ISTEXT(O387),0,SUM(O$378:O387))","v":0},{"$f":"SUM(OFFSET(G$9,0,0,MATCH($L388,$C$9:$C$374),1))-IF(ISTEXT(P387),0,SUM(P$378:P387))","v":0},{"$f":"SUM(OFFSET(Q$9,0,0,MATCH($L388,$C$9:$C$374),1))-IF(ISTEXT(Q387),0,SUM(Q$378:Q387))","v":0},{"$f":"SUM(OFFSET(R$9,0,0,MATCH($L388,$C$9:$C$374),1))-IF(ISTEXT(R387),0,SUM(R$378:R387))","v":0},{"$f":"SUM(OFFSET(S$9,0,0,MATCH($L388,$C$9:$C$374),1))-IF(ISTEXT(S387),0,SUM(S$378:S387))","v":0},{"$f":"SUM(OFFSET(T$9,0,0,MATCH($L388,$C$9:$C$374),1))-IF(ISTEXT(T387),0,SUM(T$378:T387))","v":0},{"$f":"SUM(OFFSET(U$9,0,0,MATCH($L388,$C$9:$C$374),1))-IF(ISTEXT(U387),0,SUM(U$378:U387))","v":0},{"$f":"SUM(OFFSET(V$9,0,0,MATCH($L388,$C$9:$C$374),1))-IF(ISTEXT(V387),0,SUM(V$378:V387))","v":0},{"$f":"SUM(OFFSET(W$9,0,0,MATCH($L388,$C$9:$C$374),1))-IF(ISTEXT(W387),0,SUM(W$378:W387))","v":0},{"$f":"SUM(OFFSET(X$9,0,0,MATCH($L388,$C$9:$C$374),1))-IF(ISTEXT(X387),0,SUM(X$378:X387))","v":0},{"$f":"SUM(OFFSET(Y$9,0,0,MATCH($L388,$C$9:$C$374),1))-IF(ISTEXT(Y387),0,SUM(Y$378:Y387))","v":0},{"$f":"SUM(OFFSET(Z$9,0,0,MATCH($L388,$C$9:$C$374),1))-IF(ISTEXT(Z387),0,SUM(Z$378:Z387))","v":0},{"$f":"SUM(OFFSET(AA$9,0,0,MATCH($L388,$C$9:$C$374),1))-IF(ISTEXT(AA387),0,SUM(AA$378:AA387))","v":0},{"$f":"SUM(OFFSET(AB$9,0,0,MATCH($L388,$C$9:$C$374),1))-IF(ISTEXT(AB387),0,SUM(AB$378:AB387))","v":0},{"$f":"SUM(OFFSET(AC$9,0,0,MATCH($L388,$C$9:$C$374),1))-IF(ISTEXT(AC387),0,SUM(AC$378:AC387))","v":0},{"$f":"SUM(OFFSET(AD$9,0,0,MATCH($L388,$C$9:$C$374),1))-IF(ISTEXT(AD387),0,SUM(AD$378:AD387))","v":0},{"$f":"SUM(OFFSET(AE$9,0,0,MATCH($L388,$C$9:$C$374),1))-IF(ISTEXT(AE387),0,SUM(AE$378:AE387))","v":0},{"$f":"SUM(OFFSET(AF$9,0,0,MATCH($L388,$C$9:$C$374),1))-IF(ISTEXT(AF387),0,SUM(AF$378:AF387))","v":0},{"$f":"SUM(OFFSET(AG$9,0,0,MATCH($L388,$C$9:$C$374),1))-IF(ISTEXT(AG387),0,SUM(AG$378:AG387))","v":0},{"$f":"SUM(OFFSET(AH$9,0,0,MATCH($L388,$C$9:$C$374),1))-IF(ISTEXT(AH387),0,SUM(AH$378:AH387))","v":0},{"$f":"SUM(OFFSET(AI$9,0,0,MATCH($L388,$C$9:$C$374),1))-IF(ISTEXT(AI387),0,SUM(AI$378:AI387))","v":0},{"$f":"SUM(OFFSET(AJ$9,0,0,MATCH($L388,$C$9:$C$374),1))-IF(ISTEXT(AJ387),0,SUM(AJ$378:AJ387))","v":0},{"$f":"SUM(OFFSET(AK$9,0,0,MATCH($L388,$C$9:$C$374),1))-IF(ISTEXT(AK387),0,SUM(AK$378:AK387))","v":0}]
[null,null,null,null,null,null,null,null,null,null,null,11,11,{"$f":"MATCH($L389,$C$9:$C$374)-IF(ISTEXT(N388),0,SUM(N$379:N388))","v":30},{"$f":"COUNT(OFFSET(G$9,0,0,MATCH($L389,$C$9:$C$374),1))-IF(ISTEXT(O388),0,SUM(O$378:O388))","v":0},{"$f":"SUM(OFFSET(G$9,0,0,MATCH($L389,$C$9:$C$374),1))-IF(ISTEXT(P388),0,SUM(P$378:P388))","v":0},{"$f":"SUM(OFFSET(Q$9,0,0,MATCH($L389,$C$9:$C$374),1))-IF(ISTEXT(Q388),0,SUM(Q$378:Q388))","v":0},{"$f":"SUM(OFFSET(R$9,0,0,MATCH($L389,$C$9:$C$374),1))-IF(ISTEXT(R388),0,SUM(R$378:R388))","v":0},{"$f":"SUM(OFFSET(S$9,0,0,MATCH($L389,$C$9:$C$374),1))-IF(ISTEXT(S388),0,SUM(S$378:S388))","v":0},{"$f":"SUM(OFFSET(T$9,0,0,MATCH($L389,$C$9:$C$374),1))-IF(ISTEXT(T388),0,SUM(T$378:T388))","v":0},{"$f":"SUM(OFFSET(U$9,0,0,MATCH($L389,$C$9:$C$374),1))-IF(ISTEXT(U388),0,SUM(U$378:U388))","v":0},{"$f":"SUM(OFFSET(V$9,0,0,MATCH($L389,$C$9:$C$374),1))-IF(ISTEXT(V388),0,SUM(V$378:V388))","v":0},{"$f":"SUM(OFFSET(W$9,0,0,MATCH($L389,$C$9:$C$374),1))-IF(ISTEXT(W388),0,SUM(W$378:W388))","v":0},{"$f":"SUM(OFFSET(X$9,0,0,MATCH($L389,$C$9:$C$374),1))-IF(ISTEXT(X388),0,SUM(X$378:X388))","v":0},{"$f":"SUM(OFFSET(Y$9,0,0,MATCH($L389,$C$9:$C$374),1))-IF(ISTEXT(Y388),0,SUM(Y$378:Y388))","v":0},{"$f":"SUM(OFFSET(Z$9,0,0,MATCH($L389,$C$9:$C$374),1))-IF(ISTEXT(Z388),0,SUM(Z$378:Z388))","v":0},{"$f":"SUM(OFFSET(AA$9,0,0,MATCH($L389,$C$9:$C$374),1))-IF(ISTEXT(AA388),0,SUM(AA$378:AA388))","v":0},{"$f":"SUM(OFFSET(AB$9,0,0,MATCH($L389,$C$9:$C$374),1))-IF(ISTEXT(AB388),0,SUM(AB$378:AB388))","v":0},{"$f":"SUM(OFFSET(AC$9,0,0,MATCH($L389,$C$9:$C$374),1))-IF(ISTEXT(AC388),0,SUM(AC$378:AC388))","v":0},{"$f":"SUM(OFFSET(AD$9,0,0,MATCH($L389,$C$9:$C$374),1))-IF(ISTEXT(AD388),0,SUM(AD$378:AD388))","v":0},{"$f":"SUM(OFFSET(AE$9,0,0,MATCH($L389,$C$9:$C$374),1))-IF(ISTEXT(AE388),0,SUM(AE$378:AE388))","v":0},{"$f":"SUM(OFFSET(AF$9,0,0,MATCH($L389,$C$9:$C$374),1))-IF(ISTEXT(AF388),0,SUM(AF$378:AF388))","v":0},{"$f":"SUM(OFFSET(AG$9,0,0,MATCH($L389,$C$9:$C$374),1))-IF(ISTEXT(AG388),0,SUM(AG$378:AG388))","v":0},{"$f":"SUM(OFFSET(AH$9,0,0,MATCH($L389,$C$9:$C$374),1))-IF(ISTEXT(AH388),0,SUM(AH$378:AH388))","v":0},{"$f":"SUM(OFFSET(AI$9,0,0,MATCH($L389,$C$9:$C$374),1))-IF(ISTEXT(AI388),0,SUM(AI$378:AI388))","v":0},{"$f":"SUM(OFFSET(AJ$9,0,0,MATCH($L389,$C$9:$C$374),1))-IF(ISTEXT(AJ388),0,SUM(AJ$378:AJ388))","v":0},{"$f":"SUM(OFFSET(AK$9,0,0,MATCH($L389,$C$9:$C$374),1))-IF(ISTEXT(AK388),0,SUM(AK$378:AK388))","v":0}]
[null,null,null,null,null,null,null,null,null,null,null,12,12,{"$f":"MATCH($L390,$C$9:$C$374)-IF(ISTEXT(N389),0,SUM(N$379:N389))","v":31},{"$f":"COUNT(OFFSET(G$9,0,0,MATCH($L390,$C$9:$C$374),1))-IF(ISTEXT(O389),0,SUM(O$378:O389))","v":0},{"$f":"SUM(OFFSET(G$9,0,0,MATCH($L390,$C$9:$C$374),1))-IF(ISTEXT(P389),0,SUM(P$378:P389))","v":0},{"$f":"SUM(OFFSET(Q$9,0,0,MATCH($L390,$C$9:$C$374),1))-IF(ISTEXT(Q389),0,SUM(Q$378:Q389))","v":0},{"$f":"SUM(OFFSET(R$9,0,0,MATCH($L390,$C$9:$C$374),1))-IF(ISTEXT(R389),0,SUM(R$378:R389))","v":0},{"$f":"SUM(OFFSET(S$9,0,0,MATCH($L390,$C$9:$C$374),1))-IF(ISTEXT(S389),0,SUM(S$378:S389))","v":0},{"$f":"SUM(OFFSET(T$9,0,0,MATCH($L390,$C$9:$C$374),1))-IF(ISTEXT(T389),0,SUM(T$378:T389))","v":0},{"$f":"SUM(OFFSET(U$9,0,0,MATCH($L390,$C$9:$C$374),1))-IF(ISTEXT(U389),0,SUM(U$378:U389))","v":0},{"$f":"SUM(OFFSET(V$9,0,0,MATCH($L390,$C$9:$C$374),1))-IF(ISTEXT(V389),0,SUM(V$378:V389))","v":0},{"$f":"SUM(OFFSET(W$9,0,0,MATCH($L390,$C$9:$C$374),1))-IF(ISTEXT(W389),0,SUM(W$378:W389))","v":0},{"$f":"SUM(OFFSET(X$9,0,0,MATCH($L390,$C$9:$C$374),1))-IF(ISTEXT(X389),0,SUM(X$378:X389))","v":0},{"$f":"SUM(OFFSET(Y$9,0,0,MATCH($L390,$C$9:$C$374),1))-IF(ISTEXT(Y389),0,SUM(Y$378:Y389))","v":0},{"$f":"SUM(OFFSET(Z$9,0,0,MATCH($L390,$C$9:$C$374),1))-IF(ISTEXT(Z389),0,SUM(Z$378:Z389))","v":0},{"$f":"SUM(OFFSET(AA$9,0,0,MATCH($L390,$C$9:$C$374),1))-IF(ISTEXT(AA389),0,SUM(AA$378:AA389))","v":0},{"$f":"SUM(OFFSET(AB$9,0,0,MATCH($L390,$C$9:$C$374),1))-IF(ISTEXT(AB389),0,SUM(AB$378:AB389))","v":0},{"$f":"SUM(OFFSET(AC$9,0,0,MATCH($L390,$C$9:$C$374),1))-IF(ISTEXT(AC389),0,SUM(AC$378:AC389))","v":0},{"$f":"SUM(OFFSET(AD$9,0,0,MATCH($L390,$C$9:$C$374),1))-IF(ISTEXT(AD389),0,SUM(AD$378:AD389))","v":0},{"$f":"SUM(OFFSET(AE$9,0,0,MATCH($L390,$C$9:$C$374),1))-IF(ISTEXT(AE389),0,SUM(AE$378:AE389))","v":0},{"$f":"SUM(OFFSET(AF$9,0,0,MATCH($L390,$C$9:$C$374),1))-IF(ISTEXT(AF389),0,SUM(AF$378:AF389))","v":0},{"$f":"SUM(OFFSET(AG$9,0,0,MATCH($L390,$C$9:$C$374),1))-IF(ISTEXT(AG389),0,SUM(AG$378:AG389))","v":0},{"$f":"SUM(OFFSET(AH$9,0,0,MATCH($L390,$C$9:$C$374),1))-IF(ISTEXT(AH389),0,SUM(AH$378:AH389))","v":0},{"$f":"SUM(OFFSET(AI$9,0,0,MATCH($L390,$C$9:$C$374),1))-IF(ISTEXT(AI389),0,SUM(AI$378:AI389))","v":0},{"$f":"SUM(OFFSET(AJ$9,0,0,MATCH($L390,$C$9:$C$374),1))-IF(ISTEXT(AJ389),0,SUM(AJ$378:AJ389))","v":0},{"$f":"SUM(OFFSET(AK$9,0,0,MATCH($L390,$C$9:$C$374),1))-IF(ISTEXT(AK389),0,SUM(AK$378:AK389))","v":0}]
[null,null,null,null,null,null,null,null,null,null,null,"合計",null,{"$f":"SUM(N379:N390)","v":366},{"$f":"SUM(O379:O390)","v":0},{"$f":"SUM(P379:P390)","v":0},{"$f":"SUM(Q379:Q390)","v":0},0,0,0,0,0,0,{"$f":"SUM(X379:X390)","v":0},{"$f":"SUM(Y379:Y390)","v":0},{"$f":"SUM(Z379:Z390)","v":0},0,0,0,0,0,0,{"$f":"SUM(AG379:AG390)","v":0},0,0,0,0]
[]
[null,null,null,null,null,null,null,null,null,null,null,null,null,null,null,null,null,null,null,null,null,null,null,null,null,null,null,null,null,"期間途中で入社・退職した場合の清算時間"]
[null,null,null,null,null,null,null,null,null,null,null,null,null,null,null,null,null,null,null,null,null,null,null,null,null,null,null,null,null,"中途入社日"]
[null,null,null,null,null,null,null,null,null,null,null,null,null,null,null,null,null,null,null,null,null,null,null,null,null,null,null,null,null,"中途退職日"]
[null,null,null,null,null,null,null,null,null,null,null,null,null,null,null,null,null,null,null,null,null,null,null,null,null,null,null,null,null,"在籍日数",null,null,null,{"$f":"_xlfn.LET(_xlpm.s,IF(AH394=\"\",A9,AH394),_xlpm.e,IF(AH395=\"\",EDATE(A9,12)-1,AH395),_xlpm.e-_xlpm.s+1)","v":366}]
[null,null,null,null,null,null,null,null,null,null,null,null,null,null,null,null,null,null,null,null,null,null,null,null,null,null,null,null,null,"在籍期間の法定労働時間",null,null,null,{"$f":"ROUNDDOWN(AH396/7*H4,_xlfn.IFS(N3=\"なし\",99,N3=\"第1位以下\",0,N3=\"第2位以下\",1))/24","v":87.142857142857096}]
[null,null,null,null,null,null,null,null,null,null,null,null,null,null,null,null,null,null,null,null,null,null,null,null,null,null,null,null,null,"清算時間",null,null,null,{"$f":"MAX(AG391-AH397,0)","v":0}]